Workbook
Name список: Лист1!$B$3:$B$8

Sheet Информация о Чемпионате
A3: Компетенция (основная/юниоры) | B3: Администрирование отеля
A4: Наименование этапа Чемпионата | B4: Финал Чемпионата по профессиональному мастерству "Профессионалы" 2027
A5: Субъект РФ (регион проведения) | B5: г.Санкт-Петербург
A6: Базовая организация расположения конкурсной площадки | B6: Конгрессно-выставочный центр "Экспофорум"
A7: Адрес конкурсной площадки | B7: г. Санкт-Петербург, Петербургское шоссе, 64, корп. 1
A8: Даты проведения | B8: 29.11 - 05.12.2027
A9: Главный эксперт | B9: Эристави Нина Давидовна
A10: Электронная почта ГЭ | B10: EristaviND@yandex.ru
A11: Моб.телефон ГЭ | B11: 89882342604
A12: Технический администратор площадки | B12: Андреева Юлия Александровна
A13: Электронная почта ТАП | B13: julfomenko@mail.ru
A14: Моб.телефон ТАП | B14: 89052040609
A15: Количество конкурсантов | B15: 15
A16: Количество рабочих мест | B16: 17 (15 на площадке выполнения письменных заданий + 2 стойки администратора)
A17: Количество экспертов (ГЭ+ЭН+ИЭ)+ТАП+Технический ассистент ТАП | B17: 20
A20: ЭН - эксперт-наставник
A21: ГЭ - главный эксперт
A22: ИЭ - индустриальный эксперт
A23: ТАП - технический администратор площадки
A24: Технический ассистент ТАП

Sheet Общая инфраструктура
A1: ПРОЕКТ
A2: Инфраструктурный лист для оснащения конкурсной площадки
A3: ='Информация о Чемпионате'!B4 -> Финал Чемпионата по профессиональному мастерству "Профессионалы" 2027
A4: по компетенции
A5: ='Информация о Чемпионате'!B3 -> Администрирование отеля
A6: Основная информация о конкурсной площадке:
A7: Субъект Российской Федерации: | C7: ='Информация о Чемпионате'!B5 -> г.Санкт-Петербург
A8: Базовая организация расположения конкурсной площадки: | D8: ='Информация о Чемпионате'!B6 -> Конгрессно-выставочный центр "Экспофорум"
A9: Адрес базовой организации: | C9: ='Информация о Чемпионате'!B7 -> г. Санкт-Петербург, Петербургское шоссе, 64, корп. 1
A10: Главный эксперт: | C10: ='Информация о Чемпионате'!B9 -> Эристави Нина Давидовна | E10: ='Информация о Чемпионате'!B10 -> EristaviND@yandex.ru | G10: ='Информация о Чемпионате'!B11 -> 89882342604
A11: Технический администратор площадки: | C11: ='Информация о Чемпионате'!B12 -> Андреева Юлия Александровна | E11: ='Информация о Чемпионате'!B13 -> julfomenko@mail.ru | G11: ='Информация о Чемпионате'!B14 -> 89052040609
A12: Количество экспертов (ЭН+ГЭ+ИЭ) + ТАП: | C12: ='Информация о Чемпионате'!B17 -> 20
A13: Количество конкурсантов: | C13: ='Информация о Чемпионате'!B15 -> 15
A14: Количество рабочих мест: | C14: ='Информация о Чемпионате'!B16 -> 17 (15 на площадке выполнения письменных заданий + 2 стойки администратора)
A15: Даты проведения: | C15: ='Информация о Чемпионате'!B8 -> 29.11 - 05.12.2027
A16: Общая/брифинг зона конкурсной площадки (оборудование, инструмент, мебель)
A17: Требования к обеспечению зоны (коммуникации, площадь, сети, количество рабочих мест и др.):
A18: Площадь зоны: не менее 42 кв.м.
A19: Освещение: Допустимо верхнее искусственное освещение ( не менее 300 люкс)
A20: Интернет : Подключение ноутбуков к беспроводному интернету (с возможностью подключения к проводному интернету)
A21: Локальная сеть: не требуется
A22: Скорость подключения к локальному/беспроводному интернету - основной канал на скорости до 50 Мбит/с, по резервному каналу на скорости до 20 Мбит/с
A23: Электричество: 3 подключения для оргтехники и акустической аппаратуры
A24: Контур заземления для электропитания и сети слаботочных подключений (при необходимости) : требуется/не требуется
A25: Покрытие пола: ковролин - 42 кв.м на всю зону
A26: Подведение/ отведение ГХВС (при необходимости): требуется/не требуется
A27: Подведение сжатого воздуха (при необходимости): не требуется
... A29: Особые требования к площадке проведения: нет
A30: № | B30: Наименование | C30: Краткие (рамочные) технические характеристики | D30: Вид | E30: Количество на одного участника | F30: Единица измерения | G30: Итоговое количество | H30: Рекомендации представителей индустрии (указывается конкретное оборудование) | I30: Ориентировочная стоимость за 1 шт.
A31: 1 | B31: Профессиональная вокально-речевая радиосистема | C31: Комплект должен состоять из: одного ручного микрофона в металлическом корпусе, одного поясного передатчика, приемника, одного петличного микрофона, одного головного вокально-речевого микрофона черного цвета и одного головного речевого микрофона бежевого цвета. Дальность приема не менее 50 метров. Радиосистема должна работать на частотной полосе UHF, которая обеспечивает четкий звук без помех. | D31: оборудование | E31: 1 | F31: шт | G31: 2
A32: 2 | B32: Активная акустическая система | C32: Ультракомпактная, двухполосная, активная акустическая система. На задней панели расположен встроенный медиаплеер и дисплей, разьем для SD-карты, USB-порт и приемник Bluetooth. 2-х канальный микшер с микрофонными - линейными входами и регуляторами громкости. 2-х полосный эквалайзер и встроенный дисплей для контроля и защиты динамиков от перегрузки. Энергообеспечение АС осуществляется от сети | D32: оборудование | E32: 1 | F32: шт | G32: 2
A33: 3 | B33: Ноутбук - тип 1 | C33: Gigabyte GAMING A16 (3VH) или эквивалент с техническими характеристиками не ниже: Ryzen 7 260 / RTX 5060 8GB GDDR7 / 16 ГБ DDR5 / SSD 512 ГБ / 16″ IPS WUXGA 1920×1200 165 Гц / FreeDOS | D33: Оборудование IT | E33: 1 | F33: шт | G33: 2
A34: 4 | B34: Мышь компьютерная - тип 1 | C34: Оптическая, беспроводная или USB, 1000 dpi | D34: Оборудование IT | E34: 1 | F34: шт | G34: 2
A35: 5 | B35: Кабель для принтера | C35: не менее 1,8 м и не более 2м | D35: Оборудование IT | E35: 1 | F35: шт | G35: 2
A36: 6 | B36: Стол - тип 2 | C36: 1400х650х750 мм | D36: мебель | E36: 1 | F36: шт | G36: 8
A37: 7 | B37: Стул - тип 1 | C37: Cтул офисный со спинкой на ножках | D37: мебель | E37: 1 | F37: шт | G37: 32
A38: 8 | B38: Кулер 19 л (холодная/горячая вода) | C38: напольный | D38: Охрана труда | E38: 1 | F38: шт | G38: 2
A39: 9 | B39: Цифровая информационная Стелла компетенции | C39: Габаритный размер 2500мм*1000мм* 150мм, Материалы изготовления каркаса должны соответствовать ГОСТ, СНИП, Сан ПИН для проведения массовых мероприятий, Визуальное оформление выполнено в соответствии с фирменным стилем мероприятия. Включает профессиональную панель с экраном высокой яркости с диагональю 55˝, оснащённый матрицей Ultra НD и поддерживающий работу в режиме 24/7. Служит для демонстрации мультимедийного контента в общественных зонах . Экран: 55”, 60 Гц, яркость — 500 нит, разрешение — 3840×2160; Чипсет: ARM Cortex A55 × 4 или эквивалент; Память: RAM — 4 Гб, ROM — 32 Гб; Динамики: Формат звука — 2.1, количество — 2 × 10 Вт; Поддерживаемые интерфейсы: USB-C IN × 1, HDMI IN × 2, HDMI OUT × 1 (4k@30 Hz, 2.3), AUDIO OUT × 1, SPDIF OUT × 1, USB 2.0 × 1, USB 3.0 × 1, RS232 × 1 , RJ45 × 1 (10/100/1000M). Материалы изготовления каркаса соответствуют ГОСТ, СНИП, Сан ПИН для проведения массовых мероприятий. | D39: IT-оборудование | E39: 1 | F39: шт. | G39: 1
A40: Программное обеспечение
A41: 1 | B41: Офисный пакет приложений | C41: Набор программных продуктов, которые предназначены для обработки на компьютере документов в электронном формате. | D41: ПО | E41: 1 | F41: шт. | G41: 2
...

Sheet Рабочее место конкурсантов
A1: ПРОЕКТ
A2: Инфраструктурный лист для оснащения конкурсной площадки
A3: ='Информация о Чемпионате'!B4 -> Финал Чемпионата по профессиональному мастерству "Профессионалы" 2027
A4: по компетенции
A5: ='Информация о Чемпионате'!B3 -> Администрирование отеля
A6: Основная информация о конкурсной площадке:
A7: Субъект Российской Федерации: | C7: ='Информация о Чемпионате'!B5 -> г.Санкт-Петербург
A8: Базовая организация расположения конкурсной площадки: | D8: ='Информация о Чемпионате'!B6 -> Конгрессно-выставочный центр "Экспофорум"
A9: Адрес базовой организации: | C9: ='Информация о Чемпионате'!B7 -> г. Санкт-Петербург, Петербургское шоссе, 64, корп. 1
A10: Главный эксперт: | C10: ='Информация о Чемпионате'!B9 -> Эристави Нина Давидовна | E10: ='Информация о Чемпионате'!B10 -> EristaviND@yandex.ru | G10: ='Информация о Чемпионате'!B11 -> 89882342604
A11: Технический администратор площадки: | C11: ='Информация о Чемпионате'!B12 -> Андреева Юлия Александровна | E11: ='Информация о Чемпионате'!B13 -> julfomenko@mail.ru | G11: ='Информация о Чемпионате'!B14 -> 89052040609
A12: Количество экспертов (ЭН+ГЭ+ИЭ) + ТАП: | C12: ='Информация о Чемпионате'!B17 -> 20
A13: Количество конкурсантов: | C13: ='Информация о Чемпионате'!B15 -> 15
A14: Количество рабочих мест: | C14: ='Информация о Чемпионате'!B16 -> 17 (15 на площадке выполнения письменных заданий + 2 стойки администратора)
A15: Даты проведения: | C15: ='Информация о Чемпионате'!B8 -> 29.11 - 05.12.2027
A16: Рабочее место Конкурсанта (основное оборудование, вспомогательное оборудование, инструмент (по количеству рабочих мест))
A17: Зона Бэк-офис (для выполнения письменных работ)
A18: Требования к обеспечению зоны (коммуникации, площадь, сети, количество рабочих мест и др.):
A19: Площадь зоны: не менее 3 кв.м. на 1 рабочее место
A20: Освещение: Допустимо верхнее искусственное освещение ( не менее 300 люкс)
A21: Интернет : Подключение ноутбуков к к проводному интернету 16 подключений
A22: Локальная сеть: требуется; скорость подключения 100 Мбит/с; количество точек подключения 16 для вывода на печать с ноутбуков с РМ конкурсантов на принтер
A23: Скорость подключения к локальному/беспроводному интернету - основной канал на скорости до 50 Мбит/с, по резервному каналу на скорости до 20 Мбит/с
A24: Электричество: 17 подключений к сети 220 Вольт на РМ конкурсантов
A25: Контур заземления для электропитания и сети слаботочных подключений (при необходимости) : не требуется
A26: Покрытие пола: ковролин на всю зону
A27: Подведение/отведение ГХВС (при необходимости): водопровод на 1 рабочее место для участника горячая, холодная. не требуется
... A30: Особые требования к площадке проведения (из правил компетенции) не требуется
A31: № | B31: Наименование | C31: Краткие (рамочные) технические характеристики | D31: Вид | E31: Количество на одного конкурсанта | F31: Единица измерения | G31: Итоговое количество | H31: Рекомендации представителей индустрии (указывается конкретное оборудование) | I31: Ориентировочная стоимость за 1 шт.
A32: 1 | B32: Ноутбук - тип 1 | C32: Gigabyte GAMING A16 (3VH) или эквивалент с техническими характеристиками не ниже: Ryzen 7 260 / RTX 5060 8GB GDDR7 / 16 ГБ DDR5 / SSD 512 ГБ / 16″ IPS WUXGA 1920×1200 165 Гц / FreeDOS | D32: Оборудование IT | E32: 1 | F32: шт ( на 1 раб.место) | G32: 16
A33: 2 | B33: Мышь компьютерная - тип 1 | C33: Оптическая, беспроводная или USB, 1000 dpi | D33: Оборудование IT | E33: 1 | F33: шт ( на 1 раб.место) | G33: 16
A34: 3 | B34: МФУ Лазерное А4 - тип 1 | C34: Технология печати: лазерная, черно-белая, формат печати: A4, разрешение: 1200 x 1200 dpi, скорость печати: формата A4 до 45 стр/мин, максимальная нагрузка (А4, в месяц): до 150000 страниц, подключение: Ethernet (RJ-45), USB Type-A, дополнительные функции: автоматическая двусторонняя печать, копир, сканер, автоматическое двустороннее копирование, автоматическое двустороннее сканирование, отправка изображения по e-mail, прямая печать с USB-устройств, режим ожидания | D34: Оборудование IT | E34: 1 | F34: шт ( на 1 раб.место) | G34: 1
A35: 4 | B35: Кабель для принтера | C35: не менее 1,8 м и не более 2 м | D35: Оборудование IT | E35: 1 | F35: шт | G35: 1
A36: 5 | B36: Интерактивная ЖК панель для информационного сопровождения копетенции и действий конкурсантов в зоне Бэк-офис | C36: Тип интерактивной панели: интерактивный комплекс с техническими характеристиками не ниже -Lumien LMS7506MLRU, 65″, 4K UHD, 50 касаний, 8 микрофонов, реестр Минпромторга | D36: Оборудование | E36: 1 | F36: шт | G36: 1
A37: 6 | B37: Мобильная стойка под жк панель | C37: Соответствие по типу крепления и нагрузке с выбранной ЖК панелью; регулируемая по высоте | D37: Оборудование | E37: 1 | F37: шт | G37: 1
A38: 7 | B38: Флешка | C38: USB 3.2 32 ГБ | D38: Оборудование | E38: 1 | F38: шт ( на 1 раб.место) | G38: 15
A39: 8 | B39: Стол - тип 2 | C39: 1400х650х750 мм | D39: Мебель | E39: 1 | F39: шт ( на 1 раб.место) | G39: 16
A40: 9 | B40: Стул - тип 3 | C40: Кресло с подлокотниками и спинкой на колесиках | D40: Мебель | E40: 1 | F40: шт ( на 1 раб.место) | G40: 16
A41: 10 | B41: Стул - тип 1 | C41: Cтул офисный со спинкой на ножках | D41: Мебель | E41: 1 | F41: шт | G41: 4
A42: 11 | B42: Наушники противошумные | C42: от 30 до 40 Дб. | D42: Оборудование | E42: 1 | F42: шт ( на 1 раб.место) | G42: 15
...

Sheet Расходные материалы
A1: ПРОЕКТ
A2: Инфраструктурный лист для оснащения конкурсной площадки
A3: ='Информация о Чемпионате'!B4 -> Финал Чемпионата по профессиональному мастерству "Профессионалы" 2027
A4: по компетенции
A5: ='Информация о Чемпионате'!B3 -> Администрирование отеля
A6: Основная информация о конкурсной площадке:
A7: Субъект Российской Федерации: | C7: ='Информация о Чемпионате'!B5 -> г.Санкт-Петербург
A8: Базовая организация расположения конкурсной площадки: | D8: ='Информация о Чемпионате'!B6 -> Конгрессно-выставочный центр "Экспофорум"
A9: Адрес базовой организации: | C9: ='Информация о Чемпионате'!B7 -> г. Санкт-Петербург, Петербургское шоссе, 64, корп. 1
A10: Главный эксперт: | C10: ='Информация о Чемпионате'!B9 -> Эристави Нина Давидовна | E10: ='Информация о Чемпионате'!B10 -> EristaviND@yandex.ru | G10: ='Информация о Чемпионате'!B11 -> 89882342604
A11: Технический администратор площадки: | C11: ='Информация о Чемпионате'!B12 -> Андреева Юлия Александровна | E11: ='Информация о Чемпионате'!B13 -> julfomenko@mail.ru | G11: ='Информация о Чемпионате'!B14 -> 89052040609
A12: Количество экспертов (ЭН+ГЭ+ИЭ) + ТАП: | C12: ='Информация о Чемпионате'!B17 -> 20
A13: Количество конкурсантов: | C13: ='Информация о Чемпионате'!B15 -> 15
A14: Количество рабочих мест: | C14: ='Информация о Чемпионате'!B16 -> 17 (15 на площадке выполнения письменных заданий + 2 стойки администратора)
A15: Даты проведения: | C15: ='Информация о Чемпионате'!B8 -> 29.11 - 05.12.2027
A16: Расходные материалы на всех конкурсантов и экспертов
A17: № | B17: Наименование | C17: Краткие (рамочные) технические характеристики | D17: Вид | E17: Количество на одного участника | F17: Единица измерения | G17: Итоговое количество | H17: Рекомендации представителей индустрии (указывается конкретное оборудование)
A18: 1 | B18: Бумага для орг. техники (формат А4) | C18: уп (500л) | D18: расходные материалы | E18: 1 | F18: уп | G18: 10
A19: 2 | B19: Папки с кольцами | C19: с арочным механизмом с шириной корешка 75 мм, для бумаг формата А4 | D19: расходные материалы | E19: 1 | F19: шт | G19: 5
A20: 3 | B20: Лотки для бумаг | C20: для бумаги А4, горизонтальные 4 отделения | D20: расходные материалы | E20: 1 | F20: шт | G20: 6
A21: 4 | B21: Стикеры | C21: Блок 100 ЛИСТОВ | D21: расходные материалы | E21: 1 | F21: шт | G21: 2
A22: 5 | B22: Блок для записей 90x90x90 мм белый | C22: 90x90x90 мм белый | D22: расходные материалы | E22: 1 | F22: шт | G22: 2
A23: 6 | B23: Файлы | C23: А4, 100 шт в уп. | D23: расходные материалы | E23: 1 | F23: шт | G23: 1
A24: 7 | B24: Коробка скрепок | C24: 33 мм. 100 шт. | D24: расходные материалы | E24: 1 | F24: шт | G24: 2
A25: 8 | B25: Карандаш простой (чернографитный) | C25: HB | D25: расходные материалы | E25: 1 | F25: шт | G25: 35
A26: 9 | B26: Ластик | C26: 42x19x12 мм | D26: расходные материалы | E26: 1 | F26: шт | G26: 20
A27: 10 | B27: Конверт | C27: 110*220 | D27: расходные материалы | E27: 1 | F27: шт | G27: 30
A28: 11 | B28: Подушка для смачивания пальцев | C28: 20 мл. | D28: расходные материалы | E28: 1 | F28: шт | G28: 2
A29: 12 | B29: Ручка шариковая на подставке | C29: Синяя | D29: расходные материалы | E29: 1 | F29: шт | G29: 2
... A42: 26 | B42: Зажимы канцелярские для фиксации флагов | C42: 75 мм 6 шт | D42: расходные материалы | E42: 2 | F42: шт | G42: 30
A43: Охрана труда
A44: № | B44: Наименование | C44: Краткие (рамочные) технические характеристики | D44: Вид | E44: Количество на одного участника | F44: Единица измерения | G44: Итоговое количество | H44: Рекомендации представителей индустрии (указывается конкретное оборудование)
A45: 1 | B45: Салфетки влажные антибактериальные | C45: Количество в упаковке:150 шт. Материал: нетканый материал | D45: Расходные материалы | E45: 1 | F45: упак. | G45: 3
A46: 2 | B46: Вода питьевая для кулера | C46: Бутыль, объем 19 литров | D46: Расходные материалы | E46: 1 | F46: шт. | G46: 14

Sheet Личный инструмент конкурсанта
A1: ПРОЕКТ
A2: Инфраструктурный лист для оснащения конкурсной площадки
A3: ='Информация о Чемпионате'!B4 -> Финал Чемпионата по профессиональному мастерству "Профессионалы" 2027
A4: по компетенции
A5: ='Информация о Чемпионате'!B3 -> Администрирование отеля
A6: Личный инструмент конкурсанта не требуется
A7: № | B7: Наименование | C7: Краткие (рамочные) технические характеристики | D7: Вид | E7: Количество | F7: Единица измерения | G7: Примечание
A8: 1
A9: 2
A10: 3
A11: 4
A12: 5
A13: 6

Sheet Лист1
B2: список
B3: Оборудование и инструменты
B4: Мебель
B5: IT-оборудование
B6: ПО
B7: Охрана труда
B8: Расходные материалы
