Workbook
Name список: Лист1!$B$3:$B$8

Sheet Информация о Чемпионате
A3: Компетенция (основная/юниоры) | B3: Администрирование отеля
A4: Наименование этапа Чемпионата | B4: Финал Чемпионата по профессиональному мастерству "Профессионалы" 2027
A5: Субъект РФ (регион проведения) | B5: г.Санкт-Петербург
A6: Базовая организация расположения конкурсной площадки | B6: Конгрессно-выставочный центр "Экспофорум"
A7: Адрес конкурсной площадки | B7: г. Санкт-Петербург, Петербургское шоссе, 64, корп. 1
A8: Даты проведения | B8: 29.11 - 05.12.2027
A9: Главный эксперт | B9: Эристави Нина Давидовна
A10: Электронная почта ГЭ | B10: EristaviND@yandex.ru
A11: Моб.телефон ГЭ | B11: 89882342604
A12: Технический администратор площадки | B12: Андреева Юлия Александровна
A13: Электронная почта ТАП | B13: julfomenko@mail.ru
A14: Моб.телефон ТАП | B14: 89052040609
A15: Количество конкурсантов | B15: 15
A16: Количество рабочих мест | B16: 17 (15 на площадке выполнения письменных заданий + 2 стойки администратора)
A17: Количество экспертов (ГЭ+ЭН+ИЭ)+ТАП+Технический ассистент ТАП | B17: 20
A20: ЭН - эксперт-наставник
A21: ГЭ - главный эксперт
A22: ИЭ - индустриальный эксперт
A23: ТАП - технический администратор площадки
A24: Технический ассистент ТАП

Sheet Общая инфраструктура
A1: ПРОЕКТ
A2: Инфраструктурный лист для оснащения конкурсной площадки
A3: ='Информация о Чемпионате'!B4 -> Финал Чемпионата по профессиональному мастерству "Профессионалы" 2027
A4: по компетенции
A5: ='Информация о Чемпионате'!B3 -> Администрирование отеля
A6: Основная информация о конкурсной площадке:
A7: Субъект Российской Федерации: | C7: ='Информация о Чемпионате'!B5 -> г.Санкт-Петербург
A8: Базовая организация расположения конкурсной площадки: | D8: ='Информация о Чемпионате'!B6 -> Конгрессно-выставочный центр "Экспофорум"
A9: Адрес базовой организации: | C9: ='Информация о Чемпионате'!B7 -> г. Санкт-Петербург, Петербургское шоссе, 64, корп. 1
A10: Главный эксперт: | C10: ='Информация о Чемпионате'!B9 -> Эристави Нина Давидовна | E10: ='Информация о Чемпионате'!B10 -> EristaviND@yandex.ru | G10: ='Информация о Чемпионате'!B11 -> 89882342604
A11: Технический администратор площадки: | C11: ='Информация о Чемпионате'!B12 -> Андреева Юлия Александровна | E11: ='Информация о Чемпионате'!B13 -> julfomenko@mail.ru | G11: ='Информация о Чемпионате'!B14 -> 89052040609
A12: Количество экспертов (ЭН+ГЭ+ИЭ) + ТАП: | C12: ='Информация о Чемпионате'!B17 -> 20
A13: Количество конкурсантов: | C13: ='Информация о Чемпионате'!B15 -> 15
A14: Количество рабочих мест: | C14: ='Информация о Чемпионате'!B16 -> 17 (15 на площадке выполнения письменных заданий + 2 стойки администратора)
A15: Даты проведения: | C15: ='Информация о Чемпионате'!B8 -> 29.11 - 05.12.2027
A16: Общая/брифинг зона конкурсной площадки (оборудование, инструмент, мебель)
A17: Требования к обеспечению зоны (коммуникации, площадь, сети, количество рабочих мест и др.):
A18: Площадь зоны: не менее 42 кв.м.
A19: Освещение: Допустимо верхнее искусственное освещение ( не менее 300 люкс)
A20: Интернет : Подключение ноутбуков к беспроводному интернету (с возможностью подключения к проводному интернету)
A21: Локальная сеть: не требуется
A22: Скорость подключения к локальному/беспроводному интернету - основной канал на скорости до 50 Мбит/с, по резервному каналу на скорости до 20 Мбит/с
A23: Электричество: 3 подключения для оргтехники и акустической аппаратуры
A24: Контур заземления для электропитания и сети слаботочных подключений (при необходимости) : требуется/не требуется
A25: Покрытие пола: ковролин - 42 кв.м на всю зону
A26: Подведение/ отведение ГХВС (при необходимости): требуется/не требуется
A27: Подведение сжатого воздуха (при необходимости): не требуется
... A29: Особые требования к площадке проведения: нет
A30: № | B30: Наименование | C30: Краткие (рамочные) технические характеристики | D30: Вид | E30: Количество на одного участника | F30: Единица измерения | G30: Итоговое количество | H30: Рекомендации представителей индустрии (указывается конкретное оборудование) | I30: Ориентировочная стоимость за 1 шт.
A31: 1 | B31: Профессиональная вокально-речевая радиосистема | C31: Комплект должен состоять из: одного ручного микрофона в металлическом корпусе, одного поясного передатчика, приемника, одного петличного микрофона, одного головного вокально-речевого микрофона черного цвета и одного головного речевого микрофона бежевого цвета. Дальность приема не менее 50 метров. Радиосистема должна работать на частотной полосе UHF, которая обеспечивает четкий звук без помех. | D31: оборудование | E31: 1 | F31: шт | G31: 2
A32: 2 | B32: Активная акустическая система | C32: Ультракомпактная, двухполосная, активная акустическая система. На задней панели расположен встроенный медиаплеер и дисплей, разьем для SD-карты, USB-порт и приемник Bluetooth. 2-х канальный микшер с микрофонными - линейными входами и регуляторами громкости. 2-х полосный эквалайзер и встроенный дисплей для контроля и защиты динамиков от перегрузки. Энергообеспечение АС осуществляется от сети | D32: оборудование | E32: 1 | F32: шт | G32: 2
A33: 3 | B33: Ноутбук - тип 1 | C33: Gigabyte GAMING A16 (3VH) или эквивалент с техническими характеристиками не ниже: Ryzen 7 260 / RTX 5060 8GB GDDR7 / 16 ГБ DDR5 / SSD 512 ГБ / 16″ IPS WUXGA 1920×1200 165 Гц / FreeDOS | D33: Оборудование IT | E33: 1 | F33: шт | G33: 2
A34: 4 | B34: Мышь компьютерная - тип 1 | C34: Оптическая, беспроводная или USB, 1000 dpi | D34: Оборудование IT | E34: 1 | F34: шт | G34: 2
A35: 5 | B35: Кабель для принтера | C35: не менее 1,8 м и не более 2м | D35: Оборудование IT | E35: 1 | F35: шт | G35: 2
A36: 6 | B36: Стол - тип 2 | C36: 1400х650х750 мм | D36: мебель | E36: 1 | F36: шт | G36: 8
A37: 7 | B37: Стул - тип 1 | C37: Cтул офисный со спинкой на ножках | D37: мебель | E37: 1 | F37: шт | G37: 32
A38: 8 | B38: Кулер 19 л (холодная/горячая вода) | C38: напольный | D38: Охрана труда | E38: 1 | F38: шт | G38: 2
A39: 9 | B39: Цифровая информационная Стелла компетенции | C39: Габаритный размер 2500мм*1000мм* 150мм, Материалы изготовления каркаса должны соответствовать ГОСТ, СНИП, Сан ПИН для проведения массовых мероприятий, Визуальное оформление выполнено в соответствии с фирменным стилем мероприятия. Включает профессиональную панель с экраном высокой яркости с диагональю 55˝, оснащённый матрицей Ultra НD и поддерживающий работу в режиме 24/7. Служит для демонстрации мультимедийного контента в общественных зонах . Экран: 55”, 60 Гц, яркость — 500 нит, разрешение — 3840×2160; Чипсет: ARM Cortex A55 × 4 или эквивалент; Память: RAM — 4 Гб, ROM — 32 Гб; Динамики: Формат звука — 2.1, количество — 2 × 10 Вт; Поддерживаемые интерфейсы: USB-C IN × 1, HDMI IN × 2, HDMI OUT × 1 (4k@30 Hz, 2.3), AUDIO OUT × 1, SPDIF OUT × 1, USB 2.0 × 1, USB 3.0 × 1, RS232 × 1 , RJ45 × 1 (10/100/1000M). Материалы изготовления каркаса соответствуют ГОСТ, СНИП, Сан ПИН для проведения массовых мероприятий. | D39: IT-оборудование | E39: 1 | F39: шт. | G39: 1
A40: Программное обеспечение
A41: 1 | B41: Офисный пакет приложений | C41: Набор программных продуктов, которые предназначены для обработки на компьютере документов в электронном формате. | D41: ПО | E41: 1 | F41: шт. | G41: 2
A42: Комната Конкурсантов (оборудование, инструмент, мебель) (по количеству конкурсантов) 2 одинаковые комнаты
A43: Требования к обеспечению зоны (коммуникации, площадь, сети, количество рабочих мест и др.):
A44: Площадь зоны: не менее 20 кв.м.
A45: Освещение: Допустимо верхнее искусственное освещение ( не менее 300 люкс)
A46: Интернет : Подключение ноутбуков к беспроводному интернету (с возможностью подключения к проводному интернету) не требуется
A47: Локальная сеть: не требуется
A48: Скорость подключения к локальному/беспроводному интернету - основной канал на скорости до 50 Мбит/с, по резервному каналу на скорости до 20 Мбит/с
A49: Электричество: 1 подключение (кулер)
A50: Контур заземления для электропитания и сети слаботочных подключений (при необходимости) : требуется/не требуется
A51: Покрытие пола: ковролин или линолиум на всю зону
A52: Подведение/ отведение ГХВС (при необходимости): требуется/не требуется
A53: Подведение сжатого воздуха (при необходимости): требуется/не требуется
... A55: Особые требования к площадке проведения (из правил компетенции): нет
A56: № | B56: Наименование | C56: Краткие (рамочные) технические характеристики | D56: Вид | E56: Количество на одного участника | F56: Единица измерения | G56: Итоговое количество на 2 комнаты | H56: Рекомендации представителей индустрии (указывается конкретное оборудование) | I56: Ориентировочная стоимость за 1 шт.
A57: 1 | B57: Стол - тип 2 | C57: 1400х650х750 мм | D57: Мебель | E57: 1 | F57: шт | G57: 12
A58: 2 | B58: Стул - тип 1 | C58: Cтул офисный со спинкой на ножках | D58: Мебель | E58: 1 | F58: шт | G58: 32
A59: 3 | B59: Зеркало | C59: настенное в полный рост участника | D59: Мебель | E59: 1 | F59: шт | G59: 2
A60: 4 | B60: Мусорная корзина | C60: 10 л. | D60: Мебель | E60: 1 | F60: шт | G60: 2
A61: 5 | B61: Запираемый шкафчик (локер) | C61: Металлический шкаф на 4 секции; 1850х300х500 мм | D61: Мебель | E61: 1 | F61: шт | G61: 4
A62: 6 | B62: Сетевой фильтр | C62: 6 розеток, длина кабеля 5м | D62: Оборудование IT | E62: 1 | F62: шт | G62: 4
A63: 7 | B63: Вешалка гардеробная | C63: Вешалка напольная; 22 крючка | D63: Мебель | E63: 1 | F63: шт | G63: 2
A64: 8 | B64: Кулер 19 л (холодная/горячая вода) | C64: напольный | D64: Охрана труда | E64: 1 | F64: шт | G64: 2
A65: Комната Волонтеров/Актеров (оборудование, инструмент, мебель) (по количеству волонтеров)
A66: Требования к обеспечению зоны (коммуникации, площадь, сети, количество рабочих мест и др.):
A67: Площадь зоны: не менее 20 кв.м.
A68: Освещение: допустимо верхнее искусственное освещение
A69: Интернет : не требуется
A70: Локальная сеть: не требуется
A71: Скорость подключения к локальному/беспроводному интернету - основной канал на скорости до 50 Мбит/с, по резервному каналу на скорости до 20 Мбит/с
A72: Электричество: подключения к сети по (220 Вольт) 1 подключение
A73: Контур заземления для электропитания и сети слаботочных подключений (при необходимости) : не требуется
A74: Покрытие пола: ковролин или линолиум на всю зону
A75: Подведение/ отведение ГХВС (при необходимости): не требуется
A76: Подведение сжатого воздуха (при необходимости): не требуется
... A78: Особые требования к площадке проведения: нет
A79: № | B79: Наименование | C79: Краткие (рамочные) технические характеристики | D79: Вид | E79: Количество на одного участника | F79: Единица измерения | G79: Итоговое количество | H79: Рекомендации представителей индустрии (указывается конкретное оборудование) | I79: Ориентировочная стоимость за 1 шт.
A80: 1 | B80: Стол - тип 2 | C80: 1400х650х750 мм | D80: мебель | E80: - | F80: шт | G80: 2
A81: 2 | B81: Стул - тип 1 | C81: Cтул офисный со спинкой на ножках | D81: мебель | E81: - | F81: шт | G81: 4
A82: 3 | B82: Чемодан | C82: 35 литров, на колесах | D82: оборудование | E82: - | F82: шт | G82: 2
A83: 4 | B83: Сумка дорожная (ручная кладь) | C83: до 30 литров | D83: оборудование | E83: - | F83: шт | G83: 2
A84: 5 | B84: Мусорная корзина | C84: 10 л. | D84: оборудование | E84: - | F84: шт | G84: 1
A85: 6 | B85: Вешалка гардеробная | C85: Вешалка напольная; 22 крючка | D85: Мебель | E85: - | F85: шт | G85: 1
A86: Комната Экспертов (включая комнату Главного эксперта) (оборудование, инструмент, мебель) (по количеству экспертов)
A87: Требования к обеспечению зоны (коммуникации, площадь, сети, количество рабочих мест и др.):
A88: Площадь зоны: не менее 40 кв.м.
A89: Освещение: Допустимо верхнее искусственное освещение ( не менее 300 люкс)
A90: Интернет : Подключение к проводному интернету
A91: Локальная сеть: не требуется
A92: Скорость подключения к локальному/беспроводному интернету - основной канал на скорости до 50 Мбит/с, по резервному каналу на скорости до 20 Мбит/с Мбит/с
A93: Электричество: 220 подключений общей инфраструктуры
A94: Контур заземления для электропитания и сети слаботочных подключений (при необходимости) : требуется/не требуется
A95: Покрытие пола: ковролин или линолеум на всю зону
A96: Подведение/ отведение ГХВС (при необходимости): требуется/не требуется
A97: Подведение сжатого воздуха (при необходимости): требуется/не требуется
... A99: Особые требования к площадке проведения (из правил компетенции): нет
A100: № | B100: Наименование | C100: Краткие (рамочные) технические характеристики | D100: Вид | E100: Количество на одного участника | F100: Единица измерения | G100: Итоговое количество | H100: Рекомендации представителей индустрии (указывается конкретное оборудование) | I100: Ориентировочная стоимость за 1 шт.
A101: 1 | B101: Моноблок - тип 1 | C101: Диагональ экрана моноблока: не менее 23.8", количество ядер в процессоре: не менее 12, количество потоков в процессоре: не менее 24, тактовая частота процессора: не менее 2,9 ГГц на каждое ядро, объем оперативной памяти: не менее 32 ГБ DDR5, SSD диск c объемом: не менее 1 ТБ, тип диска: M.2 PCIe x4, тип матрицы дисплея должен быть: IPS, разрешение экрана: не менее Full HD (1920x1080), наличие разъёмов: не менее 1xLAN со скоростью не менее 1 Гб/с, не менее 2xUSB 3.2 Gen2, не менее 2xUSB 2.0, 1xHDMI, 1xDP, Wi-Fi стандарта 6E. Без операционной системы. | D101: Оборудование IT | E101: 1 | F101: шт | G101: 1
A102: 2 | B102: Мышь компьютерная - тип 1 | C102: Оптическая, беспроводная, 1000 dpi | D102: Оборудование IT | E102: 1 | F102: шт | G102: 1
A103: 3 | B103: МФУ Лазерное А4 - тип 1 | C103: Технология печати: лазерная, черно-белая, формат печати: A4, разрешение: 1200 x 1200 dpi, скорость печати: формата A4 до 45 стр/мин, максимальная нагрузка (А4, в месяц): до 150000 страниц, подключение: Ethernet (RJ-45), USB Type-A, дополнительные функции: автоматическая двусторонняя печать, копир, сканер, автоматическое двустороннее копирование, автоматическое двустороннее сканирование, отправка изображения по e-mail, прямая печать с USB-устройств, режим ожидания | D103: Оборудование IT | E103: 1 | F103: шт | G103: 1
A104: 4 | B104: Кабель для принтера | C104: не менее 1,8 м и не более 2м | D104: Оборудование IT | E104: 1 | F104: шт | G104: 1
...

Sheet Рабочее место конкурсантов
A1: ПРОЕКТ
A2: Инфраструктурный лист для оснащения конкурсной площадки
A3: ='Информация о Чемпионате'!B4 -> Финал Чемпионата по профессиональному мастерству "Профессионалы" 2027
A4: по компетенции
A5: ='Информация о Чемпионате'!B3 -> Администрирование отеля
A6: Основная информация о конкурсной площадке:
A7: Субъект Российской Федерации: | C7: ='Информация о Чемпионате'!B5 -> г.Санкт-Петербург
A8: Базовая организация расположения конкурсной площадки: | D8: ='Информация о Чемпионате'!B6 -> Конгрессно-выставочный центр "Экспофорум"
A9: Адрес базовой организации: | C9: ='Информация о Чемпионате'!B7 -> г. Санкт-Петербург, Петербургское шоссе, 64, корп. 1
A10: Главный эксперт: | C10: ='Информация о Чемпионате'!B9 -> Эристави Нина Давидовна | E10: ='Информация о Чемпионате'!B10 -> EristaviND@yandex.ru | G10: ='Информация о Чемпионате'!B11 -> 89882342604
A11: Технический администратор площадки: | C11: ='Информация о Чемпионате'!B12 -> Андреева Юлия Александровна | E11: ='Информация о Чемпионате'!B13 -> julfomenko@mail.ru | G11: ='Информация о Чемпионате'!B14 -> 89052040609
A12: Количество экспертов (ЭН+ГЭ+ИЭ) + ТАП: | C12: ='Информация о Чемпионате'!B17 -> 20
A13: Количество конкурсантов: | C13: ='Информация о Чемпионате'!B15 -> 15
A14: Количество рабочих мест: | C14: ='Информация о Чемпионате'!B16 -> 17 (15 на площадке выполнения письменных заданий + 2 стойки администратора)
A15: Даты проведения: | C15: ='Информация о Чемпионате'!B8 -> 29.11 - 05.12.2027
A16: Рабочее место Конкурсанта (основное оборудование, вспомогательное оборудование, инструмент (по количеству рабочих мест))
A17: Зона Бэк-офис (для выполнения письменных работ)
A18: Требования к обеспечению зоны (коммуникации, площадь, сети, количество рабочих мест и др.):
A19: Площадь зоны: не менее 3 кв.м. на 1 рабочее место
A20: Освещение: Допустимо верхнее искусственное освещение ( не менее 300 люкс)
A21: Интернет : Подключение ноутбуков к к проводному интернету 16 подключений
A22: Локальная сеть: требуется; скорость подключения 100 Мбит/с; количество точек подключения 16 для вывода на печать с ноутбуков с РМ конкурсантов на принтер
A23: Скорость подключения к локальному/беспроводному интернету - основной канал на скорости до 50 Мбит/с, по резервному каналу на скорости до 20 Мбит/с
A24: Электричество: 17 подключений к сети 220 Вольт на РМ конкурсантов
A25: Контур заземления для электропитания и сети слаботочных подключений (при необходимости) : не требуется
A26: Покрытие пола: ковролин на всю зону
A27: Подведение/отведение ГХВС (при необходимости): водопровод на 1 рабочее место для участника горячая, холодная. не требуется
... A30: Особые требования к площадке проведения (из правил компетенции) не требуется
A31: № | B31: Наименование | C31: Краткие (рамочные) технические характеристики | D31: Вид | E31: Количество на одного конкурсанта | F31: Единица измерения | G31: Итоговое количество | H31: Рекомендации представителей индустрии (указывается конкретное оборудование) | I31: Ориентировочная стоимость за 1 шт.
A32: 1 | B32: Ноутбук - тип 1 | C32: Gigabyte GAMING A16 (3VH) или эквивалент с техническими характеристиками не ниже: Ryzen 7 260 / RTX 5060 8GB GDDR7 / 16 ГБ DDR5 / SSD 512 ГБ / 16″ IPS WUXGA 1920×1200 165 Гц / FreeDOS | D32: Оборудование IT | E32: 1 | F32: шт ( на 1 раб.место) | G32: 16
A33: 2 | B33: Мышь компьютерная - тип 1 | C33: Оптическая, беспроводная или USB, 1000 dpi | D33: Оборудование IT | E33: 1 | F33: шт ( на 1 раб.место) | G33: 16
A34: 3 | B34: МФУ Лазерное А4 - тип 1 | C34: Технология печати: лазерная, черно-белая, формат печати: A4, разрешение: 1200 x 1200 dpi, скорость печати: формата A4 до 45 стр/мин, максимальная нагрузка (А4, в месяц): до 150000 страниц, подключение: Ethernet (RJ-45), USB Type-A, дополнительные функции: автоматическая двусторонняя печать, копир, сканер, автоматическое двустороннее копирование, автоматическое двустороннее сканирование, отправка изображения по e-mail, прямая печать с USB-устройств, режим ожидания | D34: Оборудование IT | E34: 1 | F34: шт ( на 1 раб.место) | G34: 1
A35: 4 | B35: Кабель для принтера | C35: не менее 1,8 м и не более 2 м | D35: Оборудование IT | E35: 1 | F35: шт | G35: 1
A36: 5 | B36: Интерактивная ЖК панель для информационного сопровождения копетенции и действий конкурсантов в зоне Бэк-офис | C36: Тип интерактивной панели: интерактивный комплекс с техническими характеристиками не ниже -Lumien LMS7506MLRU, 65″, 4K UHD, 50 касаний, 8 микрофонов, реестр Минпромторга | D36: Оборудование | E36: 1 | F36: шт | G36: 1
A37: 6 | B37: Мобильная стойка под жк панель | C37: Соответствие по типу крепления и нагрузке с выбранной ЖК панелью; регулируемая по высоте | D37: Оборудование | E37: 1 | F37: шт | G37: 1
A38: 7 | B38: Флешка | C38: USB 3.2 32 ГБ | D38: Оборудование | E38: 1 | F38: шт ( на 1 раб.место) | G38: 15
A39: 8 | B39: Стол - тип 2 | C39: 1400х650х750 мм | D39: Мебель | E39: 1 | F39: шт ( на 1 раб.место) | G39: 16
A40: 9 | B40: Стул - тип 3 | C40: Кресло с подлокотниками и спинкой на колесиках | D40: Мебель | E40: 1 | F40: шт ( на 1 раб.место) | G40: 16
A41: 10 | B41: Стул - тип 1 | C41: Cтул офисный со спинкой на ножках | D41: Мебель | E41: 1 | F41: шт | G41: 4
A42: 11 | B42: Наушники противошумные | C42: от 30 до 40 Дб. | D42: Оборудование | E42: 1 | F42: шт ( на 1 раб.место) | G42: 15
A43: 12 | B43: Мусорная корзина | C43: 10 л. | D43: Оборудование | E43: 1 | F43: шт ( на 1 раб.место) | G43: 16
A44: 13 | B44: Коммутатор | C44: Коммутатор управляемый, настольный, L2, порты: 10/100/1000BASE-T 24 шт., SFP+ 2шт, интерфейсы и управление: WEB-интерфейс управления, облачное управление, исполнение: внутреннее; материал корпуса: металл | D44: Оборудование | E44: 1 | F44: шт | G44: 1
A45: Программное обеспечение
A46: 1 | B46: Офисный пакет приложений. | C46: Работа с текстами, электронными таблицами, базами данных | D46: Программное обеспечение | E46: 1 | F46: шт ( на 1 раб.место) | G46: 16
A47: Зона Фронт - офис для работ 2 рабочих места на 15 конкурсантов
A48: Требования к обеспечению зоны (коммуникации, площадь, сети, количество рабочих мест и др.):
A49: Площадь зоны: не менее 42 кв.м.
A50: Освещение: Допустимо верхнее искусственное освещение ( не менее ___ люкс)
A51: Интернет : Подключение моноблоков к проводному интернету 2 подключения
A52: Локальная сеть: не требуется
A53: Скорость подключения к локальному/беспроводному интернету - основной канал на скорости до ___Мбит/с, по резервному каналу на скорости до ___ Мбит/с
A54: Электричество: 5 подключений к сети 220 Вольт на РМ конкурсантов
A55: Контур заземления для электропитания и сети слаботочных подключений (при необходимости) : не требуется
A56: Покрытие пола: ковролин на всю зону
A57: Подведение/отведение ГХВС (при необходимости): водопровод на 1 рабочее место для участника горячая, холодная. не требуется
A58: Подведение сжатого воздуха (при необходимости): не требуется
... A60: Особые требования к площадке проведения (из правил компетенции) не требуется
A61: 1 | B61: Моноблок - тип 1 | C61: Диагональ экрана моноблока: не менее 23.8", количество ядер в процессоре: не менее 12, количество потоков в процессоре: не менее 24, тактовая частота процессора: не менее 2,9 ГГц на каждое ядро, объем оперативной памяти: не менее 32 ГБ DDR5, SSD диск c объемом: не менее 1 ТБ, тип диска: M.2 PCIe x4, тип матрицы дисплея должен быть: IPS, разрешение экрана: не менее Full HD (1920x1080), наличие разъёмов: не менее 1xLAN со скоростью не менее 1 Гб/с, не менее 2xUSB 3.2 Gen2, не менее 2xUSB 2.0, 1xHDMI, 1xDP, Wi-Fi стандарта 6E. Без операционной системы. | D61: Оборудование IT | E61: 1 | F61: шт | G61: 2
A62: 2 | B62: Мышь компьютерная - тип 1 | C62: Оптическая, беспроводная, 1000 dpi | D62: Оборудование IT | E62: 1 | F62: шт | G62: 2
A63: 3 | B63: МФУ Лазерное А4 - тип 1 | C63: Технология печати: лазерная, черно-белая, формат печати: A4, разрешение: 1200 x 1200 dpi, скорость печати: формата A4 до 45 стр/мин, максимальная нагрузка (А4, в месяц): до 150000 страниц, подключение: Ethernet (RJ-45), USB Type-A, дополнительные функции: автоматическая двусторонняя печать, копир, сканер, автоматическое двустороннее копирование, автоматическое двустороннее сканирование, отправка изображения по e-mail, прямая печать с USB-устройств, режим ожидания | D63: Оборудование IT | E63: 1 | F63: шт | G63: 2
A64: 4 | B64: Интерактивная ЖК панель для демонстрации работы конкурсанта в приложении Opera | C64: Тип интерактивной панели: интерактивный комплекс с техническими характеристиками не ниже -Lumien LMS7506MLRU, 65″, 4K UHD, 50 касаний, 8 микрофонов, реестр Минпромторга | D64: Оборудование | E64: 1 | F64: шт | G64: 2
A65: 5 | B65: Интерактивная ЖК панель для информационного сопровождения копетенции в зоне Фронт-офис | C65: Тип интерактивной панели: интерактивный комплекс с техническими характеристиками не ниже -Lumien LMS7506MLRU, 65″, 4K UHD, 50 касаний, 8 микрофонов, реестр Минпромторга | D65: Оборудование | E65: 1 | F65: шт | G65: 1
A66: 6 | B66: Мобильная стойка под жк панель | C66: Соответствие по типу крепления и нагрузке с выбранной ЖК панелью; регулируемая по высоте | D66: Оборудование | E66: 1 | F66: шт | G66: 3
A67: 7 | B67: Флешка | C67: USB 3.2 32 ГБ | D67: Оборудование | E67: 1 | F67: шт | G67: 2
A68: 8 | B68: Телефон | C68: Радиотелефон на подставке (имитация) | D68: Оборудование | E68: 1 | F68: шт | G68: 2
A69: 9 | B69: Денежный ящик | C69: 46х17х11см, 6 отделений | D69: Оборудование | E69: 1 | F69: шт | G69: 2
A70: 10 | B70: Бокс для подвесных папок | C70: Для папок размера А4 | D70: Оборудование | E70: 1 | F70: шт | G70: 2
A71: 11 | B71: Подвесная папка/регистратура | C71: Размер А4 | D71: Оборудование | E71: 1 | F71: шт | G71: 50
A72: 12 | B72: Мини-сейф | C72: мебельный | D72: Оборудование | E72: 1 | F72: шт | G72: 2
... A87: 27 | B87: Мусорная корзина | C87: 10 л. | D87: Оборудование | E87: 1 | F87: шт ( на 1 раб.место) | G87: 2
A88: Программное обеспечение
A89: 1 | B89: Офисный пакет приложений. | C89: Работа с текстами, электронными таблицами, базами данных | D89: Программное обеспечение | E89: 1 | F89: шт ( на 1 раб.место) | G89: 2
A90: 2 | B90: СИСТЕМА УПРАВЛЕНИЯ ГОСТИНИЦЕЙ (АСУ) | C90: Функции: Бронирование, учет заезда и выезда гостей, расчеты. Номерной фонд системы не менее 30 номеров | D90: Оборудование | E90: 1 | F90: шт | G90: 1
A91: Охрана труда
A92: № | B92: Наименование | C92: Краткие (рамочные) технические характеристики | D92: Вид | E92: Количество на одного конкурсанта | F92: Единица измерения | G92: Итоговое количество | H92: Рекомендации представителей индустрии (указывается конкретное оборудование) | I92: Ориентировочная стоимость за 1 шт.
A93: 1 | B93: Аптечка | C93: Аптечка первой помощи универсальная | D93: Охрана труда | E93: 1 | F93: шт. | G93: 1
A94: 2 | B94: Огнетушитель | C94: Огнетушитель пенный | D94: Охрана труда | E94: 1 | F94: шт. | G94: 2

Sheet Расходные материалы
A1: ПРОЕКТ
A2: Инфраструктурный лист для оснащения конкурсной площадки
A3: ='Информация о Чемпионате'!B4 -> Финал Чемпионата по профессиональному мастерству "Профессионалы" 2027
A4: по компетенции
A5: ='Информация о Чемпионате'!B3 -> Администрирование отеля
A6: Основная информация о конкурсной площадке:
A7: Субъект Российской Федерации: | C7: ='Информация о Чемпионате'!B5 -> г.Санкт-Петербург
A8: Базовая организация расположения конкурсной площадки: | D8: ='Информация о Чемпионате'!B6 -> Конгрессно-выставочный центр "Экспофорум"
A9: Адрес базовой организации: | C9: ='Информация о Чемпионате'!B7 -> г. Санкт-Петербург, Петербургское шоссе, 64, корп. 1
A10: Главный эксперт: | C10: ='Информация о Чемпионате'!B9 -> Эристави Нина Давидовна | E10: ='Информация о Чемпионате'!B10 -> EristaviND@yandex.ru | G10: ='Информация о Чемпионате'!B11 -> 89882342604
A11: Технический администратор площадки: | C11: ='Информация о Чемпионате'!B12 -> Андреева Юлия Александровна | E11: ='Информация о Чемпионате'!B13 -> julfomenko@mail.ru | G11: ='Информация о Чемпионате'!B14 -> 89052040609
A12: Количество экспертов (ЭН+ГЭ+ИЭ) + ТАП: | C12: ='Информация о Чемпионате'!B17 -> 20
A13: Количество конкурсантов: | C13: ='Информация о Чемпионате'!B15 -> 15
A14: Количество рабочих мест: | C14: ='Информация о Чемпионате'!B16 -> 17 (15 на площадке выполнения письменных заданий + 2 стойки администратора)
A15: Даты проведения: | C15: ='Информация о Чемпионате'!B8 -> 29.11 - 05.12.2027
A16: Расходные материалы на всех конкурсантов и экспертов
A17: № | B17: Наименование | C17: Краткие (рамочные) технические характеристики | D17: Вид | E17: Количество на одного участника | F17: Единица измерения | G17: Итоговое количество | H17: Рекомендации представителей индустрии (указывается конкретное оборудование)
A18: 1 | B18: Бумага для орг. техники (формат А4) | C18: уп (500л) | D18: расходные материалы | E18: 1 | F18: уп | G18: 10
A19: 2 | B19: Папки с кольцами | C19: с арочным механизмом с шириной корешка 75 мм, для бумаг формата А4 | D19: расходные материалы | E19: 1 | F19: шт | G19: 5
A20: 3 | B20: Лотки для бумаг | C20: для бумаги А4, горизонтальные 4 отделения | D20: расходные материалы | E20: 1 | F20: шт | G20: 6
A21: 4 | B21: Стикеры | C21: Блок 100 ЛИСТОВ | D21: расходные материалы | E21: 1 | F21: шт | G21: 2
A22: 5 | B22: Блок для записей 90x90x90 мм белый | C22: 90x90x90 мм белый | D22: расходные материалы | E22: 1 | F22: шт | G22: 2
A23: 6 | B23: Файлы | C23: А4, 100 шт в уп. | D23: расходные материалы | E23: 1 | F23: шт | G23: 1
A24: 7 | B24: Коробка скрепок | C24: 33 мм. 100 шт. | D24: расходные материалы | E24: 1 | F24: шт | G24: 2
A25: 8 | B25: Карандаш простой (чернографитный) | C25: HB | D25: расходные материалы | E25: 1 | F25: шт | G25: 35
A26: 9 | B26: Ластик | C26: 42x19x12 мм | D26: расходные материалы | E26: 1 | F26: шт | G26: 20
A27: 10 | B27: Конверт | C27: 110*220 | D27: расходные материалы | E27: 1 | F27: шт | G27: 30
A28: 11 | B28: Подушка для смачивания пальцев | C28: 20 мл. | D28: расходные материалы | E28: 1 | F28: шт | G28: 2
A29: 12 | B29: Ручка шариковая на подставке | C29: Синяя | D29: расходные материалы | E29: 1 | F29: шт | G29: 2
... A42: 26 | B42: Зажимы канцелярские для фиксации флагов | C42: 75 мм 6 шт | D42: расходные материалы | E42: 2 | F42: шт | G42: 30
A43: Охрана труда
A44: № | B44: Наименование | C44: Краткие (рамочные) технические характеристики | D44: Вид | E44: Количество на одного участника | F44: Единица измерения | G44: Итоговое количество | H44: Рекомендации представителей индустрии (указывается конкретное оборудование)
A45: 1 | B45: Салфетки влажные антибактериальные | C45: Количество в упаковке:150 шт. Материал: нетканый материал | D45: Расходные материалы | E45: 1 | F45: упак. | G45: 3
A46: 2 | B46: Вода питьевая для кулера | C46: Бутыль, объем 19 литров | D46: Расходные материалы | E46: 1 | F46: шт. | G46: 14

Sheet Личный инструмент конкурсанта
A1: ПРОЕКТ
A2: Инфраструктурный лист для оснащения конкурсной площадки
A3: ='Информация о Чемпионате'!B4 -> Финал Чемпионата по профессиональному мастерству "Профессионалы" 2027
A4: по компетенции
A5: ='Информация о Чемпионате'!B3 -> Администрирование отеля
A6: Личный инструмент конкурсанта не требуется
A7: № | B7: Наименование | C7: Краткие (рамочные) технические характеристики | D7: Вид | E7: Количество | F7: Единица измерения | G7: Примечание
A8: 1
A9: 2
A10: 3
A11: 4
A12: 5
A13: 6

Sheet Лист1
B2: список
B3: Оборудование и инструменты
B4: Мебель
B5: IT-оборудование
B6: ПО
B7: Охрана труда
B8: Расходные материалы
