Workbook
Name список: #REF!
Name список: #REF!
Name список: #REF!
Name список: #REF!

Sheet Информация о Чемпионате
A3: Компетенция (основная/юниоры) | B3: Фельдшер по медицинской реабилитации
A4: Наименование этапа Чемпионата | B4: Финальный этап Чемпионатного движения по профессиональному мастерству «Профессионалы» в 2026 г
A5: Субъект РФ (регион проведения) | B5: Санкт-Петербург
A6: Базовая организация расположения конкурсной площадки | B6: Конгрессно-выставочный центр «Экспофорум»
A7: Адрес конкурсной площадки | B7: Санкт-Петербург, Петербургское шоссе, 64/1
A8: Даты проведения | B8: 29.11.2026 - 04.12.2026
A9: Главный эксперт | B9: Бахтина Ирина Сергеевна
A10: Электронная почта ГЭ | B10: ibakhtina@yandex.ru
A11: Моб.телефон ГЭ | B11: 8(921)9074717
A12: Технический администратор площадки
A13: Электронная почта ТАП
A14: Моб.телефон ТАП
A15: Количество конкурсантов | B15: 10
A16: Количество рабочих мест | B16: 10
A17: Количество экспертов (ГЭ+ЭН+ИЭ+МЭ)+ТАП+Технический ассистент ТАП | B17: 33
A20: ЭН - эксперт-наставник
A21: ГЭ - главный эксперт
A22: ИЭ - индустриальный эксперт
A23: МЭ - международный эксперт
A24: ТАП - технический администратор площадки
A25: Технический ассистент ТАП

Sheet Общая инфраструктура
A1: Инфраструктурный лист для оснащения конкурсной площадки
A2: ='Информация о Чемпионате'!B4 -> Финальный этап Чемпионатного движения по профессиональному мастерству «Профессионалы» в 2026 г
A3: по компетенции
A4: ='Информация о Чемпионате'!B3 -> Фельдшер по медицинской реабилитации
A5: Основная информация о конкурсной площадке:
A6: Субъект Российской Федерации: | C6: ='Информация о Чемпионате'!B5 -> Санкт-Петербург
A7: Базовая организация расположения конкурсной площадки: | D7: ='Информация о Чемпионате'!B6 -> Конгрессно-выставочный центр «Экспофорум»
A8: Адрес базовой организации: | C8: ='Информация о Чемпионате'!B7 -> Санкт-Петербург, Петербургское шоссе, 64/1
A9: Главный эксперт: | C9: ='Информация о Чемпионате'!B9 -> Бахтина Ирина Сергеевна | E9: ='Информация о Чемпионате'!B10 -> ibakhtina@yandex.ru | G9: ='Информация о Чемпионате'!B11 -> 8(921)9074717
A10: Технический администратор площадки: | C10: ='Информация о Чемпионате'!B12 -> 0 | E10: ='Информация о Чемпионате'!B13 -> 0 | G10: ='Информация о Чемпионате'!B14 -> 0
A11: Количество экспертов (ЭН+ГЭ+ИЭ) + ТАП: | C11: ='Информация о Чемпионате'!B17 -> 33
A12: Количество конкурсантов: | C12: ='Информация о Чемпионате'!B15 -> 10
A13: Количество рабочих мест: | C13: ='Информация о Чемпионате'!B16 -> 10
A14: Даты проведения: | C14: ='Информация о Чемпионате'!B8 -> 29.11.2026 - 04.12.2026
A15: Общая/брифинг зона конкурсной площадки (оборудование, инструмент, мебель)
A16: Требования к обеспечению зоны (коммуникации, площадь, сети, количество рабочих мест и др.):
A17: Площадь зоны: не менее 20 кв.м.
A18: Освещение: Допустимо верхнее искусственное освещение ( не менее 300 люкс)
A19: Интернет : Подключение ноутбуков к беспроводному интернету (с возможностью подключения к проводному интернету)
A20: Локальная сеть: требуется; скорость подключения 1000 Мбит/с; количество точек подключения 12
A21: Скорость подключения к локальному/беспроводному интернету - основной канал на скорости до 100 Мбит/с, по резервному каналу на скорости до 100 Мбит/с
A22: Электричество: 220 Вольт подключения к сети
A23: Контур заземления для электропитания и сети слаботочных подключений (при необходимости) : не требуется
A24: Покрытие пола: напольная плитка на всю зону
A25: Подведение/ отведение ГХВС (при необходимости): требуется/не требуется
A26: Подведение сжатого воздуха (при необходимости): требуется/не требуется
... A28: Особые требования к площадке проведения (из правил компетенции) не требуется
A29: № | B29: Наименование | C29: Краткие (рамочные) технические характеристики | D29: Вид | E29: Количество на одного участника | F29: Единица измерения | G29: Итоговое количество | H29: Рекомендации представителей индустрии (указывается конкретное оборудование) | I29: Ориентировочная стоимость за 1 шт.
A30: 1 | B30: Стол офисный | C30: 1200х600х750 мм | D30: Мебель | E30: 1 | F30: шт | G30: 6
A31: 2 | B31: Стул ученический | C31: Длина 1200 мм, глубина 500, высота - регулируется от 640 до 760 мм. Материал изделия - плита МДФ. Материал покрытия ламинированный пластик. | D31: Мебель | E31: 1 | F31: шт | G31: 6
A32: 3 | B32: Вешалка | C32: Гардеробная напольная вешалка. На опоре. Двухсторонняя на 48 крючков, расположенных с обеих сторон. Каркас - металлическая труба квадратного сечения - 20*20 мм. Материал ЛДСП 16 мм. Цвет ясень шимо светлый. Вес 17 кг. Габариты 1170*400*1700 мм (или аналог) | D32: Мебель | E32: 1 | F32: шт | G32: 2
A33: 4 | B33: Зеркало | C33: Напольное | D33: Мебель | E33: 1 | F33: шт | G33: 1
A34: 5 | B34: Часы настенные | C34: Настенные, предназначены для контроля времени | D34: Мебель и фурнитура | E34: 1 | F34: шт | G34: 1
A35: 6 | B35: Бейдж | C35: Ламинированный, вертикальный, на ленте | D35: Канцелярские товары | E35: 1 | F35: шт | G35: 1
A36: 7 | B36: Магнитофон с усилителем звука | C36: переносной магнитофон/колонка с усилителем звука | D36: Оборудование и инструменты | E36: 1 | F36: шт | G36: 1
A37: 8 | B37: Корзина для мусора | C37: Предназначена для сбора бытового мусора. Материал - пластик. Цвет: черный. Объем: 10 л. Форма круглая. Высота 29 см, длина 26,5 см, ширина 23 см. Вес 0,15 кг. | D37: Мебель | E37: 1 | F37: шт | G37: 6
A38: Комната Конкурсантов (оборудование, инструмент, мебель) (по количеству конкурсантов)
A39: Требования к обеспечению зоны (коммуникации, площадь, сети, количество рабочих мест и др.):
A40: Площадь зоны: не менее 20 кв.м.
A41: Освещение: Допустимо верхнее искусственное освещение ( не менее 300 люкс)
...

Sheet Модуль А (рабочее место)
A1: Инфраструктурный лист для оснащения конкурсной площадки
A2: ='Информация о Чемпионате'!B4 -> Финальный этап Чемпионатного движения по профессиональному мастерству «Профессионалы» в 2026 г
A3: по компетенции
A4: ='Информация о Чемпионате'!B3 -> Фельдшер по медицинской реабилитации
A5: Основная информация о конкурсной площадке:
A6: Субъект Российской Федерации: | C6: ='Информация о Чемпионате'!B5 -> Санкт-Петербург
A7: Базовая организация расположения конкурсной площадки: | D7: ='Информация о Чемпионате'!B6 -> Конгрессно-выставочный центр «Экспофорум»
A8: Адрес базовой организации: | C8: ='Информация о Чемпионате'!B7 -> Санкт-Петербург, Петербургское шоссе, 64/1
A9: Главный эксперт: | C9: ='Информация о Чемпионате'!B9 -> Бахтина Ирина Сергеевна | E9: ='Информация о Чемпионате'!B10 -> ibakhtina@yandex.ru | G9: ='Информация о Чемпионате'!B11 -> 8(921)9074717
A10: Технический администратор площадки: | C10: ='Информация о Чемпионате'!B12 -> 0 | E10: ='Информация о Чемпионате'!B13 -> 0 | G10: ='Информация о Чемпионате'!B14 -> 0
A11: Количество экспертов (ЭН+ГЭ+ИЭ) + ТАП: | C11: ='Информация о Чемпионате'!B17 -> 33
A12: Количество конкурсантов: | C12: ='Информация о Чемпионате'!B15 -> 10
A13: Количество рабочих мест: | C13: ='Информация о Чемпионате'!B16 -> 10
A14: Даты проведения: | C14: ='Информация о Чемпионате'!B8 -> 29.11.2026 - 04.12.2026
A15: Рабочее место Конкурсанта (основное оборудование, вспомогательное оборудование, инструмент (по количеству рабочих мест)) Модуль А
A16: Требования к обеспечению зоны (коммуникации, площадь, сети, количество рабочих мест и др.):
A17: Площадь зоны: не менее 20 кв.м.
A18: Освещение: Допустимо верхнее искусственное освещение ( не менее 300 люкс)
A19: Интернет : Подключение ноутбуков к беспроводному интернету (с возможностью подключения к проводному интернету)
A20: Локальная сеть: требуется; скорость подключения 1000 Мбит/с; количество точек подключения 12
A21: Скорость подключения к локальному/беспроводному интернету - основной канал на скорости до 100 Мбит/с, по резервному каналу на скорости до 100 Мбит/с
A22: Электричество: 220 Вольт подключения к сети
A23: Контур заземления для электропитания и сети слаботочных подключений (при необходимости) : не требуется
A24: Покрытие пола: напольная плитка на всю зону
A25: Подведение/ отведение ГХВС (при необходимости): требуется/не требуется
A26: Подведение сжатого воздуха (при необходимости): требуется/не требуется
... A28: Особые требования к площадке проведения (из правил компетенции) не требуется
A29: № | B29: Наименование | C29: Краткие (рамочные) технические характеристики | D29: Вид | E29: Количество на одного конкурсанта | F29: Единица измерения | G29: Итоговое количество | H29: Рекомендации представителей индустрии (указывается конкретное оборудование) | I29: Ориентировочная стоимость за 1 шт.
A30: 1 | B30: Компьютер | C30: Процессор с частотой не менее 3200 МГц, Оперативная память типа DDR4 2666 МГц 32 GB/ накопитель SSD 500 Мb/ видеокарта с памятью не менее 8GB. Диагональ монитора не менее 24 дюйма | D30: IT-оборудование | E30: 1 | F30: шт ( на 1 раб.место) | G30: 10
A31: 2 | B31: Планшет | C31: Экран: 15.6"; разрешение экрана: Full HD (1920x1080); процессор: Intel Core i7 1165G7 или эквивалент; частота: 2.8 ГГц; память: 8192 Мб, DDR4; SSD: 512 ГБ M.2 PCIe; Intel Iris Xe Graphics или эквивалент; WiFi; Bluetooth; HDMI; WEB-камера;Endless или эквиваленты | D31: IT-оборудование | E31: 1 | F31: шт ( 1 на раб.место) | G31: 10
A32: 3 | B32: Электричество на 1 рабочее место \ 1 команду - 220 Вольт (2 кВт) | D32: Дополнительные требования | G32: 10
A33: 4 | B33: Розетка | C33: Штепсельная открытой установки | D33: Дополнительные требования | E33: 2 | F33: шт | G33: 20
A34: 5 | B34: Сетевой фильтр для подключения оргтехники | C34: Максимальная нагрузка 2200 Вт; Напряжение сети 220 В; Количество розеток 5; длина кабеля 5 м | D34: Оборудование и инструменты | E34: 1 | F34: шт ( на 1 раб.место) | G34: 10
A35: 6 | B35: Ходунки с подмышечной опорой | C35: Ходунки из хромированной стали, складные, со съемными подмышечными опорами, 4 колесами и стояночными тормозами, регулируемые по высоте. Общая ширина 59 см, высота подмышечных опор 114-143 см, вес 10,9 кг, грузоподъемность до 130 кг. | D35: Оборудование и инструменты | E35: 1 | F35: шт ( на 1 раб.место) | G35: 10
A36: 7 | B36: Виртуальный тренажер когнитивных функций | C36: Интерактивный программно-аппаратный комплекс для когнитивной реабилитации | D36: Оборудование и инструменты | E36: 1 | F36: шт ( на 1 раб.место) | G36: 10
A37: 8 | B37: Балансировочная подушка | C37: Балансировочная подушка из полимерного материала, диаметр 34 см, высота 2,5 см | D37: Оборудование и инструменты | E37: 1 | F37: шт ( на 1 раб.место) | G37: 10
A38: 9 | B38: Ортез "Лонгета для голеностопного сустава" | C38: Ортез для иммобилизации голеностопного сустава в заданном функциональном положении.Шина, шарнирный элемент, крепежный элемент, пряжки, гильза - пластик; Подложка - ЭВА-материал; Смягчающие элементы: аппликатор, вкладной сапожок – полиэстер (ППУ); Подошва – резина (ПУ), размер в соответствии с размером статиста | D38: Оборудование и инструменты | E38: 1 | F38: шт ( на 1 раб.место) | G38: 10
A39: 10 | B39: Ортез для лучезапястного сустава и кисти с отведением 1 пальца | C39: Ортез пластиковый для кисти,лучезапястного сустава и предплечья, с противопоставлением первого пальца. Полусферической формы | D39: Оборудование и инструменты | E39: 1 | F39: шт ( на 1 раб.место) | G39: 10
A40: 11 | B40: Аппарат для транскраниальной электростимуляции, переносной | C40: Переносной физиотерапевтический аппарат 3-4класса защиты для проведения транскраниальной электростимуляции | D40: Оборудование и инструменты | E40: 1 | F40: шт ( на 1 раб.место) | G40: 10
A41: 12 | B41: Контейнер с крышкой для отходов А с белым мешком | C41: Ведро педальное для медицинских отходов (белое или серое) класса А | D41: Оборудование и инструменты | E41: 1 | F41: шт ( на 1 раб.место) | G41: 10
...

Sheet Модуль Б (рабочее место)
A1: Инфраструктурный лист для оснащения конкурсной площадки
A2: ='Информация о Чемпионате'!B4 -> Финальный этап Чемпионатного движения по профессиональному мастерству «Профессионалы» в 2026 г
A3: по компетенции
A4: ='Информация о Чемпионате'!B3 -> Фельдшер по медицинской реабилитации
A5: Основная информация о конкурсной площадке:
A6: Субъект Российской Федерации: | C6: ='Информация о Чемпионате'!B5 -> Санкт-Петербург
A7: Базовая организация расположения конкурсной площадки: | D7: ='Информация о Чемпионате'!B6 -> Конгрессно-выставочный центр «Экспофорум»
A8: Адрес базовой организации: | C8: ='Информация о Чемпионате'!B7 -> Санкт-Петербург, Петербургское шоссе, 64/1
A9: Главный эксперт: | C9: ='Информация о Чемпионате'!B9 -> Бахтина Ирина Сергеевна | E9: ='Информация о Чемпионате'!B10 -> ibakhtina@yandex.ru | G9: ='Информация о Чемпионате'!B11 -> 8(921)9074717
A10: Технический администратор площадки: | C10: ='Информация о Чемпионате'!B12 -> 0 | E10: ='Информация о Чемпионате'!B13 -> 0 | G10: ='Информация о Чемпионате'!B14 -> 0
A11: Количество экспертов (ЭН+ГЭ+ИЭ) + ТАП: | C11: ='Информация о Чемпионате'!B17 -> 33
A12: Количество конкурсантов: | C12: ='Информация о Чемпионате'!B15 -> 10
A13: Количество рабочих мест: | C13: ='Информация о Чемпионате'!B16 -> 10
A14: Даты проведения: | C14: ='Информация о Чемпионате'!B8 -> 29.11.2026 - 04.12.2026
A15: Рабочее место Конкурсанта (основное оборудование, вспомогательное оборудование, инструмент (по количеству рабочих мест) Модуль Б
A16: Требования к обеспечению зоны (коммуникации, площадь, сети, количество рабочих мест и др.):
A17: Площадь зоны: не менее 20 кв.м.
A18: Освещение: Допустимо верхнее искусственное освещение ( не менее 300 люкс)
A19: Интернет : Подключение ноутбуков к беспроводному интернету (с возможностью подключения к проводному интернету)
A20: Локальная сеть: требуется; скорость подключения 1000 Мбит/с; количество точек подключения 12
A21: Скорость подключения к локальному/беспроводному интернету - основной канал на скорости до 100 Мбит/с, по резервному каналу на скорости до 100 Мбит/с
A22: Электричество: 220 Вольт подключения к сети
A23: Контур заземления для электропитания и сети слаботочных подключений (при необходимости) : не требуется
A24: Покрытие пола: напольная плитка на всю зону
A25: Подведение/ отведение ГХВС (при необходимости): требуется/не требуется
A26: Подведение сжатого воздуха (при необходимости): требуется/не требуется
... A28: Особые требования к площадке проведения (из правил компетенции) не требуется
A29: № | B29: Наименование | C29: Краткие (рамочные) технические характеристики | D29: Вид | E29: Количество на одного конкурсанта | F29: Единица измерения | G29: Итоговое количество | H29: Рекомендации представителей индустрии (указывается конкретное оборудование) | I29: Ориентировочная стоимость за 1 шт.
A30: 1 | B30: Компьютер | C30: Процессор с частотой не менее 3200 МГц, Оперативная память типа DDR4 2666 МГц 32 GB/ накопитель SSD 500 Мb/ видеокарта с памятью не менее 8GB. Диагональ монитора не менее 24 дюйма | D30: IT-оборудование | E30: 1 | F30: шт ( на 1 раб.место) | G30: 10
A31: 2 | B31: Электричество на 1 рабочее место \ 1 команду - 220 Вольт (2 кВт) | D31: Дополнительные требования | G31: 10
A32: 3 | B32: Розетка | C32: Штепсельная открытой установки | D32: Дополнительные требования | E32: 2 | F32: шт | G32: 20
A33: 4 | B33: Сетевой фильтр для подключения оргтехники | C33: Максимальная нагрузка 2200 Вт; Напряжение сети 220 В; Количество розеток 5; длина кабеля 5 м | D33: Оборудование и инструменты | E33: 1 | F33: шт ( на 1 раб.место) | G33: 10
A34: 5 | B34: Имитатор культи голени для проведения компрессионной терапии | C34: Имитатор культи голени взрослого человека для проведения компрессионной терапии, из нетканного материала, поддающегося дезинфекции, выполнен из специального силикона, имитирующего кожу человека, с вставленной тесьмой для демонстрационного крепления на теле человека или тренажера. | D34: Оборудование и инструменты | E34: 1 | F34: шт (на 1 рабочее место) | G34: 10
A35: 6 | B35: Фитбол | C35: Мяч большого диаметра для занятий лечебной физкультурой диаметром от 50 до 95 см, в соответствии с ростом статиста. При усаживании на фитбол должны фиксироваться прямые углы (90 градусов) между позвоночником и бедром, бедром и голенью, голенью и стопой) | D35: Оборудование и инструменты | E35: 2 | F35: шт (на 1 рабочее место) | G35: 20
A36: 7 | B36: Балансировочная подушка | C36: Балансировочная подушка из полимерного материала, диаметр 34 см, высота 2,5 см | D36: Оборудование и инструменты | E36: 1 | F36: шт ( на 1 раб.место) | G36: 10
A37: 8 | B37: Костыли с подмышечной опорой | C37: Костыли с подмышечной опорой. Универсальный размер подходит под рост пациента от 140 до 200 см, регулируется. Материал - алюминиевый сплав. Рукояти и опорная часть покрыты мягкой пористой резиной, допустимая нагрузка - 150 кг. | D37: Оборудование и инструменты | E37: 2 | F37: шт. ( на 1 раб.место) | G37: 20
A38: 9 | B38: Пульсоксиметр для определения уровня сатурации крови | C38: Инфракрасный, предназначен для безболезненного определения степени насыщения кислородом (SpO₂) гемоглобина артериальной крови человека (процес сатурации) и частоты сердечных сокращений. | D38: Оборудование и инструменты | E38: 1 | F38: шт ( на 1 раб.место) | G38: 10
A39: 10 | B39: Ростомер медицинский | C39: Вертикальный с передвижной планкой | D39: Оборудование и инструменты | E39: 1 | F39: шт ( на 1 раб.место) | G39: 10
A40: 11 | B40: Ортезы для фиксации поясничного отдела позвоночника | C40: Специальные внешние медицинские приспособления, предназначенные для мягкого и жёсткого фиксирования позвоночника, коррекции положения и разгрузки при их поражении в результате болезней и травм. Размер соответствует размеру одежды статиста. | D40: Оборудование и инструменты | E40: 1 | F40: шт ( на 1 раб.место) | G40: 10
A41: 12 | B41: Аппарат для транскраниальной электростимуляции, переносной | C41: Переносной физиотерапевтический аппарат 3-4класса защиты для проведения транскраниальной электростимуляции | D41: Оборудование и инструменты | E41: 1 | F41: шт ( на 1 раб.место) | G41: 10
...

Sheet Модуль В (рабочее место)
A1: Инфраструктурный лист для оснащения конкурсной площадки
A2: ='Информация о Чемпионате'!B4 -> Финальный этап Чемпионатного движения по профессиональному мастерству «Профессионалы» в 2026 г
A3: по компетенции
A4: ='Информация о Чемпионате'!B3 -> Фельдшер по медицинской реабилитации
A5: Основная информация о конкурсной площадке:
A6: Субъект Российской Федерации: | C6: ='Информация о Чемпионате'!B5 -> Санкт-Петербург
A7: Базовая организация расположения конкурсной площадки: | D7: ='Информация о Чемпионате'!B6 -> Конгрессно-выставочный центр «Экспофорум»
A8: Адрес базовой организации: | C8: ='Информация о Чемпионате'!B7 -> Санкт-Петербург, Петербургское шоссе, 64/1
A9: Главный эксперт: | C9: ='Информация о Чемпионате'!B9 -> Бахтина Ирина Сергеевна | E9: ='Информация о Чемпионате'!B10 -> ibakhtina@yandex.ru | G9: ='Информация о Чемпионате'!B11 -> 8(921)9074717
A10: Технический администратор площадки: | C10: ='Информация о Чемпионате'!B12 -> 0 | E10: ='Информация о Чемпионате'!B13 -> 0 | G10: ='Информация о Чемпионате'!B14 -> 0
A11: Количество экспертов (ЭН+ГЭ+ИЭ) + ТАП: | C11: ='Информация о Чемпионате'!B17 -> 33
A12: Количество конкурсантов: | C12: ='Информация о Чемпионате'!B15 -> 10
A13: Количество рабочих мест: | C13: ='Информация о Чемпионате'!B16 -> 10
A14: Даты проведения: | C14: ='Информация о Чемпионате'!B8 -> 29.11.2026 - 04.12.2026
A15: Рабочее место Конкурсанта (основное оборудование, вспомогательное оборудование, инструмент (по количеству рабочих мест)) Модуль В
A16: Требования к обеспечению зоны (коммуникации, площадь, сети, количество рабочих мест и др.):
A17: Площадь зоны: не менее 20 кв.м.
A18: Освещение: Допустимо верхнее искусственное освещение ( не менее 300 люкс)
A19: Интернет : Подключение ноутбуков к беспроводному интернету (с возможностью подключения к проводному интернету)
A20: Локальная сеть: требуется; скорость подключения 1000 Мбит/с; количество точек подключения 12
A21: Скорость подключения к локальному/беспроводному интернету - основной канал на скорости до 100 Мбит/с, по резервному каналу на скорости до 100 Мбит/с
A22: Электричество: 220 Вольт подключения к сети
A23: Контур заземления для электропитания и сети слаботочных подключений (при необходимости) : не требуется
A24: Покрытие пола: напольная плитка на всю зону
A25: Подведение/ отведение ГХВС (при необходимости): требуется/не требуется
A26: Подведение сжатого воздуха (при необходимости): требуется/не требуется
... A28: Особые требования к площадке проведения (из правил компетенции) не требуется
A29: № | B29: Наименование | C29: Краткие (рамочные) технические характеристики | D29: Вид | E29: Количество на одного конкурсанта | F29: Единица измерения | G29: Итоговое количество | H29: Рекомендации представителей индустрии (указывается конкретное оборудование) | I29: Ориентировочная стоимость за 1 шт.
A30: 1 | B30: Компьютер | C30: Процессор с частотой не менее 3200 МГц, Оперативная память типа DDR4 2666 МГц 32 GB/ накопитель SSD 500 Мb/ видеокарта с памятью не менее 8GB. Диагональ монитора не менее 24 дюйма | D30: IT-оборудование | E30: 1 | F30: шт ( на 1 раб.место) | G30: 10
A31: 2 | B31: Электричество на 1 рабочее место \ 1 команду - 220 Вольт (2 кВт) | D31: Дополнительные требования | G31: 10
A32: 3 | B32: Розетка | C32: Штепсельная открытой установки | D32: Дополнительные требования | E32: 2 | F32: шт | G32: 20
A33: 4 | B33: Сетевой фильтр для подключения оргтехники | C33: Максимальная нагрузка 2200 Вт; Напряжение сети 220 В; Количество розеток 5; длина кабеля 5 м | D33: Оборудование и инструменты | E33: 1 | F33: шт ( на 1 раб.место) | G33: 10
A34: 5 | B34: Полотенце вафельное | C34: Размер 35 на 75 см гладкокрашеное белое | D34: Оборудование и инструменты | E34: 1 | F34: шт ( на 1 раб.место) | G34: 10
A35: 6 | B35: Емкость для питья | C35: Емкость для питья 200,0 | D35: Оборудование и инструменты | E35: 1 | F35: шт ( на 1 раб.место) | G35: 10
A36: 7 | B36: Пульсоксиметр портативный для определения уровня сатурации крови | C36: Инфракрасный предназначен для безболезненного определения степени насыщения кислородом (SpO₂) гемоглобина артериальной крови человека (процес сатурации) и частоты сердечных сокращений.Цвет - голубой, белый. | D36: Оборудование и инструменты | E36: 1 | F36: шт ( на 1 раб.место) | G36: 10
A37: 8 | B37: Аппарат для измерения артериального давления с ручным нагнетением, портативный | C37: Аппарат для измерения артериального давления | D37: Оборудование и инструменты | E37: 1 | F37: шт ( на 1 раб.место) | G37: 10
A38: 9 | B38: Фонендоскоп | C38: Стетоскоп неавтоматизированный | D38: Оборудование и инструменты | E38: 1 | F38: шт ( на 1 раб.место) | G38: 10
A39: 10 | B39: Термометр медицинский | C39: Электронный бесконтактный | D39: Оборудование и инструменты | E39: 1 | F39: шт ( на 1 раб.место) | G39: 10
A40: 11 | B40: Полноростовой манекен-тренажер (торс) для проведения БСЛР (в одежде) | C40: Полноростовой манекен-тренажер (торс) для проведения БСЛР (в одежде) | D40: Оборудование и инструменты | E40: 1 | F40: шт ( на 1 раб.место) | G40: 10
A41: 12 | B41: Дыхательный аппарат ручной (мешок типа Амбу) для взрослых | C41: Комплект дыхательный для ручной ИВЛ (мешок реанимационный типа "Амбу") предназначен для проведения искусственной вентиляции легких ручным способом взрослым (КД-МП-В, вес пациентов свыше 15 кг) в условиях дыхательной недостаточности любой этиологии | D41: Оборудование и инструменты | E41: 1 | F41: шт ( на 1 раб.место) | G41: 10
...

Sheet Модуль Г (рабочее место)
A1: Инфраструктурный лист для оснащения конкурсной площадки
A2: ='Информация о Чемпионате'!B4 -> Финальный этап Чемпионатного движения по профессиональному мастерству «Профессионалы» в 2026 г
A3: по компетенции
A4: ='Информация о Чемпионате'!B3 -> Фельдшер по медицинской реабилитации
A5: Основная информация о конкурсной площадке:
A6: Субъект Российской Федерации: | C6: ='Информация о Чемпионате'!B5 -> Санкт-Петербург
A7: Базовая организация расположения конкурсной площадки: | D7: ='Информация о Чемпионате'!B6 -> Конгрессно-выставочный центр «Экспофорум»
A8: Адрес базовой организации: | C8: ='Информация о Чемпионате'!B7 -> Санкт-Петербург, Петербургское шоссе, 64/1
A9: Главный эксперт: | C9: ='Информация о Чемпионате'!B9 -> Бахтина Ирина Сергеевна | E9: ='Информация о Чемпионате'!B10 -> ibakhtina@yandex.ru | G9: ='Информация о Чемпионате'!B11 -> 8(921)9074717
A10: Технический администратор площадки: | C10: ='Информация о Чемпионате'!B12 -> 0 | E10: ='Информация о Чемпионате'!B13 -> 0 | G10: ='Информация о Чемпионате'!B14 -> 0
A11: Количество экспертов (ЭН+ГЭ+ИЭ) + ТАП: | C11: ='Информация о Чемпионате'!B17 -> 33
A12: Количество конкурсантов: | C12: ='Информация о Чемпионате'!B15 -> 10
A13: Количество рабочих мест: | C13: ='Информация о Чемпионате'!B16 -> 10
A14: Даты проведения: | C14: ='Информация о Чемпионате'!B8 -> 29.11.2026 - 04.12.2026
A15: Рабочее место Конкурсанта (основное оборудование, вспомогательное оборудование, инструмент (по количеству рабочих мест)) Модуль Г
A16: Требования к обеспечению зоны (коммуникации, площадь, сети, количество рабочих мест и др.):
A17: Площадь зоны: не менее 20 кв.м.
A18: Освещение: Допустимо верхнее искусственное освещение ( не менее 300 люкс)
A19: Интернет : Подключение ноутбуков к беспроводному интернету (с возможностью подключения к проводному интернету)
A20: Локальная сеть: требуется; скорость подключения 1000 Мбит/с; количество точек подключения 12
A21: Скорость подключения к локальному/беспроводному интернету - основной канал на скорости до 100 Мбит/с, по резервному каналу на скорости до 100 Мбит/с
A22: Электричество: 220 Вольт подключения к сети
A23: Контур заземления для электропитания и сети слаботочных подключений (при необходимости) : не требуется
A24: Покрытие пола: напольная плитка на всю зону
A25: Подведение/ отведение ГХВС (при необходимости): требуется/не требуется
A26: Подведение сжатого воздуха (при необходимости): требуется/не требуется
... A28: Особые требования к площадке проведения (из правил компетенции) не требуется
A29: № | B29: Наименование | C29: Краткие (рамочные) технические характеристики | D29: Вид | E29: Количество на одного конкурсанта | F29: Единица измерения | G29: Итоговое количество | H29: Рекомендации представителей индустрии (указывается конкретное оборудование) | I29: Ориентировочная стоимость за 1 шт.
A30: 1 | B30: Компьютер | C30: Процессор с частотой не менее 3200 МГц, Оперативная память типа DDR4 2666 МГц 32 GB/ накопитель SSD 500 Мb/ видеокарта с памятью не менее 8GB. Диагональ монитора не менее 24 дюйма | D30: IT-оборудование | E30: 1 | F30: шт ( на 1 раб.место) | G30: 10
A31: 2 | B31: Планшет | C31: Экран: 15.6"; разрешение экрана: Full HD (1920x1080); процессор: Intel Core i7 1165G7 или эквивалент; частота: 2.8 ГГц; память: 8192 Мб, DDR4; SSD: 512 ГБ M.2 PCIe; Intel Iris Xe Graphics или эквивалент; WiFi; Bluetooth; HDMI; WEB-камера;Endless или эквиваленты | D31: IT-оборудование | E31: 1 | F31: шт ( 1 на раб.место) | G31: 10
A32: 3 | B32: Электричество на 1 рабочее место \ 1 команду - 220 Вольт (2 кВт) | D32: Дополнительные требования | G32: 10
A33: 4 | B33: Розетка | C33: Штепсельная открытой установки | D33: Дополнительные требования | E33: 2 | F33: шт | G33: 20
A34: 5 | B34: Сетевой фильтр для подключения оргтехники | C34: Максимальная нагрузка 2200 Вт; Напряжение сети 220 В; Количество розеток 5; длина кабеля 5 м | D34: Оборудование и инструменты | E34: 1 | F34: шт ( на 1 раб.место) | G34: 10
A35: 6 | B35: Имитатор раны "Пролежень" | C35: Имитатор пролежня 2 степени, из нетканного материала, поддающегося дезинфекции, выполнен из специального силикона, имитирующего кожу человека, с вставленной тесьмой для демонстрационного крепления на теле человека или тренажера | D35: Оборудование и инструменты | E35: 1 | F35: шт (на 1 рабочее место) | G35: 10
A36: 7 | B36: Поддерживающий пояс для перемещения маломобильных пациентов | C36: Поддерживающий пояс для перемещения маломобильных пациентов, верхний материал: 100% нейлон с грязеотталкивающей обработкой (покрытие ПВХ плотностью 320г/м2); внутренний материал: трикотажное полотно, 100% полиэстер плотностью 230г/м2; наполнитель: пенополиуретан. Ширина 50 мм, полипропилен; разрывная нагрузка - 2700 кгс. , с 4 ручками. Размер в соответствии с разером одежды статиста | D36: Оборудование и инструменты | E36: 2 | F36: шт ( на 1 раб.место) | G36: 20
A37: 8 | B37: Пульсоксиметр для определения уровня сатурации крови | C37: Инфракрасныйпредназначен для безболезненного определения степени насыщения кислородом (SpO₂) гемоглобина артериальной крови человека (процес сатурации) и частоты сердечных сокращений.Цвет - голубой, белый. | D37: Оборудование и инструменты | E37: 1 | F37: шт ( на 1 раб.место) | G37: 10
A38: 9 | B38: Захват для подбирания предметов | C38: Активный захват для подбирания предметов с пола, с рифлеными резиновыми противоскользящими накладками, материал рукоятки: пластик, материал трубки: металл., длина - 70 см. | D38: Оборудование и инструменты | E38: 1 | F38: шт ( на 1 раб.место) | G38: 10
A39: 10 | B39: Аппарат для фотохромотерапии портативный | C39: Портативный аппарат для светолечения, продуцирующий свет видимого спектра с урасной,зеленой и синей матрицами | D39: Оборудование и инструменты | E39: 1 | F39: шт ( на 1 раб.место) | G39: 10
A40: 11 | B40: Полотенце вафельное | C40: Размер 35 на 75 см гладкокрашеное белое | D40: Оборудование и инструменты | E40: 1 | F40: шт ( на 1 раб.место) | G40: 10
A41: 12 | B41: Виртуальный тренажер когнитивных функций | C41: Интерактивный программно-аппаратный комплекс для когнитивной реабилитации | D41: Оборудование и инструменты | E41: 1 | F41: шт ( на 1 раб.место) | G41: 10
...

Sheet Расходные материалы
A1: Инфраструктурный лист для оснащения конкурсной площадки
A2: ='Информация о Чемпионате'!B4 -> Финальный этап Чемпионатного движения по профессиональному мастерству «Профессионалы» в 2026 г
A3: по компетенции
A4: ='Информация о Чемпионате'!B3 -> Фельдшер по медицинской реабилитации
A5: Основная информация о конкурсной площадке:
A6: Субъект Российской Федерации: | C6: ='Информация о Чемпионате'!B5 -> Санкт-Петербург
A7: Базовая организация расположения конкурсной площадки: | D7: ='Информация о Чемпионате'!B6 -> Конгрессно-выставочный центр «Экспофорум»
A8: Адрес базовой организации: | C8: ='Информация о Чемпионате'!B7 -> Санкт-Петербург, Петербургское шоссе, 64/1
A9: Главный эксперт: | C9: ='Информация о Чемпионате'!B9 -> Бахтина Ирина Сергеевна | E9: ='Информация о Чемпионате'!B10 -> ibakhtina@yandex.ru | G9: ='Информация о Чемпионате'!B11 -> 8(921)9074717
A10: Технический администратор площадки: | C10: ='Информация о Чемпионате'!B12 -> 0 | E10: ='Информация о Чемпионате'!B13 -> 0 | G10: ='Информация о Чемпионате'!B14 -> 0
A11: Количество экспертов (ЭН+ГЭ+ИЭ) + ТАП: | C11: ='Информация о Чемпионате'!B17 -> 33
A12: Количество конкурсантов: | C12: ='Информация о Чемпионате'!B15 -> 10
A13: Количество рабочих мест: | C13: ='Информация о Чемпионате'!B16 -> 10
A14: Даты проведения: | C14: ='Информация о Чемпионате'!B8 -> 29.11.2026 - 04.12.2026
A15: Расходные материалы на всех конкурсантов и экспертов
A16: № | B16: Наименование | C16: Краткие (рамочные) технические характеристики | D16: Вид | E16: Количество на одного участника | F16: Единица измерения | G16: Итоговое количество | H16: Рекомендации представителей индустрии (указывается конкретное оборудование)
A17: 1 | B17: Бумага офисная А4 | C17: 500 листов/пачка | D17: Расходные материалы | E17: 1 | F17: пачка | G17: 5
A18: 2 | B18: Степлер канцелярский | C18: До 50 листов, тип и размер скоб для степлера: 24/6, 24/8, 26/6 | D18: Расходные материалы | E18: 1 | F18: шт. | G18: 2
A19: 3 | B19: Скобы к степлеру | C19: 500 шт./упак | D19: Расходные материалы | E19: 1 | F19: упак. | G19: 2
A20: 4 | B20: Файл-вкладыш А4 | C20: 50 шт./упак | D20: Расходные материалы | E20: 1 | F20: упак. | G20: 3
A21: 5 | B21: Папка-планшет с зажимом | C21: А4 | D21: Расходные материалы | E21: 1 | F21: шт. | G21: 10
A22: 6 | B22: Папка-скоросшиватель | C22: Формат А4 Вид механизма стандартный (усики) Плотность/толщина материала 0.1/0.12 мм Ширина корешка, мм 15 Вместимость до 100 листов | D22: Расходные материалы | E22: 1 | F22: шт. | G22: 20
A23: 7 | B23: Папка на кольцах 75 мм | C23: А4, ПВХ | D23: Расходные материалы | E23: 1 | F23: шт. | G23: 4
A24: 8 | B24: Ручка шариковая | C24: синие чернила, толщина линии 0.5 мм | D24: Расходные материалы | E24: 1 | F24: шт. | G24: 20
A25: 9 | B25: Карандаш простой | C25: Твердость грифеля: HB (ТМ). Материал корпуса: дерево/пластик | D25: Расходные материалы | E25: 1 | F25: шт. | G25: 20
A26: 10 | B26: Точилка | C26: Контейнер для стружки:есть | D26: Расходные материалы | E26: 1 | F26: шт. | G26: 2
A27: 11 | B27: Ластик | C27: Тип материала - термопластичная резина (ТПР) | D27: Расходные материалы | E27: 1 | F27: шт. | G27: 3
A28: 12 | B28: Ножницы канцелярские | C28: Материал - Сталь, Пластик; длина лезвий 21см. | D28: Расходные материалы | E28: 1 | F28: шт. | G28: 5
... A33: 17 | B33: Мешки для мусора | C33: Объем:60 л Длина:700 мм Ширина:600 мм Толщина:60 мкм Количество в упаковке:10 шт. | D33: Расходные материалы | E33: 1 | F33: упак. | G33: 3
A34: 18 | B34: Стакан одноразовый 200 мл | C34: Пластиковый (полипропилен (ПП)), белый/прозрачный | D34: Расходные материалы | E34: 1 | F34: шт. | G34: =300*E34 -> 300
A35: 19 | B35: Бумажные стаканчики для горячей воды | C35: Стакан для горячих напитков 250мл, крафт, диаметром 80мм, 50 шт. в упаковке | D35: Расходные материалы | E35: 1 | F35: шт. | G35: 3
A36: Охрана труда
A37: № | B37: Наименование | C37: Краткие (рамочные) технические характеристики | D37: Вид | E37: Количество на одного участника | F37: Единица измерения | G37: Итоговое количество | H37: Рекомендации представителей индустрии (указывается конкретное оборудование)
A38: 1 | B38: Салфетки влажные антибактериальные | C38: Количество в упаковке:150 шт. Материал: нетканый материал | D38: Расходные материалы | E38: 1 | F38: упак. | G38: 3
A39: 2 | B39: Вода питьевая для кулера | C39: Бутыль, объем 19 литров | D39: Расходные материалы | E39: 1 | F39: шт. | G39: 4
A40: 3 | B40: СИЗ | C40: Специальная одежда и обувь | D40: Расходные материалы | E40: 1 | F40: шт. | G40: 1
A41: 4 | B41: Перчатки х/б | C41: Строительные, плотные | D41: Расходные материалы | E41: 1 | F41: шт. | G41: 2

Sheet Личный инструмент конкурсанта
A1: Инфраструктурный лист для оснащения конкурсной площадки
A2: ='Информация о Чемпионате'!B4 -> Финальный этап Чемпионатного движения по профессиональному мастерству «Профессионалы» в 2026 г
A3: по компетенции
A4: ='Информация о Чемпионате'!B3 -> Фельдшер по медицинской реабилитации
A5: Личный инструмент конкурсанта не предусмотрен
A6: № | B6: Наименование | C6: Краткие (рамочные) технические характеристики | D6: Вид | E6: Количество | F6: Единица измерения | G6: Примечание
A7: 1 | B7: телефон мобильный | C7: с выходом в систему Интернет | E7: 1 | F7: шт | G7: используется личный телефон конкурсанта
A8: 2
A9: 3
A10: 4
A11: 5
A12: 6
