Workbook
Name _Hlk152532793: 'Список продуктов'!#REF!
Name список: [1]Лист1!$B$3:$B$8
Name список: [1]Лист1!$B$3:$B$8
Name список: Лист1!$B$3:$B$8

Sheet Информация о Чемпионате
A3: Компетенция | B3: Поварское дело (оснавная)
A4: Наименование этапа Чемпионата | B4: Финал Чемпионата по профессиональному мастерству "Профессионалы" 2027
A5: Субъект РФ (регион проведения) | B5: г.Санкт-Петербург
A6: Базовая организация расположения конкурсной площадки | B6: Конгрессно-выставочный центр "Экспофорум"
A7: Адрес конкурсной площадки | B7: г. Санкт-Петербург, Петербургское шоссе, 64, корп. 1
A8: Даты проведения | B8: 29.11 - 04.12.2026
A9: Главный эксперт | B9: Иришкин Евгений Николаевич
A10: Электронная почта ГЭ | B10: evgeniy-irishkin@mail.ru
A11: Моб.телефон ГЭ | B11: 89313355913
A12: Технический администратор площадки
A13: Электронная почта ТАП
A14: Моб.телефон ТАП
A15: Количество конкурсантов | B15: 15
A16: Количество рабочих мест | B16: 15
A17: Количество экспертов (ГЭ+ЭН+ИЭ+МЭ)+ТАП+Технический ассистент ТАП | B17: 18
A20: ЭН - эксперт-наставник
A21: ГЭ - главный эксперт
A22: ИЭ - индустриальный эксперт
A23: МЭ - международный эксперт
A24: ТАП - технический администратор площадки
A25: Технический ассистент ТАП

Sheet Общая инфраструктура
A1: Инфраструктурный лист для оснащения конкурсной площадки
A2: ='Информация о Чемпионате'!B4 -> Финал Чемпионата по профессиональному мастерству "Профессионалы" 2027
A3: по компетенции
A4: ='Информация о Чемпионате'!B3 -> Поварское дело (оснавная)
A5: Основная информация о конкурсной площадке:
A6: Субъект Российской Федерации: | C6: ='Информация о Чемпионате'!B5 -> г.Санкт-Петербург
A7: Базовая организация расположения конкурсной площадки: | D7: ='Информация о Чемпионате'!B6 -> Конгрессно-выставочный центр "Экспофорум"
A8: Адрес базовой организации: | C8: ='Информация о Чемпионате'!B7 -> г. Санкт-Петербург, Петербургское шоссе, 64, корп. 1
A9: Главный эксперт: | C9: ='Информация о Чемпионате'!B9 -> Иришкин Евгений Николаевич | E9: ='Информация о Чемпионате'!B10 -> evgeniy-irishkin@mail.ru | G9: ='Информация о Чемпионате'!B11 -> 89313355913
A10: Технический администратор площадки: | C10: ='Информация о Чемпионате'!B12 -> 0 | E10: ='Информация о Чемпионате'!B13 -> 0 | G10: ='Информация о Чемпионате'!B14 -> 0
A11: Количество экспертов (ЭН+ГЭ+ИЭ) + ТАП: | C11: ='Информация о Чемпионате'!B17 -> 18
A12: Количество конкурсантов: | C12: ='Информация о Чемпионате'!B15 -> 15
A13: Количество рабочих мест: | C13: ='Информация о Чемпионате'!B16 -> 15
A14: Даты проведения: | C14: ='Информация о Чемпионате'!B8 -> 29.11 - 04.12.2026
A15: Общая рабочая зона конкурсантов (оборудование, инструмент, мебель)
A16: Требования к обеспечению зоны (коммуникации, площадь, сети, количество рабочих мест и др.):
A17: Площадь зоны: не менее 120 кв.м.
A18: Освещение: Допустимо верхнее искусственное освещение ( не менее 300 люкс)
A19: Интернет : Подключение ноутбуков к беспроводному интернету (с возможностью подключения к проводному интернету)
A20: Локальная сеть: требуется; скорость подключения 300 Мбит/с; количество точек подключения 2
A21: Скорость подключения к локальному/беспроводному интернету - основной канал на скорости до 300 Мбит/с, по резервному каналу на скорости до 100 Мбит/с
A22: Электричество: 220-230 Вт, 12 розеток (подведение на уровень высоты стола, одна розетка на единицу оборудования, общая мощность не менее 20 кВт), 8 пилота по 4 розетки
A23: Контур заземления для электропитания и сети слаботочных подключений (при необходимости) : не требуется
A24: Покрытие пола: плитка или наливные полы
A25: Подведение/ отведение ГХВС (при необходимости): требуется
A26: Подведение сжатого воздуха (при необходимости): не требуется
... A28: Особые требования к площадке проведения: не требуется
A29: № | B29: Наименование | C29: Краткие (рамочные) технические характеристики | D29: Вид | E29: Количество на одного участника | F29: Единица измерения | G29: Итоговое количество | H29: Рекомендации представителей индустрии (указывается конкретное оборудование) | I29: Ориентировочная стоимость за 1 шт.
A30: 1 | B30: Шкаф шоковой заморозки | C30: Десять уровней. GN 1/1 | D30: Оборудование и инструменты | E30: 4 | F30: шт | G30: 4
A31: 2 | B31: Гастроемкость из нержавеющей стали | C31: GN 1/1 530х325х20 мм | D31: Оборудование и инструменты | E31: 30 | F31: шт | G31: 30
A32: 3 | B32: Часы настенные (электронные) | C32: Характеристики позиции на усмотрение организаторов | D32: Оборудование и инструменты | E32: 4 | F32: шт | G32: 4
A33: 4 | B33: Интерактивная панель | C33: На штативе, минимум 130 дюймов по диагонали, подключение к Wi-Fi | D33: Оборудование IT | E33: 1 | F33: шт | G33: 1
A34: 5 | B34: Термометр инфракрасный | C34: Характеристики позиции на усмотрение организаторов | D34: Оборудование и инструменты | E34: 1 | F34: шт | G34: 1
A35: 6 | B35: Микроволновая печь | C35: Мощность от 0,7кВт | D35: Оборудование и инструменты | E35: 4 | F35: шт | G35: 4
A36: 7 | B36: Фритюрница | C36: Двусекционные, 2-3 литра | D36: Оборудование и инструменты | E36: 4 | F36: шт | G36: 4
A37: 8 | B37: Слайсер | C37: Деаметр режущего лезвия не менее 220 мм. | D37: Оборудование и инструменты | E37: 4 | F37: шт | G37: 4
A38: 9 | B38: Стол производственный | C38: 1800х600х850,допустимо без борта. С внутренней металической полкой, глухой. | D38: Оборудование и инструменты | E38: 12 | F38: шт | G38: 12
A39: 10 | B39: Мясорубка | C39: Производительностью не менее 20 кг в час. | D39: Оборудование и инструменты | E39: 4 | F39: шт | G39: 4
A40: 11 | B40: Блендер стационарный | C40: Объем чаши не менее 2л. | D40: Оборудование и инструменты | E40: 4 | F40: шт | G40: 4
A41: 12 | B41: Соковыжималка | C41: Мощностью не менее 200 Вт, шнекового или центрифужного типа | D41: Оборудование и инструменты | E41: 4 | F41: шт | G41: 4
...

Sheet Рабочее место конкурсантов
A1: Инфраструктурный лист для оснащения конкурсной площадки
A2: ='Информация о Чемпионате'!B4 -> Финал Чемпионата по профессиональному мастерству "Профессионалы" 2027
A3: по компетенции
A4: ='Информация о Чемпионате'!B3 -> Поварское дело (оснавная)
A5: Основная информация о конкурсной площадке:
A6: Субъект Российской Федерации: | C6: ='Информация о Чемпионате'!B5 -> г.Санкт-Петербург
A7: Базовая организация расположения конкурсной площадки: | D7: ='Информация о Чемпионате'!B6 -> Конгрессно-выставочный центр "Экспофорум"
A8: Адрес базовой организации: | C8: ='Информация о Чемпионате'!B7 -> г. Санкт-Петербург, Петербургское шоссе, 64, корп. 1
A9: Главный эксперт: | C9: ='Информация о Чемпионате'!B9 -> Иришкин Евгений Николаевич | E9: ='Информация о Чемпионате'!B10 -> evgeniy-irishkin@mail.ru | G9: ='Информация о Чемпионате'!B11 -> 89313355913
A10: Технический администратор площадки: | C10: ='Информация о Чемпионате'!B12 -> 0 | E10: ='Информация о Чемпионате'!B13 -> 0 | G10: ='Информация о Чемпионате'!B14 -> 0
A11: Количество экспертов (ЭН+ГЭ+ИЭ) + ТАП: | C11: ='Информация о Чемпионате'!B17 -> 18
A12: Количество конкурсантов: | C12: ='Информация о Чемпионате'!B15 -> 15
A13: Количество рабочих мест: | C13: ='Информация о Чемпионате'!B16 -> 15
A14: Даты проведения: | C14: ='Информация о Чемпионате'!B8 -> 29.11 - 04.12.2026
A15: Рабочее место Конкурсанта (основное оборудование, вспомогательное оборудование, инструмент (по количеству рабочих мест))
A16: Требования к обеспечению зоны (коммуникации, площадь, сети, количество рабочих мест и др.):
A17: Площадь зоны: 16 кв.м.
A18: Освещение: Допустимо верхнее искусственное освещение ( не менее 300 люкс) , дополнительный свет над каждым рабочим местом(3 светильника)
A19: Интернет : Подключение ноутбуков к беспроводному интернету (с возможностью подключения к проводному интернету)
A20: Локальная сеть: требуется; скорость подключения 300 Мбит/с; количество точек подключения 2
A21: Скорость подключения к локальному/беспроводному интернету - основной канал на скорости до 300 Мбит/с, по резервному каналу на скорости до 100 Мбит/с
A22: Электричество: на 1 бокс для участника, 380 вольт , 220-230 Вт, мощность не менее 25 кВт, 8 розеток подвод на уровне стола с двух сторон(на каждый стол по 4 розетки)
A23: Контур заземления для электропитания и сети слаботочных подключений (при необходимости) : не требуется
A24: Покрытие пола: плитка или наливные полы
A25: Подведение/ отведение ГХВС (при необходимости): требуется
A26: Подведение сжатого воздуха (при необходимости): не требуется
... A28: Особые требования к площадке проведения: не требуется
A29: № | B29: Наименование | C29: Краткие (рамочные) технические характеристики | D29: Вид | E29: Количество на одного конкурсанта | F29: Единица измерения | G29: Итоговое количество | H29: Рекомендации представителей индустрии (указывается конкретное оборудование) | I29: Ориентировочная стоимость за 1 шт.
A30: 1 | B30: Стол производственный | C30: Yх600х850, где Y допустимый суммарный размер всей свободной рабочей поверхности от 3,6 до 5,4м., допустимо без борта. С внутренней металической полкой, глухой. | D30: Оборудование и инструменты | E30: 3 | F30: шт | G30: 45
A31: 2 | B31: Стол-подставка под пароконвектомат | C31: Зависит от модели пароконвектомата. | D31: Оборудование и инструменты | E31: 1 | F31: шт | G31: 15
A32: 3 | B32: Пароконвектомат | C32: Допустимая минимальная мощность от 6,3 кВт. Количество уровней от 5 шт. GN 1/1. | D32: Оборудование и инструменты | E32: 1 | F32: шт | G32: 15
A33: 4 | B33: Весы настольные электронные (профессиональные) | C33: Наибольший предел взвешивания 5кг наименьший предел взвешевния не более 5г, дискретность 2гр. | D33: Оборудование и инструменты | E33: 1 | F33: шт | G33: 15
A34: 5 | B34: Плита индукционная | C34: 4греющих поверхности, 380 В., 14 кВт. | D34: Оборудование и инструменты | E34: 1 | F34: шт | G34: 15
A35: 6 | B35: Гастроемкость из нержавеющей стали с крышкой | C35: GN 1/1 530х325х20 мм. | D35: Оборудование и инструменты | E35: 3 | F35: шт | G35: 45
A36: 7 | B36: Гастроемкость из нержавеющей стали с крышкой | C36: GN 2/3 354х325х40 мм. | D36: Оборудование и инструменты | E36: 2 | F36: шт | G36: 30
A37: 8 | B37: Гастроемкость из нержавеющей стали с крышкой | C37: GN 2/3 354х325х65 мм. | D37: Оборудование и инструменты | E37: 1 | F37: шт | G37: 15
A38: 9 | B38: Гастроемкость из нержавеющей стали с крышкой | C38: GN 2/3 354х325х200 мм. | D38: Оборудование и инструменты | E38: 1 | F38: шт | G38: 15
A39: 10 | B39: Гастроемкость из нержавеющей стали с крышкой | C39: GN 1/2 265х325х20 мм. | D39: Оборудование и инструменты | E39: 2 | F39: шт | G39: 30
A40: 11 | B40: Гастроемкость из нержавеющей стали с крышкой | C40: GN 1/2 265х325х65 мм | D40: Оборудование и инструменты | E40: 2 | F40: шт | G40: 30
A41: 12 | B41: Гастроемкость из нержавеющей стали с крышкой | C41: GN 1/3 176х325х40мм. | D41: Оборудование и инструменты | E41: 2 | F41: шт | G41: 30
...

Sheet Расходные материалы
A1: Инфраструктурный лист для оснащения конкурсной площадки
A2: ='Информация о Чемпионате'!B4 -> Финал Чемпионата по профессиональному мастерству "Профессионалы" 2027
A3: по компетенции
A4: ='Информация о Чемпионате'!B3 -> Поварское дело (оснавная)
A5: Основная информация о конкурсной площадке:
A6: Субъект Российской Федерации: | C6: ='Информация о Чемпионате'!B5 -> г.Санкт-Петербург
A7: Базовая организация расположения конкурсной площадки: | D7: ='Информация о Чемпионате'!B6 -> Конгрессно-выставочный центр "Экспофорум"
A8: Адрес базовой организации: | C8: ='Информация о Чемпионате'!B7 -> г. Санкт-Петербург, Петербургское шоссе, 64, корп. 1
A9: Главный эксперт: | C9: ='Информация о Чемпионате'!B9 -> Иришкин Евгений Николаевич | E9: ='Информация о Чемпионате'!B10 -> evgeniy-irishkin@mail.ru | G9: ='Информация о Чемпионате'!B11 -> 89313355913
A10: Технический администратор площадки: | C10: ='Информация о Чемпионате'!B12 -> 0 | E10: ='Информация о Чемпионате'!B13 -> 0 | G10: ='Информация о Чемпионате'!B14 -> 0
A11: Количество экспертов (ЭН+ГЭ+ИЭ) + ТАП: | C11: ='Информация о Чемпионате'!B17 -> 18
A12: Количество конкурсантов: | C12: ='Информация о Чемпионате'!B15 -> 15
A13: Количество рабочих мест: | C13: ='Информация о Чемпионате'!B16 -> 15
A14: Даты проведения: | C14: ='Информация о Чемпионате'!B8 -> 29.11 - 04.12.2026
A15: Рабочее место Конкурсанта (расходные материалы по количеству конкурсантов)
A16: № | B16: Наименование | C16: Краткие (рамочные) технические характеристики | D16: Вид | E16: Количество на одного конкурсанта | F16: Единица измерения | G16: Итоговое количество | H16: Рекомендации представителей индустрии (указывается конкретное оборудование)
A17: 1 | B17: Пергамент рулон | C17: Бумага для выпечки, 50м х 38см | D17: Расходные материалы | E17: 1 | F17: шт | G17: =E17*15 -> 15
A18: 2 | B18: Фольга рулон 10м | C18: Фольга 11мкрн 100м, 440мм | D18: Расходные материалы | E18: 1 | F18: шт | G18: 15
A19: 3 | B19: Скатерть для презентационного стола белая | C19: Тип Скатерть Материал Хлопок, Полиэфир Размер, см 145x145 Форма Круг Ширина, см 145 | D19: Расходные материалы | E19: 1 | F19: шт | G19: =E19*15 -> 15
A20: 4 | B20: Бумажные полотенца | C20: Двухслойные, 2 шт. в упаковке | D20: Расходные материалы | E20: 12 | F20: упаковка | G20: =E20*15 -> 180
A21: 5 | B21: Губка для мытья посуды | C21: Не менее 10 см в длинну | D21: Расходные материалы | E21: 4 | F21: шт | G21: 60
A22: 6 | B22: Мочалка металическая | C22: Для посуды | D22: Расходные материалы | E22: 1 | F22: шт | G22: 15
A23: 7 | B23: Полотенца х/б для протир. тарелок | C23: Полотенца однотонные, белые | D23: Расходные материалы | E23: 10 | F23: шт | G23: =E23*15 -> 150
A24: 8 | B24: Контейнеры одноразовые для пищ продуктов с крышкей | C24: 500мл | D24: Расходные материалы | E24: 45 | F24: шт | G24: =E24*15 -> 675
A25: 9 | B25: Контейнеры одноразовые для пищ продуктов с крышкей | C25: 300мл | D25: Расходные материалы | E25: 45 | F25: шт | G25: =E25*15 -> 675
A26: 10 | B26: Контейнеры одноразовые для пищ продуктов с крышкей | C26: 1000мл | D26: Расходные материалы | E26: 45 | F26: шт | G26: =E26*15 -> 675
A27: 11 | B27: Стаканы одноразовые | C27: 200мл | D27: Расходные материалы | E27: 100 | F27: шт | G27: =E27*15 -> 1500
A28: 12 | B28: Пакеты для мусора | C28: 60 л | D28: Расходные материалы | E28: 1 | F28: рулон | G28: =E28*15 -> 15
A29: 13 | B29: Пакеты для мусора | C29: 200 л | D29: Расходные материалы | E29: 1 | F29: рулон | G29: =E29*15 -> 15
A30: 14 | B30: Чашки пластиковые для горячего | C30: 250мл | D30: Расходные материалы | E30: 10 | F30: шт | G30: =E30*15 -> 150
A31: 15 | B31: Перчатки силиконовые одноразовые | C31: Размер S;M;L (100 пар в уп) | D31: Расходные материалы | E31: 3 | F31: упаковка | G31: =E31*15 -> 45
A32: 16 | B32: Вода | C32: Бутыль 19л | D32: Расходные материалы | E32: 1 | F32: шт | G32: =E32*15 -> 15
A33: 17 | B33: Плёнка пищевая | C33: Пленка-стрейч пищевая 300м х 45см | D33: Расходные материалы | E33: 2 | F33: шт | G33: =E33*15 -> 30
A34: 18 | B34: Вакуумные пакеты, разных размеров | C34: Материал ПЭТ (Полиэтилентерефталат), Лавсан Размеры, мм 100х280, 140х250, 180х300, 250х250 Страна-изготовитель Россия Цвет Прозрачный | D34: Расходные материалы | E34: 30 | F34: шт | G34: =E34*15 -> 450
... A41: 25 | B41: Масло растительное для фритюра | C41: Тип Масло подсолнечное Способ очистки Рафинированное Особенности производства масла Холодный отжим | D41: Расходные материалы | E41: 5 | F41: л | G41: =E41*15 -> 75
A42: 26 | B42: Колпак поварской | C42: 35 см, флисовый, с рёбрами | D42: Расходные материалы | E42: 160 | F42: шт | G42: 160
A43: 27 | B43: Микрофибра | C43: 40х40 | D43: Расходные материалы | E43: 2 | F43: л | G43: =E43*15 -> 30
A44: Расходные материалы на всех конкурсантов и экспертов
A45: № | B45: Наименование | C45: Краткие (рамочные) технические характеристики | D45: Вид | E45: Количество на одного участника | F45: Единица измерения | G45: Итоговое количество | H45: Рекомендации представителей индустрии (указывается конкретное оборудование)
A46: 1 | B46: Бумага А4 | C46: Бумага офисная А4, 80 г/м2, 500 л., марка С | D46: Расходные материалы | E46: 10 | F46: пачка 500 листов | G46: 10
...

Sheet Личный инструмент конкурсанта
A1: Инфраструктурный лист для оснащения конкурсной площадки
A2: ='Информация о Чемпионате'!B4 -> Финал Чемпионата по профессиональному мастерству "Профессионалы" 2027
A3: по компетенции
A4: ='Информация о Чемпионате'!B3 -> Поварское дело (оснавная)
A5: Личный инструмент конкурсанта
B6: Комплектация ящика для инструментов зависит от разработанных блюд конкурсантом, в соответствии с конкурсным заданием. Конкурсант может добавлять необходимый инвентарь, которого нет в перечне ниже и заменять позиции с другими характеристиками в необходимом ему количестве.
A7: № | B7: Наименование | C7: Краткие (рамочные) технические характеристики | D7: Вид | E7: Количество | F7: Единица измерения | G7: Примечание
A8: 1 | B8: Ящик для инструментов | C8: Характеристики позиции на усмотрение конкурсанта | E8: 1 | F8: шт | G8: Допустимы колёса и ручка
A9: 2 | B9: Баллончики для кремера N2O | C9: Характеристики позиции на усмотрение конкурсанта | E9: Количество позиции на усмотрение конкурсанта | F9: шт
A10: 3 | B10: Баллончики для кремера CO2 | C10: Характеристики позиции на усмотрение конкурсанта | E10: Количество позиции на усмотрение конкурсанта | F10: шт
A11: 4 | B11: Блендер Nutribullet Pro | C11: Характеристики позиции на усмотрение конкурсанта | E11: Количество позиции на усмотрение конкурсанта | F11: шт
A12: 5 | B12: Венчик профессиональный | C12: Характеристики позиции на усмотрение конкурсанта | E12: Количество позиции на усмотрение конкурсанта | F12: шт
A13: 6 | B13: Весы молекулярные | C13: Характеристики позиции на усмотрение конкурсанта | E13: Количество позиции на усмотрение конкурсанта | F13: шт
A14: 7 | B14: Вилка столовая | C14: Характеристики позиции на усмотрение конкурсанта | E14: Количество позиции на усмотрение конкурсанта | F14: шт
A15: 8 | B15: Ложка столовая | C15: Характеристики позиции на усмотрение конкурсанта | E15: Количество позиции на усмотрение конкурсанта | F15: шт
A16: 9 | B16: Воронка-дозатор для кондитерских изделий с клапаном | C16: Характеристики позиции на усмотрение конкурсанта | E16: Количество позиции на усмотрение конкурсанта | F16: шт
A17: 10 | B17: Воронка-сито для сифонов | C17: Характеристики позиции на усмотрение конкурсанта | E17: Количество позиции на усмотрение конкурсанта | F17: шт
A18: 11 | B18: Вырубки прямоугольные | C18: Характеристики позиции на усмотрение конкурсанта | E18: Количество позиции на усмотрение конкурсанта | F18: шт
A19: 12 | B19: Газовая горелка с пьезоподжигом | C19: Характеристики позиции на усмотрение конкурсанта | E19: Количество позиции на усмотрение конкурсанта | F19: шт
A20: 13 | B20: Газовый баллон для горелки | C20: Характеристики позиции на усмотрение конкурсанта | E20: Количество позиции на усмотрение конкурсанта | F20: шт
... A121: 114 | B121: Форма для выпечки коржей | C121: Характеристики позиции на усмотрение конкурсанта | E121: Количество позиции на усмотрение конкурсанта | F121: шт

Sheet Список продуктов
A1: СПИСОК ПРОДУКТОВ
A2: "Поварское дело"
A3: Дата отправки списка продуктов организаторам | B3: За одну неделю до чемпионата
A4: Лист заказа для: | B4: Название региона
A5: Имя конкурсанта: | B5: ФИО конкурсанта
A6: Имя Эксперта компатриота: | B6: ФИО эксперта компатриота
A7: Электронной почта участника: | B7: Ввести адрес электронной почты участника
A8: Телефон участника: | B8: Ввести телефон участника
A9: Электронная почта эксперта компатриота: | B9: Ввести адрес электронной почты эксперта компатриота
A10: Телефон эксперта компатриота: | B10: Ввести телефон эксперта компатриота
A11: Ингредиенты | B11: ЕДИНИЦА | C11: МАКС. | D11: ОСТАТОК | E11: МОДУЛИ - А, Б, В | F11: МОДУЛИ - Г, Д, Е | G11: МОДУЛИ - Ж, З, И | H11: Примечание
A12: МОЛОЧНЫЕ ПРОДУКТЫ
A13: Брынза | B13: г | C13: 300 | D13: =C13-E13-F13-G13 -> 300
A14: Йогурт натуральный | B14: г | C14: 500 | D14: =C14-E14-F14-G14 -> 500
A15: Кефир 1,5% | B15: мл | C15: 1500 | D15: =C15-E15-F15-G15 -> 1500
A16: Кокосовое молоко | B16: мл | C16: 1000 | D16: =C16-E16-F16-G16 -> 1000
A17: Молоко 3,2 % | B17: мл | C17: 1500 | D17: =C17-E17-F17-G17 -> 1500
A18: Моцарелла | B18: г | C18: 300 | D18: =C18-E18-F18-G18 -> 300
A19: Сгущённое молоко | B19: г | C19: 400 | D19: =C19-E19-F19-G19 -> 400
A20: Сливки 25% | B20: г | C20: 2000 | D20: =C20-E20-F20-G20 -> 2000
A21: Сливки для взбивания 35% | B21: г | C21: 2000 | D21: =C21-E21-F21-G21 -> 2000
A22: Сливочное масло 82,5% | B22: г | C22: 2000 | D22: =C22-E22-F22-G22 -> 2000
A23: Сметана 20% | B23: г | C23: 500 | D23: =C23-E23-F23-G23 -> 500
A24: Страчателла | B24: г | C24: 300 | D24: =C24-E24-F24-G24 -> 300
... A36: Яйцо куриное С1 | B36: шт | C36: 30 | D36: =C36-E36-F36-G36 -> 30
A37: ОВОЩИ СВЕЖИЕ
A38: Баклажан фиолетовый | B38: г | C38: 600 | D38: =C38-E38-F38-G38 -> 600
A39: Батат | B39: г | C39: 600 | D39: =C39-E39-F39-G39 -> 600
A40: Брокколи | B40: г | C40: 1000 | D40: =C40-E40-F40-G40 -> 1000
A41: Грибы вешенки | B41: г | C41: 300 | D41: =C41-E41-F41-G41 -> 300
A42: Грибы шампиньоны | B42: г | C42: 600 | D42: =C42-E42-F42-G42 -> 600
A43: Дайкон | B43: г | C43: 1000 | D43: =C43-E43-F43-G43 -> 1000
A44: Имбирь | B44: г | C44: 600 | D44: =C44-E44-F44-G44 -> 600
A45: Капуста белокочанная | B45: г | C45: 400 | D45: =C45-E45-F45-G45 -> 400
A46: Капуста пекинская | B46: г | C46: 400 | D46: =C46-E46-F46-G46 -> 400
A47: Картофель крахмальный | B47: г | C47: 1500 | D47: =C47-E47-F47-G47 -> 1500
A48: Лук красный | B48: г | C48: 400 | D48: =C48-E48-F48-G48 -> 400
A49: Лук порей | B49: г | C49: 600 | D49: =C49-E49-F49-G49 -> 600
... A65: Чеснок | B65: г | C65: 300 | D65: =C65-E65-F65-G65 -> 300
A66: СВЕЖИЕ ТРАВЫ
...

Sheet Чёрные ящики
A1: Варианты продуктов для чёрных ящиков
B2: Название модуля
B3: Модуль | C3: Модуль | D3: Модуль
A4: 1 | B4: Артишоки конс | C4: Артишоки конс | D4: Апельсин
A5: 2 | B5: Батат | C5: Батат | D5: Банан
A6: 3 | B6: Грибы белые зам | C6: Грибы белые зам | D6: Батат
A7: 4 | B7: Грибы вешенки | C7: Грибы вешенки | D7: Брусника
A8: 5 | B8: Грибы лисички зам | C8: Грибы лисички зам | D8: Брынза
A9: 6 | B9: Грибы опята конс | C9: Грибы опята конс | D9: Вишня
A10: 7 | B10: Грибы шампиньлны | C10: Грибы шампиньлны свежие | D10: Грейпфрут
A11: 8 | B11: Грибы шитаки сухие | C11: Грибы шитаки сухие | D11: Ежевика
A12: 9 | B12: Груша | C12: Дайкон | D12: Изюм
A13: 10 | B13: Зелёный горошек | C13: Кабачок | D13: Имбирь
A14: 11 | B14: Кабачок | C14: Капуста брюсельская | D14: Инжир
A15: 12 | B15: Каперсы плоды | C15: Капуста квашеная | D15: Йогурт натуральный
... A37: 34 | B37: Сельдерей стебель | C37: Яблоки зелёные | D37: Сыр Гауда
A38: 35 | B38: Спаржа зеленая | D38: Сыр Горгонзола
A39: 36 | B39: Сыр Брынза | D39: Сыр Грюйер
A40: 37 | B40: Сыр Горгонзола | D40: Сыр Дор блю
A41: 38 | B41: Сыр Дор блю | D41: Сыр Маскарпоне
A42: 39 | B42: Сыр Моцарелла | D42: Сыр Пармезан
A43: 40 | B43: Сыр Рикотта | D43: Сыр Творожный
A44: 41 | B44: Сыр Фета | D44: Сыр тофу
A45: 42 | B45: Томаты вяленные | D45: Сыр Чеддер
A46: 43 | B46: Тыква | D46: Тапиока в шариках
A47: 44 | B47: Фасоль белая конс | D47: Творог 5%
A48: 45 | B48: Фасоль зелёная зам | D48: Творожный козий сыр
A49: 46 | B49: Фасоль красная конс | D49: Тыква
... A53: 50 | B53: Яблоки | D53: Яблоки

Sheet Лист1
B2: список
B3: Оборудование и инструменты
B4: Мебель
B5: IT-оборудование
B6: ПО
B7: Охрана труда
B8: Расходные материалы
