Workbook
Name _Hlk152532793: 'Список продуктов'!#REF!
Name список: [1]Лист1!$B$3:$B$8
Name список: [1]Лист1!$B$3:$B$8
Name список: Лист1!$B$3:$B$8

Sheet Информация о Чемпионате
A3: Компетенция | B3: Поварское дело (оснавная)
A4: Наименование этапа Чемпионата | B4: Финал Чемпионата по профессиональному мастерству "Профессионалы" 2027
A5: Субъект РФ (регион проведения) | B5: г.Санкт-Петербург
A6: Базовая организация расположения конкурсной площадки | B6: Конгрессно-выставочный центр "Экспофорум"
A7: Адрес конкурсной площадки | B7: г. Санкт-Петербург, Петербургское шоссе, 64, корп. 1
A8: Даты проведения | B8: 29.11 - 04.12.2026
A9: Главный эксперт | B9: Иришкин Евгений Николаевич
A10: Электронная почта ГЭ | B10: evgeniy-irishkin@mail.ru
A11: Моб.телефон ГЭ | B11: 89313355913
A12: Технический администратор площадки
A13: Электронная почта ТАП
A14: Моб.телефон ТАП
A15: Количество конкурсантов | B15: 15
A16: Количество рабочих мест | B16: 15
A17: Количество экспертов (ГЭ+ЭН+ИЭ+МЭ)+ТАП+Технический ассистент ТАП | B17: 18
A20: ЭН - эксперт-наставник
A21: ГЭ - главный эксперт
A22: ИЭ - индустриальный эксперт
A23: МЭ - международный эксперт
A24: ТАП - технический администратор площадки
A25: Технический ассистент ТАП

Sheet Общая инфраструктура
A1: Инфраструктурный лист для оснащения конкурсной площадки
A2: ='Информация о Чемпионате'!B4 -> Финал Чемпионата по профессиональному мастерству "Профессионалы" 2027
A3: по компетенции
A4: ='Информация о Чемпионате'!B3 -> Поварское дело (оснавная)
A5: Основная информация о конкурсной площадке:
A6: Субъект Российской Федерации: | C6: ='Информация о Чемпионате'!B5 -> г.Санкт-Петербург
A7: Базовая организация расположения конкурсной площадки: | D7: ='Информация о Чемпионате'!B6 -> Конгрессно-выставочный центр "Экспофорум"
A8: Адрес базовой организации: | C8: ='Информация о Чемпионате'!B7 -> г. Санкт-Петербург, Петербургское шоссе, 64, корп. 1
A9: Главный эксперт: | C9: ='Информация о Чемпионате'!B9 -> Иришкин Евгений Николаевич | E9: ='Информация о Чемпионате'!B10 -> evgeniy-irishkin@mail.ru | G9: ='Информация о Чемпионате'!B11 -> 89313355913
A10: Технический администратор площадки: | C10: ='Информация о Чемпионате'!B12 -> 0 | E10: ='Информация о Чемпионате'!B13 -> 0 | G10: ='Информация о Чемпионате'!B14 -> 0
A11: Количество экспертов (ЭН+ГЭ+ИЭ) + ТАП: | C11: ='Информация о Чемпионате'!B17 -> 18
A12: Количество конкурсантов: | C12: ='Информация о Чемпионате'!B15 -> 15
A13: Количество рабочих мест: | C13: ='Информация о Чемпионате'!B16 -> 15
A14: Даты проведения: | C14: ='Информация о Чемпионате'!B8 -> 29.11 - 04.12.2026
A15: Общая рабочая зона конкурсантов (оборудование, инструмент, мебель)
A16: Требования к обеспечению зоны (коммуникации, площадь, сети, количество рабочих мест и др.):
A17: Площадь зоны: не менее 120 кв.м.
A18: Освещение: Допустимо верхнее искусственное освещение ( не менее 300 люкс)
A19: Интернет : Подключение ноутбуков к беспроводному интернету (с возможностью подключения к проводному интернету)
A20: Локальная сеть: требуется; скорость подключения 300 Мбит/с; количество точек подключения 2
A21: Скорость подключения к локальному/беспроводному интернету - основной канал на скорости до 300 Мбит/с, по резервному каналу на скорости до 100 Мбит/с
A22: Электричество: 220-230 Вт, 12 розеток (подведение на уровень высоты стола, одна розетка на единицу оборудования, общая мощность не менее 20 кВт), 8 пилота по 4 розетки
A23: Контур заземления для электропитания и сети слаботочных подключений (при необходимости) : не требуется
A24: Покрытие пола: плитка или наливные полы
A25: Подведение/ отведение ГХВС (при необходимости): требуется
A26: Подведение сжатого воздуха (при необходимости): не требуется
... A28: Особые требования к площадке проведения: не требуется
A29: № | B29: Наименование | C29: Краткие (рамочные) технические характеристики | D29: Вид | E29: Количество на одного участника | F29: Единица измерения | G29: Итоговое количество | H29: Рекомендации представителей индустрии (указывается конкретное оборудование) | I29: Ориентировочная стоимость за 1 шт.
A30: 1 | B30: Шкаф шоковой заморозки | C30: Десять уровней. GN 1/1 | D30: Оборудование и инструменты | E30: 4 | F30: шт | G30: 4
A31: 2 | B31: Гастроемкость из нержавеющей стали | C31: GN 1/1 530х325х20 мм | D31: Оборудование и инструменты | E31: 30 | F31: шт | G31: 30
A32: 3 | B32: Часы настенные (электронные) | C32: Характеристики позиции на усмотрение организаторов | D32: Оборудование и инструменты | E32: 4 | F32: шт | G32: 4
A33: 4 | B33: Интерактивная панель | C33: На штативе, минимум 130 дюймов по диагонали, подключение к Wi-Fi | D33: Оборудование IT | E33: 1 | F33: шт | G33: 1
A34: 5 | B34: Термометр инфракрасный | C34: Характеристики позиции на усмотрение организаторов | D34: Оборудование и инструменты | E34: 1 | F34: шт | G34: 1
A35: 6 | B35: Микроволновая печь | C35: Мощность от 0,7кВт | D35: Оборудование и инструменты | E35: 4 | F35: шт | G35: 4
A36: 7 | B36: Фритюрница | C36: Двусекционные, 2-3 литра | D36: Оборудование и инструменты | E36: 4 | F36: шт | G36: 4
A37: 8 | B37: Слайсер | C37: Деаметр режущего лезвия не менее 220 мм. | D37: Оборудование и инструменты | E37: 4 | F37: шт | G37: 4
A38: 9 | B38: Стол производственный | C38: 1800х600х850,допустимо без борта. С внутренней металической полкой, глухой. | D38: Оборудование и инструменты | E38: 12 | F38: шт | G38: 12
A39: 10 | B39: Мясорубка | C39: Производительностью не менее 20 кг в час. | D39: Оборудование и инструменты | E39: 4 | F39: шт | G39: 4
A40: 11 | B40: Блендер стационарный | C40: Объем чаши не менее 2л. | D40: Оборудование и инструменты | E40: 4 | F40: шт | G40: 4
A41: 12 | B41: Соковыжималка | C41: Мощностью не менее 200 Вт, шнекового или центрифужного типа | D41: Оборудование и инструменты | E41: 4 | F41: шт | G41: 4
... A47: 18 | B47: Дегидратор | C47: Размер решётки – 390x390 мм, Ширина мм 580, Глубина мм 420, Высота мм 400, Температурный режим, °C 30-70 | D47: Оборудование | E47: 4 | F47: шт. | G47: 4
A48: 19 | B48: Стеллаж | C48: Металлический 200x100x40, 4 полки | E48: 8 | F48: шт | G48: 8
A49: 20 | B49: Офисный стол | C49: 1400х650х750 мм | D49: Мебель | E49: 18 | F49: шт | G49: 18
A50: 21 | B50: Цифровая информационная Стелла компетенции | C50: Габаритный размер 2500мм*1000мм* 150мм, Материалы изготовления каркаса должны соответствовать ГОСТ, СНИП, Сан ПИН для проведения массовых мероприятий, Визуальное оформление выполнено в соответствии с фирменным стилем мероприятия. Включает профессиональную панель с экраном высокой яркости с диагональю 55˝, оснащённый матрицей Ultra НD и поддерживающий работу в режиме 24/7. Служит для демонстрации мультимедийного контента в общественных зонах . Экран: 55”, 60 Гц, яркость — 500 нит, разрешение — 3840×2160; Чипсет: ARM Cortex A55 × 4 или эквивалент; Память: RAM — 4 Гб, ROM — 32 Гб; Динамики: Формат звука — 2.1, количество — 2 × 10 Вт; Поддерживаемые интерфейсы: USB-C IN × 1, HDMI IN × 2, HDMI OUT × 1 (4k@30 Hz, 2.3), AUDIO OUT × 1, SPDIF OUT × 1, USB 2.0 × 1, USB 3.0 × 1, RS232 × 1 , RJ45 × 1 (10/100/1000M). Материалы изготовления каркаса соответствуют ГОСТ, СНИП, Сан ПИН для проведения массовых мероприятий. | D50: IT-оборудование | E50: 1 | F50: шт. | G50: 1
A51: Охрана труда
A52: № | B52: Наименование | C52: Краткие (рамочные) технические характеристики | D52: Вид | E52: Количество на одного участника | F52: Единица измерения | G52: Итоговое количество | H52: Рекомендации представителей индустрии (указывается конкретное оборудование) | I52: Ориентировочная стоимость за 1 шт.
A53: 1 | B53: Аптечка | C53: Аптечка для оснащения промышленных предприятий в пластиковом шкафу ФЭСТ ф.7.4 | D53: Охрана труда | E53: 1 | F53: шт. | G53: 2
A54: 2 | B54: Огнетушитель | C54: Огнетушитель пенный | D54: Охрана труда | E54: 1 | F54: шт. | G54: 4
A55: 3
A56: Брифинг зона конкурсной площадки (оборудование, инструмент, мебель) (по количеству экспертов)
A57: Требования к обеспечению зоны (коммуникации, площадь, сети, количество рабочих мест и др.):
A58: Площадь зоны: не менее 63 м.кв (9*7 метра)
A59: Освещение: Допустимо верхнее искусственное освещение ( не менее 300 люкс)
A60: Интернет : Подключение ноутбуков к беспроводному интернету (с возможностью подключения к проводному интернету)
A61: Локальная сеть: требуется; скорость подключения 300 Мбит/с; количество точек подключения 2
A62: Скорость подключения к локальному/беспроводному интернету - основной канал на скорости до 300 Мбит/с, по резервному каналу на скорости до 100 Мбит/с
A63: Электричество: 2 пилота по 6 розеток, 6 розетки по 220 Вольт
A64: Контур заземления для электропитания и сети слаботочных подключений (при необходимости) : не требуется
A65: Покрытие пола: плитка, наливные полы, линолеум, кавролин
A66: Подведение/ отведение ГХВС (при необходимости): не требуется
A67: Подведение сжатого воздуха (при необходимости): не требуется
... A69: Особые требования к площадке проведения: не требуется
A70: № | B70: Наименование | C70: Краткие (рамочные) технические характеристики | D70: Вид | E70: Количество | F70: Единица измерения | G70: Итоговое количество | H70: Рекомендации представителей индустрии (указывается конкретное оборудование) | I70: Ориентировочная стоимость за 1 шт.
A71: 1 | B71: Офисный стол | C71: (ШхГхВ) 1400х600х750 столешница не тоньше 25 мм белая или светло-серая ламинированная поверхность столешницы | D71: Мебель | E71: 1 | F71: шт | G71: 12
A72: 2 | B72: Стол компьютерный | C72: (ШхГхВ) 1200х700х750 | D72: Мебель | E72: 1 | F72: шт | G72: 2
A73: 3 | B73: Стул | C73: 4 ножки, без подлокотников | D73: Мебель | E73: 1 | F73: шт | G73: 34
A74: 4 | B74: Запираемый шкафчик | C74: не менее 4 запираемых ящиков (ШхГхВ) 400х500х500 | D74: Мебель | E74: 1 | F74: шт | G74: 2
A75: 5 | B75: Вешалка | C75: Штанга на колесах, с крючками | D75: Оборудование | E75: 1 | F75: шт | G75: 2
A76: 6 | B76: Мусорная корзина | C76: Критически важные характеристики позиции отсутствуют | D76: Оборудование | E76: 1 | F76: шт | G76: 2
A77: 7 | B77: Кресло компьютерное | C77: На колесиках, с подлокотниками синяя или серая обивка расчитанные на вес не менее 100 кг | D77: Мебель | E77: 1 | F77: шт | G77: 2
A78: 8 | B78: Стеллаж | C78: Рекомендуемые параметры: (ШхГхВ) 2000х500х2000 металлический, 5 полок | D78: Мебель | E78: 1 | F78: шт | G78: 2
A79: 9 | B79: Компьютер | C79: Core i7 или эквивалент/ DDR4 2666 mHz 32 GB/ SSD 1Tb/ видеокарта RTX 2070 8GB или эквивалент | D79: Оборудование IT | E79: 1 | F79: шт | G79: 2
A80: 10 | B80: Монитор | C80: не менее 24" | D80: Оборудование IT | E80: 1 | F80: шт | G80: 2
A81: 11 | B81: Мышь для компьютера | C81: Критически важные характеристики позиции отсутствуют | D81: Оборудование IT | E81: 1 | F81: шт | G81: 2
A82: 12 | B82: Клавиатура | C82: Критически важные характеристики позиции отсутствуют | D82: Оборудование IT | E82: 1 | F82: шт | G82: 2
... A85: 15 | B85: Лазерный принтер А4 | C85: критически важные характеристики позиции отсутствуют | D85: Оборудование IT | E85: 1 | F85: шт | G85: 1
A86: 16 | B86: Кабель для принтера | D86: Оборудование IT | E86: 1 | F86: шт | G86: =E86 -> 1
A87: 17 | B87: Экран для проектора | C87: На штативе, 16:9 | D87: Оборудование IT | E87: 1 | F87: шт | G87: 1
A88: 18 | B88: Проектор | C88: DLP, 2700 люмен, 10000:1, 1280x800, D-Sub, HDMI, RCA, S-Video, USB, LAN, ПДУ, 2D / 3D | D88: Оборудование IT | E88: 1 | F88: шт | G88: 1
A89: 19 | B89: Интерактивная панель | C89: На штативе, 2,54метра по диагонали | D89: Оборудование IT | E89: 1 | F89: шт | G89: 1
A90: 20 | B90: Акустическая система с микрофоном | C90: Количество полос 2, Максимальная мощность акустической системы 2000 Вт, Минимальная частота 20 Гц, Максимальная частота 50000 Гц | D90: Оборудование IT | E90: 1 | F90: шт | G90: 1
A91: 21 | B91: Кулер для воды 19 л. | C91: Кулер с функцией холодная/горячая вода | D91: Оборудование и инструменты | E91: 1 | F91: шт. | G91: 1
A92: 22 | B92: Флипчарт | C92: Характеристики позиции на усмотрение организаторов | D92: Оборудование и инструменты | E92: 1 | F92: шт. | G92: 1
A93: 23 | B93: Ветошь (для протирки загрязненных поверхностей) | C93: изготовлена из хлопка, размер от 50смх50см. | D93: Расходные материалы | E93: 1 | F93: шт | G93: 2
A94: 24 | B94: Одноразовые полотенца. Рулон. | C94: Салфетки (полотенца) универсальные биоразлагаемые одноразовые 100% вискоза, в рулоне, количество в 1 рулоне менее 100 штук, размер не менее 25х20 см. | D94: Расходные материалы | E94: 1 | F94: шт | G94: 2
A95: 25 | B95: Одноразовые салфетки | C95: Салфетки (полотенца) универсальные биоразлагаемые одноразовые 100% вискоза, в рулоне, количество в 1 рулоне 100 штук, размер 25х23 см. | D95: Расходные материалы | E95: 1 | F95: шт | G95: 2
A96: 26 | B96: Мусорная корзина | C96: критически важные характеристики позиции отсутствуют | D96: Мебель | E96: 1 | F96: шт. | G96: 1
A97: Программное обеспечение
A98: 1 | B98: Операционная система | C98: Операционная система должна обеспечить: - Работоспособность всего программного обеспечения необходимого для выполнения конкурсного задания в полном объёме - Стабильное и бесперебойное подключение ПК участника к сети Ethernet | D98: ПО | E98: 1 | F98: шт | G98: 2
A99: 2 | B99: Программное обеспечение для создания аналитических материалов | C99: ПО для создания аналитических материалов должно обеспечивать - Работу с растровым изображением - Работу с внедрённым изображением (обрезка, масштабирование, перемещение и т.д.) - Создание таблиц и схем - Возможность использования различных шрифтов без их внедрения в программу во время работы - Сохранение файлов с точным указанием форматов (А4, А3 и т.д.) и указанием их размеров в пикселях, миллиметрах и т.д. - Возможность создания авторской графики - Возможность работы с графическим планшетом - Сохранение итоговых файлов в форматах - .jpg (.jpeg), .pdf, .png Для обеспечения выше указанных требований/возможностей возможно использовать не одну программу, а несколько | D99: ПО | E99: 1 | F99: шт | G99: 2
A100: 3 | B100: Программное обеспечение для просмотра изображений | C100: Программное обеспечение | D100: ПО | E100: 1 | F100: шт | G100: 2
A101: 4 | B101: Медиапроигрыватель | C101: Медиапроигрователь должен обеспечить: - Воспроизведение видео и аудио файлов: Контейнерные: AVI, FLAC, FLV[a], Matroska, MP4, MPJPEG, MPEG-2 (ES, MP3), QuickTime File Format, WAV и другие Аудио: AAC, AC-3, FLAC, MP3 и другие Видео: H.263, H.264/MPEG-4 AVC, H.265/MPEG-H HEVC, MJPEG, MPEG-1, MPEG-2, MPEG-4 и другие | D101: ПО | E101: 1 | F101: шт | G101: 2
A102: 5 | B102: Программное обеспечение для просмотра файлов в формате .pdf | C102: ПО для просмотра файлов в формате .pdf должно обеспечивать: - Открытие файлов в формате .pdf (как одностраничных, так и много страничных) - Возможность масштабировать и изменять ориентацию изображения | D102: ПО | E102: 1 | F102: шт | G102: 2
A103: 6 | B103: Программное обеспечение для создания презентаций | C103: ПО для создания презентаций должно обеспечивать: - Создание много страничных, статичных презентаций - Работу с растровым изображением - Работу с внедрённым изображением (обрезка, масштабирование, перемещение и тд) - Создание таблиц и схем - Возможность использования различных шрифтов без их внедрения в программу во время работы - Возможность использования аудио и видео файлов в создании презентации - Возможность создание анимированных переходов между слайдами, текстовыми или иными материалами - Возможность записи голоса поверх видео ряда - Возможность сохранения итогового файла в формате .pdf, .avi, .mpg4 (.mpeg4) | D103: ПО | E103: 1 | F103: шт | G103: 2
A104: 7 | B104: Интернет-браузер | C104: Интернет-браузер доложен обеспечивать: - Быстрый и безопасный поиск информационных материалов - Давать возможность взаимодействия с системами обмена файлами (принятие и отправка файлов) - Доступ к e-mail участника - Давать возможность безопасно копировать текстовую и визуальную информацию из открытых источников | D104: ПО | E104: 1 | F104: шт | G104: 2
A105: 8 | B105: Пакет офисных программ | C105: Пакет офисных программ должен обеспечить: - Работу с текстовыми файлами в формате .doc, .docx - Работу с электронными таблицами в формате .xlsx и его интерпритации - Чтение и создание документов и их сохранение в выше указанных форматах - Работу с табличными данными, текстом, изображением | D105: ПО | E105: 1 | F105: шт | G105: 2
A106: 9 | B106: Программное обеспечение для сканирования | C106: в зависимости от установленного оборудования | D106: ПО | E106: 1 | F106: шт | G106: 2
A107: Охрана труда
A108: № | B108: Наименование | C108: Краткие (рамочные) технические характеристики | D108: Вид | E108: Количество на одного участника | F108: Единица измерения | G108: Итоговое количество | H108: Рекомендации представителей индустрии (указывается конкретное оборудование) | I108: Ориентировочная стоимость за 1 шт.
A109: 1 | B109: Аптечка | C109: Аптечка для оснащения промышленных предприятий в пластиковом шкафу ФЭСТ ф.7.4 | D109: Охрана труда | E109: 1 | F109: шт. | G109: 1
...

Sheet Рабочее место конкурсантов
A1: Инфраструктурный лист для оснащения конкурсной площадки
A2: ='Информация о Чемпионате'!B4 -> Финал Чемпионата по профессиональному мастерству "Профессионалы" 2027
A3: по компетенции
A4: ='Информация о Чемпионате'!B3 -> Поварское дело (оснавная)
A5: Основная информация о конкурсной площадке:
A6: Субъект Российской Федерации: | C6: ='Информация о Чемпионате'!B5 -> г.Санкт-Петербург
A7: Базовая организация расположения конкурсной площадки: | D7: ='Информация о Чемпионате'!B6 -> Конгрессно-выставочный центр "Экспофорум"
A8: Адрес базовой организации: | C8: ='Информация о Чемпионате'!B7 -> г. Санкт-Петербург, Петербургское шоссе, 64, корп. 1
A9: Главный эксперт: | C9: ='Информация о Чемпионате'!B9 -> Иришкин Евгений Николаевич | E9: ='Информация о Чемпионате'!B10 -> evgeniy-irishkin@mail.ru | G9: ='Информация о Чемпионате'!B11 -> 89313355913
A10: Технический администратор площадки: | C10: ='Информация о Чемпионате'!B12 -> 0 | E10: ='Информация о Чемпионате'!B13 -> 0 | G10: ='Информация о Чемпионате'!B14 -> 0
A11: Количество экспертов (ЭН+ГЭ+ИЭ) + ТАП: | C11: ='Информация о Чемпионате'!B17 -> 18
A12: Количество конкурсантов: | C12: ='Информация о Чемпионате'!B15 -> 15
A13: Количество рабочих мест: | C13: ='Информация о Чемпионате'!B16 -> 15
A14: Даты проведения: | C14: ='Информация о Чемпионате'!B8 -> 29.11 - 04.12.2026
A15: Рабочее место Конкурсанта (основное оборудование, вспомогательное оборудование, инструмент (по количеству рабочих мест))
A16: Требования к обеспечению зоны (коммуникации, площадь, сети, количество рабочих мест и др.):
A17: Площадь зоны: 16 кв.м.
A18: Освещение: Допустимо верхнее искусственное освещение ( не менее 300 люкс) , дополнительный свет над каждым рабочим местом(3 светильника)
A19: Интернет : Подключение ноутбуков к беспроводному интернету (с возможностью подключения к проводному интернету)
A20: Локальная сеть: требуется; скорость подключения 300 Мбит/с; количество точек подключения 2
A21: Скорость подключения к локальному/беспроводному интернету - основной канал на скорости до 300 Мбит/с, по резервному каналу на скорости до 100 Мбит/с
A22: Электричество: на 1 бокс для участника, 380 вольт , 220-230 Вт, мощность не менее 25 кВт, 8 розеток подвод на уровне стола с двух сторон(на каждый стол по 4 розетки)
A23: Контур заземления для электропитания и сети слаботочных подключений (при необходимости) : не требуется
A24: Покрытие пола: плитка или наливные полы
A25: Подведение/ отведение ГХВС (при необходимости): требуется
A26: Подведение сжатого воздуха (при необходимости): не требуется
... A28: Особые требования к площадке проведения: не требуется
A29: № | B29: Наименование | C29: Краткие (рамочные) технические характеристики | D29: Вид | E29: Количество на одного конкурсанта | F29: Единица измерения | G29: Итоговое количество | H29: Рекомендации представителей индустрии (указывается конкретное оборудование) | I29: Ориентировочная стоимость за 1 шт.
A30: 1 | B30: Стол производственный | C30: Yх600х850, где Y допустимый суммарный размер всей свободной рабочей поверхности от 3,6 до 5,4м., допустимо без борта. С внутренней металической полкой, глухой. | D30: Оборудование и инструменты | E30: 3 | F30: шт | G30: 45
A31: 2 | B31: Стол-подставка под пароконвектомат | C31: Зависит от модели пароконвектомата. | D31: Оборудование и инструменты | E31: 1 | F31: шт | G31: 15
A32: 3 | B32: Пароконвектомат | C32: Допустимая минимальная мощность от 6,3 кВт. Количество уровней от 5 шт. GN 1/1. | D32: Оборудование и инструменты | E32: 1 | F32: шт | G32: 15
A33: 4 | B33: Весы настольные электронные (профессиональные) | C33: Наибольший предел взвешивания 5кг наименьший предел взвешевния не более 5г, дискретность 2гр. | D33: Оборудование и инструменты | E33: 1 | F33: шт | G33: 15
A34: 5 | B34: Плита индукционная | C34: 4греющих поверхности, 380 В., 14 кВт. | D34: Оборудование и инструменты | E34: 1 | F34: шт | G34: 15
A35: 6 | B35: Гастроемкость из нержавеющей стали с крышкой | C35: GN 1/1 530х325х20 мм. | D35: Оборудование и инструменты | E35: 3 | F35: шт | G35: 45
A36: 7 | B36: Гастроемкость из нержавеющей стали с крышкой | C36: GN 2/3 354х325х40 мм. | D36: Оборудование и инструменты | E36: 2 | F36: шт | G36: 30
A37: 8 | B37: Гастроемкость из нержавеющей стали с крышкой | C37: GN 2/3 354х325х65 мм. | D37: Оборудование и инструменты | E37: 1 | F37: шт | G37: 15
A38: 9 | B38: Гастроемкость из нержавеющей стали с крышкой | C38: GN 2/3 354х325х200 мм. | D38: Оборудование и инструменты | E38: 1 | F38: шт | G38: 15
A39: 10 | B39: Гастроемкость из нержавеющей стали с крышкой | C39: GN 1/2 265х325х20 мм. | D39: Оборудование и инструменты | E39: 2 | F39: шт | G39: 30
A40: 11 | B40: Гастроемкость из нержавеющей стали с крышкой | C40: GN 1/2 265х325х65 мм | D40: Оборудование и инструменты | E40: 2 | F40: шт | G40: 30
A41: 12 | B41: Гастроемкость из нержавеющей стали с крышкой | C41: GN 1/3 176х325х40мм. | D41: Оборудование и инструменты | E41: 2 | F41: шт | G41: 30
... A86: 57 | B86: Машинка для раскатки теста с насадками | C86: Характеристики позиции на усмотрение организаторов | D86: Оборудование и инструменты | E86: 1 | F86: шт | G86: 15
A87: Охрана труда
A88: № | B88: Наименование | C88: Краткие (рамочные) технические характеристики | D88: Вид | E88: Количество на одного конкурсанта | F88: Единица измерения | G88: Итоговое количество | H88: Рекомендации представителей индустрии (указывается конкретное оборудование) | I88: Ориентировочная стоимость за 1 шт.
A89: 1 | B89: Аптечка | C89: Аптечка для оснащения промышленных предприятий в пластиковом шкафу ФЭСТ ф.7.4 | D89: Охрана труда | E89: 1 | F89: шт. | G89: 2
A90: 2 | B90: Огнетушитель | C90: Огнетушитель пенный | D90: Охрана труда | E90: 1 | F90: шт. | G90: 2

Sheet Расходные материалы
A1: Инфраструктурный лист для оснащения конкурсной площадки
A2: ='Информация о Чемпионате'!B4 -> Финал Чемпионата по профессиональному мастерству "Профессионалы" 2027
A3: по компетенции
A4: ='Информация о Чемпионате'!B3 -> Поварское дело (оснавная)
A5: Основная информация о конкурсной площадке:
A6: Субъект Российской Федерации: | C6: ='Информация о Чемпионате'!B5 -> г.Санкт-Петербург
A7: Базовая организация расположения конкурсной площадки: | D7: ='Информация о Чемпионате'!B6 -> Конгрессно-выставочный центр "Экспофорум"
A8: Адрес базовой организации: | C8: ='Информация о Чемпионате'!B7 -> г. Санкт-Петербург, Петербургское шоссе, 64, корп. 1
A9: Главный эксперт: | C9: ='Информация о Чемпионате'!B9 -> Иришкин Евгений Николаевич | E9: ='Информация о Чемпионате'!B10 -> evgeniy-irishkin@mail.ru | G9: ='Информация о Чемпионате'!B11 -> 89313355913
A10: Технический администратор площадки: | C10: ='Информация о Чемпионате'!B12 -> 0 | E10: ='Информация о Чемпионате'!B13 -> 0 | G10: ='Информация о Чемпионате'!B14 -> 0
A11: Количество экспертов (ЭН+ГЭ+ИЭ) + ТАП: | C11: ='Информация о Чемпионате'!B17 -> 18
A12: Количество конкурсантов: | C12: ='Информация о Чемпионате'!B15 -> 15
A13: Количество рабочих мест: | C13: ='Информация о Чемпионате'!B16 -> 15
A14: Даты проведения: | C14: ='Информация о Чемпионате'!B8 -> 29.11 - 04.12.2026
A15: Рабочее место Конкурсанта (расходные материалы по количеству конкурсантов)
A16: № | B16: Наименование | C16: Краткие (рамочные) технические характеристики | D16: Вид | E16: Количество на одного конкурсанта | F16: Единица измерения | G16: Итоговое количество | H16: Рекомендации представителей индустрии (указывается конкретное оборудование)
A17: 1 | B17: Пергамент рулон | C17: Бумага для выпечки, 50м х 38см | D17: Расходные материалы | E17: 1 | F17: шт | G17: =E17*15 -> 15
A18: 2 | B18: Фольга рулон 10м | C18: Фольга 11мкрн 100м, 440мм | D18: Расходные материалы | E18: 1 | F18: шт | G18: 15
A19: 3 | B19: Скатерть для презентационного стола белая | C19: Тип Скатерть Материал Хлопок, Полиэфир Размер, см 145x145 Форма Круг Ширина, см 145 | D19: Расходные материалы | E19: 1 | F19: шт | G19: =E19*15 -> 15
A20: 4 | B20: Бумажные полотенца | C20: Двухслойные, 2 шт. в упаковке | D20: Расходные материалы | E20: 12 | F20: упаковка | G20: =E20*15 -> 180
A21: 5 | B21: Губка для мытья посуды | C21: Не менее 10 см в длинну | D21: Расходные материалы | E21: 4 | F21: шт | G21: 60
A22: 6 | B22: Мочалка металическая | C22: Для посуды | D22: Расходные материалы | E22: 1 | F22: шт | G22: 15
A23: 7 | B23: Полотенца х/б для протир. тарелок | C23: Полотенца однотонные, белые | D23: Расходные материалы | E23: 10 | F23: шт | G23: =E23*15 -> 150
A24: 8 | B24: Контейнеры одноразовые для пищ продуктов с крышкей | C24: 500мл | D24: Расходные материалы | E24: 45 | F24: шт | G24: =E24*15 -> 675
A25: 9 | B25: Контейнеры одноразовые для пищ продуктов с крышкей | C25: 300мл | D25: Расходные материалы | E25: 45 | F25: шт | G25: =E25*15 -> 675
A26: 10 | B26: Контейнеры одноразовые для пищ продуктов с крышкей | C26: 1000мл | D26: Расходные материалы | E26: 45 | F26: шт | G26: =E26*15 -> 675
A27: 11 | B27: Стаканы одноразовые | C27: 200мл | D27: Расходные материалы | E27: 100 | F27: шт | G27: =E27*15 -> 1500
A28: 12 | B28: Пакеты для мусора | C28: 60 л | D28: Расходные материалы | E28: 1 | F28: рулон | G28: =E28*15 -> 15
A29: 13 | B29: Пакеты для мусора | C29: 200 л | D29: Расходные материалы | E29: 1 | F29: рулон | G29: =E29*15 -> 15
A30: 14 | B30: Чашки пластиковые для горячего | C30: 250мл | D30: Расходные материалы | E30: 10 | F30: шт | G30: =E30*15 -> 150
A31: 15 | B31: Перчатки силиконовые одноразовые | C31: Размер S;M;L (100 пар в уп) | D31: Расходные материалы | E31: 3 | F31: упаковка | G31: =E31*15 -> 45
A32: 16 | B32: Вода | C32: Бутыль 19л | D32: Расходные материалы | E32: 1 | F32: шт | G32: =E32*15 -> 15
A33: 17 | B33: Плёнка пищевая | C33: Пленка-стрейч пищевая 300м х 45см | D33: Расходные материалы | E33: 2 | F33: шт | G33: =E33*15 -> 30
A34: 18 | B34: Вакуумные пакеты, разных размеров | C34: Материал ПЭТ (Полиэтилентерефталат), Лавсан Размеры, мм 100х280, 140х250, 180х300, 250х250 Страна-изготовитель Россия Цвет Прозрачный | D34: Расходные материалы | E34: 30 | F34: шт | G34: =E34*15 -> 450
... A41: 25 | B41: Масло растительное для фритюра | C41: Тип Масло подсолнечное Способ очистки Рафинированное Особенности производства масла Холодный отжим | D41: Расходные материалы | E41: 5 | F41: л | G41: =E41*15 -> 75
A42: 26 | B42: Колпак поварской | C42: 35 см, флисовый, с рёбрами | D42: Расходные материалы | E42: 160 | F42: шт | G42: 160
A43: 27 | B43: Микрофибра | C43: 40х40 | D43: Расходные материалы | E43: 2 | F43: л | G43: =E43*15 -> 30
A44: Расходные материалы на всех конкурсантов и экспертов
A45: № | B45: Наименование | C45: Краткие (рамочные) технические характеристики | D45: Вид | E45: Количество на одного участника | F45: Единица измерения | G45: Итоговое количество | H45: Рекомендации представителей индустрии (указывается конкретное оборудование)
A46: 1 | B46: Бумага А4 | C46: Бумага офисная А4, 80 г/м2, 500 л., марка С | D46: Расходные материалы | E46: 10 | F46: пачка 500 листов | G46: 10
A47: 2 | B47: Скотч двусторонний | C47: Белый скотч, рулон | D47: Расходные материалы | E47: 6 | F47: шт | G47: 6
A48: 3 | B48: Ручка шариковая | C48: Ручка оранжевая/прозрачная шариковая с синеми чернилами | D48: Расходные материалы | E48: 40 | F48: шт | G48: 40
A49: 4 | B49: Степлер со скобами | C49: Степлер со скобами | D49: Расходные материалы | E49: 2 | F49: шт | G49: 2
A50: 5 | B50: Скрепки канцелярские | C50: Скрепки 28 мм, 100 шт | D50: Расходные материалы | E50: 2 | F50: упак | G50: 2
A51: 6 | B51: Файлы А4 | C51: Файлы 50 шт | D51: Расходные материалы | E51: 2 | F51: упак | G51: 2
A52: 7 | B52: Маркеры цветные | C52: Маркер черный,красный, жёлтый | D52: Расходные материалы | E52: 2 | F52: шт | G52: 2
A53: 8 | B53: Маркер | C53: Чёрный, акриловый | D53: Расходные материалы | E53: 4 | F53: шт | G53: 4
A54: 9 | B54: Маркер | C54: Чёрный, перманентный | D54: Расходные материалы | E54: 4 | F54: шт | G54: 4
A55: 10 | B55: Планшет формата А4 | C55: Планшет синий, черный | D55: Расходные материалы | E55: 20 | F55: шт | G55: 20
A56: 11 | B56: Скотч широкий | C56: Скотч прозрачный, ШИРОКИЙ | D56: Расходные материалы | E56: 15 | F56: шт | G56: 15
A57: 12 | B57: Нож канцелярский | C57: Нож канцелярский узкий | D57: Расходные материалы | E57: 3 | F57: шт | G57: 3
... A81: 36 | B81: Перчатки силиконовые одноразовые | C81: Размер S;M;L (100 пар в уп) | D81: Расходные материалы | E81: 3 | F81: упаковка | G81: 3
A82: Охрана труда
A83: № | B83: Наименование | C83: Краткие (рамочные) технические характеристики | D83: Вид | E83: Количество на одного участника | F83: Единица измерения | G83: Итоговое количество | H83: Рекомендации представителей индустрии (указывается конкретное оборудование)
A84: 1 | B84: Салфетки влажные антибактериальные | C84: Количество в упаковке:150 шт. Материал: нетканый материал | D84: Расходные материалы | E84: 1 | F84: упак. | G84: 3
A85: 2 | B85: СИЗ | C85: Специальная одежда и обувь | D85: Расходные материалы | E85: 1 | F85: шт. | G85: 1
A86: 3 | B86: Вода | C86: Бутыль 19л | D86: Расходные материалы | E86: 5 | F86: шт | G86: 5
A87: 4 | B87: Перчатки х/б | C87: Строительные, плотные | D87: Расходные материалы | E87: 5 | F87: шт. | G87: 5

Sheet Личный инструмент конкурсанта
A1: Инфраструктурный лист для оснащения конкурсной площадки
A2: ='Информация о Чемпионате'!B4 -> Финал Чемпионата по профессиональному мастерству "Профессионалы" 2027
A3: по компетенции
A4: ='Информация о Чемпионате'!B3 -> Поварское дело (оснавная)
A5: Личный инструмент конкурсанта
B6: Комплектация ящика для инструментов зависит от разработанных блюд конкурсантом, в соответствии с конкурсным заданием. Конкурсант может добавлять необходимый инвентарь, которого нет в перечне ниже и заменять позиции с другими характеристиками в необходимом ему количестве.
A7: № | B7: Наименование | C7: Краткие (рамочные) технические характеристики | D7: Вид | E7: Количество | F7: Единица измерения | G7: Примечание
A8: 1 | B8: Ящик для инструментов | C8: Характеристики позиции на усмотрение конкурсанта | E8: 1 | F8: шт | G8: Допустимы колёса и ручка
A9: 2 | B9: Баллончики для кремера N2O | C9: Характеристики позиции на усмотрение конкурсанта | E9: Количество позиции на усмотрение конкурсанта | F9: шт
A10: 3 | B10: Баллончики для кремера CO2 | C10: Характеристики позиции на усмотрение конкурсанта | E10: Количество позиции на усмотрение конкурсанта | F10: шт
A11: 4 | B11: Блендер Nutribullet Pro | C11: Характеристики позиции на усмотрение конкурсанта | E11: Количество позиции на усмотрение конкурсанта | F11: шт
A12: 5 | B12: Венчик профессиональный | C12: Характеристики позиции на усмотрение конкурсанта | E12: Количество позиции на усмотрение конкурсанта | F12: шт
A13: 6 | B13: Весы молекулярные | C13: Характеристики позиции на усмотрение конкурсанта | E13: Количество позиции на усмотрение конкурсанта | F13: шт
A14: 7 | B14: Вилка столовая | C14: Характеристики позиции на усмотрение конкурсанта | E14: Количество позиции на усмотрение конкурсанта | F14: шт
A15: 8 | B15: Ложка столовая | C15: Характеристики позиции на усмотрение конкурсанта | E15: Количество позиции на усмотрение конкурсанта | F15: шт
A16: 9 | B16: Воронка-дозатор для кондитерских изделий с клапаном | C16: Характеристики позиции на усмотрение конкурсанта | E16: Количество позиции на усмотрение конкурсанта | F16: шт
A17: 10 | B17: Воронка-сито для сифонов | C17: Характеристики позиции на усмотрение конкурсанта | E17: Количество позиции на усмотрение конкурсанта | F17: шт
A18: 11 | B18: Вырубки прямоугольные | C18: Характеристики позиции на усмотрение конкурсанта | E18: Количество позиции на усмотрение конкурсанта | F18: шт
A19: 12 | B19: Газовая горелка с пьезоподжигом | C19: Характеристики позиции на усмотрение конкурсанта | E19: Количество позиции на усмотрение конкурсанта | F19: шт
A20: 13 | B20: Газовый баллон для горелки | C20: Характеристики позиции на усмотрение конкурсанта | E20: Количество позиции на усмотрение конкурсанта | F20: шт
... A121: 114 | B121: Форма для выпечки коржей | C121: Характеристики позиции на усмотрение конкурсанта | E121: Количество позиции на усмотрение конкурсанта | F121: шт

Sheet Список продуктов
A1: СПИСОК ПРОДУКТОВ
A2: "Поварское дело"
A3: Дата отправки списка продуктов организаторам | B3: За одну неделю до чемпионата
A4: Лист заказа для: | B4: Название региона
A5: Имя конкурсанта: | B5: ФИО конкурсанта
A6: Имя Эксперта компатриота: | B6: ФИО эксперта компатриота
A7: Электронной почта участника: | B7: Ввести адрес электронной почты участника
A8: Телефон участника: | B8: Ввести телефон участника
A9: Электронная почта эксперта компатриота: | B9: Ввести адрес электронной почты эксперта компатриота
A10: Телефон эксперта компатриота: | B10: Ввести телефон эксперта компатриота
A11: Ингредиенты | B11: ЕДИНИЦА | C11: МАКС. | D11: ОСТАТОК | E11: МОДУЛИ - А, Б, В | F11: МОДУЛИ - Г, Д, Е | G11: МОДУЛИ - Ж, З, И | H11: Примечание
A12: МОЛОЧНЫЕ ПРОДУКТЫ
A13: Брынза | B13: г | C13: 300 | D13: =C13-E13-F13-G13 -> 300
A14: Йогурт натуральный | B14: г | C14: 500 | D14: =C14-E14-F14-G14 -> 500
A15: Кефир 1,5% | B15: мл | C15: 1500 | D15: =C15-E15-F15-G15 -> 1500
A16: Кокосовое молоко | B16: мл | C16: 1000 | D16: =C16-E16-F16-G16 -> 1000
A17: Молоко 3,2 % | B17: мл | C17: 1500 | D17: =C17-E17-F17-G17 -> 1500
A18: Моцарелла | B18: г | C18: 300 | D18: =C18-E18-F18-G18 -> 300
A19: Сгущённое молоко | B19: г | C19: 400 | D19: =C19-E19-F19-G19 -> 400
A20: Сливки 25% | B20: г | C20: 2000 | D20: =C20-E20-F20-G20 -> 2000
A21: Сливки для взбивания 35% | B21: г | C21: 2000 | D21: =C21-E21-F21-G21 -> 2000
A22: Сливочное масло 82,5% | B22: г | C22: 2000 | D22: =C22-E22-F22-G22 -> 2000
A23: Сметана 20% | B23: г | C23: 500 | D23: =C23-E23-F23-G23 -> 500
A24: Страчателла | B24: г | C24: 300 | D24: =C24-E24-F24-G24 -> 300
... A36: Яйцо куриное С1 | B36: шт | C36: 30 | D36: =C36-E36-F36-G36 -> 30
A37: ОВОЩИ СВЕЖИЕ
A38: Баклажан фиолетовый | B38: г | C38: 600 | D38: =C38-E38-F38-G38 -> 600
A39: Батат | B39: г | C39: 600 | D39: =C39-E39-F39-G39 -> 600
A40: Брокколи | B40: г | C40: 1000 | D40: =C40-E40-F40-G40 -> 1000
A41: Грибы вешенки | B41: г | C41: 300 | D41: =C41-E41-F41-G41 -> 300
A42: Грибы шампиньоны | B42: г | C42: 600 | D42: =C42-E42-F42-G42 -> 600
A43: Дайкон | B43: г | C43: 1000 | D43: =C43-E43-F43-G43 -> 1000
A44: Имбирь | B44: г | C44: 600 | D44: =C44-E44-F44-G44 -> 600
A45: Капуста белокочанная | B45: г | C45: 400 | D45: =C45-E45-F45-G45 -> 400
A46: Капуста пекинская | B46: г | C46: 400 | D46: =C46-E46-F46-G46 -> 400
A47: Картофель крахмальный | B47: г | C47: 1500 | D47: =C47-E47-F47-G47 -> 1500
A48: Лук красный | B48: г | C48: 400 | D48: =C48-E48-F48-G48 -> 400
A49: Лук порей | B49: г | C49: 600 | D49: =C49-E49-F49-G49 -> 600
... A65: Чеснок | B65: г | C65: 300 | D65: =C65-E65-F65-G65 -> 300
A66: СВЕЖИЕ ТРАВЫ
A67: Базилик(зелёный) | B67: г | C67: 50 | D67: =C67-E67-F67-G67 -> 50
A68: Кинза | B68: г | C68: 50 | D68: =C68-E68-F68-G68 -> 50
A69: Лимонная трава | B69: г | C69: 20 | D69: =C69-E69-F69-G69 -> 20
A70: Лук зеленый | B70: г | C70: 50 | D70: =C70-E70-F70-G70 -> 50
A71: Мята | B71: г | C71: 50 | D71: =C71-E71-F71-G71 -> 50
A72: Петрушка листовая | B72: г | C72: 100 | D72: =C72-E72-F72-G72 -> 100
A73: Розмарин | B73: г | C73: 50 | D73: =C73-E73-F73-G73 -> 50
A74: Ростки микрозелени | B74: г | C74: 20 | D74: =C74-E74-F74-G74 -> 20
A75: Тимьян | B75: г | C75: 20 | D75: =C75-E75-F75-G75 -> 20
A76: Укроп | B76: г | C76: 100 | D76: =C76-E76-F76-G76 -> 100
A77: Шпинат свежий | B77: г | C77: 200 | D77: =C77-E77-F77-G77 -> 200
A78: ФРУКТЫ
A79: Авокадо Хасс | B79: г | C79: 400 | D79: =C79-E79-F79-G79 -> 400
A80: Апельсин | B80: г | C80: 400 | D80: =C80-E80-F80-G80 -> 400
A81: Банан | B81: г | C81: 400 | D81: =C81-E81-F81-G81 -> 400
A82: Грейпфрут | B82: г | C82: 400 | D82: =C82-E82-F82-G82 -> 400
A83: Груша конференция | B83: г | C83: 500 | D83: =C83-E83-F83-G83 -> 500
A84: Киви | B84: г | C84: 400 | D84: =C84-E84-F84-G84 -> 400
A85: Лайм | B85: г | C85: 400 | D85: =C85-E85-F85-G85 -> 400
A86: Лимон | B86: г | C86: 400 | D86: =C86-E86-F86-G86 -> 400
A87: Мандарины | B87: г | C87: 400 | D87: =C87-E87-F87-G87 -> 400
A88: Яблоки зеленые Грени Смитт | B88: г | C88: 400 | D88: =C88-E88-F88-G88 -> 400
A89: Яблоки красные (сладкие) | B89: г | C89: 400 | D89: =C89-E89-F89-G89 -> 400
A90: ЗАМОРОЖЕННЫЕ ПРОДУКТЫ
A91: Брокколи | B91: г | C91: 400 | D91: =C91-E91-F91-G91 -> 400
A92: Брусника | B92: г | C92: 400 | D92: =C92-E92-F92-G92 -> 400
A93: Вишня | B93: г | C93: 400 | D93: =C93-E93-F93-G93 -> 400
A94: Горошек зеленый | B94: г | C94: 400 | D94: =C94-E94-F94-G94 -> 400
A95: Ежевика | B95: г | C95: 400 | D95: =C95-E95-F95-G95 -> 400
A96: Клубника | B96: г | C96: 400 | D96: =C96-E96-F96-G96 -> 400
A97: Клюква | B97: г | C97: 400 | D97: =C97-E97-F97-G97 -> 400
A98: Малина | B98: г | C98: 400 | D98: =C98-E98-F98-G98 -> 400
A99: Облепиха | B99: г | C99: 400 | D99: =C99-E99-F99-G99 -> 400
A100: Пюре ананаса замороженное | B100: г | C100: 500 | D100: =C100-E100-F100-G100 -> 500
A101: Пюре малины замороженное | B101: г | C101: 500 | D101: =C101-E101-F101-G101 -> 500
A102: Пюре манго замороженное | B102: г | C102: 500 | D102: =C102-E102-F102-G102 -> 500
... A114: Шпинат | B114: г | C114: 400 | D114: =C114-E114-F114-G114 -> 400
A115: СУХИЕ ПРОДУКТЫ
A116: Агар-Агар ( прочность по Блуму 900 г/см) | B116: г | C116: 30 | D116: =C116-E116-F116-G116 -> 30
A117: Водоросли Комбу (DASHI KOMBU) | B117: г | C117: 100 | D117: =C117-E117-F117-G117 -> 100
A118: Грибная смесь из сушеных дикорастущих грибов | B118: г | C118: 50 | D118: =C118-E118-F118-G118 -> 50
A119: Грибы сушеные Белые | B119: г | C119: 50 | D119: =C119-E119-F119-G119 -> 50
A120: Грибы сушеные Шиитаке | B120: г | C120: 50 | D120: =C120-E120-F120-G120 -> 50
A121: Желатин гранулированный | B121: г | C121: 50 | D121: =C121-E121-F121-G121 -> 50
A122: Желатин листовой | B122: г | C122: 50 | D122: =C122-E122-F122-G122 -> 50
A123: Кофе молотый | B123: г | C123: 50 | D123: =C123-E123-F123-G123 -> 50
A124: Морская водоросль Нори | B124: г | C124: 50 | D124: =C124-E124-F124-G124 -> 50
A125: Пектин NH | B125: г | C125: 50 | D125: =C125-E125-F125-G125 -> 50
A126: Рисовая бумага | B126: г | C126: 100 | D126: =C126-E126-F126-G126 -> 100
A127: Стружка кокосовая | B127: г | C127: 100 | D127: =C127-E127-F127-G127 -> 100
... A130: Чай зеленый МАТЧА | B130: г | C130: 50 | D130: =C130-E130-F130-G130 -> 50
A131: КОНСЕРВИРОВАННЫЕ ПРОДУКТЫ
A132: Ананасы консервированные | B132: г | C132: 300 | D132: =C132-E132-F132-G132 -> 300
A133: Каперсы (соцветия маринованные) | B133: г | C133: 100 | D133: =C133-E133-F133-G133 -> 100
A134: Горошек зеленый консервированный | B134: г | C134: 100 | D134: =C134-E134-F134-G134 -> 100
A135: Кукуруза консервированная | B135: г | C135: 100 | D135: =C135-E135-F135-G135 -> 100
A136: Нут консервированный | B136: г | C136: 100 | D136: =C136-E136-F136-G136 -> 100
A137: Огурцы соленые | B137: г | C137: 300 | D137: =C137-E137-F137-G137 -> 300
A138: Оливки зеленые (без косточки) | B138: г | C138: 300 | D138: =C138-E138-F138-G138 -> 300
A139: Оливки чёрные (без косточки) | B139: г | C139: 300 | D139: =C139-E139-F139-G139 -> 300
...

Sheet Чёрные ящики
A1: Варианты продуктов для чёрных ящиков
B2: Название модуля
B3: Модуль | C3: Модуль | D3: Модуль
A4: 1 | B4: Артишоки конс | C4: Артишоки конс | D4: Апельсин
A5: 2 | B5: Батат | C5: Батат | D5: Банан
A6: 3 | B6: Грибы белые зам | C6: Грибы белые зам | D6: Батат
A7: 4 | B7: Грибы вешенки | C7: Грибы вешенки | D7: Брусника
A8: 5 | B8: Грибы лисички зам | C8: Грибы лисички зам | D8: Брынза
A9: 6 | B9: Грибы опята конс | C9: Грибы опята конс | D9: Вишня
A10: 7 | B10: Грибы шампиньлны | C10: Грибы шампиньлны свежие | D10: Грейпфрут
A11: 8 | B11: Грибы шитаки сухие | C11: Грибы шитаки сухие | D11: Ежевика
A12: 9 | B12: Груша | C12: Дайкон | D12: Изюм
A13: 10 | B13: Зелёный горошек | C13: Кабачок | D13: Имбирь
A14: 11 | B14: Кабачок | C14: Капуста брюсельская | D14: Инжир
A15: 12 | B15: Каперсы плоды | C15: Капуста квашеная | D15: Йогурт натуральный
... A37: 34 | B37: Сельдерей стебель | C37: Яблоки зелёные | D37: Сыр Гауда
A38: 35 | B38: Спаржа зеленая | D38: Сыр Горгонзола
A39: 36 | B39: Сыр Брынза | D39: Сыр Грюйер
A40: 37 | B40: Сыр Горгонзола | D40: Сыр Дор блю
A41: 38 | B41: Сыр Дор блю | D41: Сыр Маскарпоне
A42: 39 | B42: Сыр Моцарелла | D42: Сыр Пармезан
A43: 40 | B43: Сыр Рикотта | D43: Сыр Творожный
A44: 41 | B44: Сыр Фета | D44: Сыр тофу
A45: 42 | B45: Томаты вяленные | D45: Сыр Чеддер
A46: 43 | B46: Тыква | D46: Тапиока в шариках
A47: 44 | B47: Фасоль белая конс | D47: Творог 5%
A48: 45 | B48: Фасоль зелёная зам | D48: Творожный козий сыр
A49: 46 | B49: Фасоль красная конс | D49: Тыква
... A53: 50 | B53: Яблоки | D53: Яблоки

Sheet Лист1
B2: список
B3: Оборудование и инструменты
B4: Мебель
B5: IT-оборудование
B6: ПО
B7: Охрана труда
B8: Расходные материалы
