Workbook
Name список: Лист1!$B$3:$B$8

Sheet Информация о Чемпионате
A3: Компетенция (основная/юниоры) | B3: Сантехника и отопление
A4: Наименование этапа Чемпионата | B4: Финал чемпионата по профессиональному мастерству "Профессионалы" 2026
A5: Субъект РФ (регион проведения) | B5: г. Санкт-Петербург
A6: Базовая организация расположения конкурсной площадки | B6: КВЦ «ЭКСПОФОРУМ»
A7: Адрес конкурсной площадки | B7: Петербургское ш., 64, корп. 1, посёлок Шушары
A8: Даты проведения | B8: 29.11.2026 - 04.12.2026
A9: Главный эксперт | B9: Леобакин Андрей Петрович
A10: Электронная почта ГЭ | B10: leobakin@gmail.com
A11: Моб.телефон ГЭ | B11: 89373780055
A12: Технический администратор площадки
A13: Электронная почта ТАП
A14: Моб.телефон ТАП
A15: Количество конкурсантов | B15: 15
A16: Количество рабочих мест | B16: 15
A17: Количество экспертов (ГЭ+ЭН+ИЭ+МЭ)+ТАП+Технический ассистент ТАП | B17: 18
A20: ЭН - эксперт-наставник
A21: ГЭ - главный эксперт
A22: ИЭ - индустриальный эксперт
A23: МЭ - международный эксперт
A24: ТАП - технический администратор площадки
A25: Технический ассистент ТАП

Sheet Общая инфраструктура
A1: Инфраструктурный лист для оснащения конкурсной площадки
A2: ='Информация о Чемпионате'!B4 -> Финал чемпионата по профессиональному мастерству "Профессионалы" 2026
A3: по компетенции
A4: ='Информация о Чемпионате'!B3 -> Сантехника и отопление
A5: Основная информация о конкурсной площадке:
A6: Субъект Российской Федерации: | C6: ='Информация о Чемпионате'!B5 -> г. Санкт-Петербург
A7: Базовая организация расположения конкурсной площадки: | D7: ='Информация о Чемпионате'!B6 -> КВЦ «ЭКСПОФОРУМ»
A8: Адрес базовой организации: | C8: ='Информация о Чемпионате'!B7 -> Петербургское ш., 64, корп. 1, посёлок Шушары
A9: Главный эксперт: | C9: ='Информация о Чемпионате'!B9 -> Леобакин Андрей Петрович | E9: ='Информация о Чемпионате'!B10 -> leobakin@gmail.com | G9: ='Информация о Чемпионате'!B11 -> 89373780055
A10: Технический администратор площадки: | C10: ='Информация о Чемпионате'!B12 -> 0 | E10: ='Информация о Чемпионате'!B13 -> 0 | G10: ='Информация о Чемпионате'!B14 -> 0
A11: Количество экспертов (ЭН+ГЭ+ИЭ) + ТАП: | C11: ='Информация о Чемпионате'!B17 -> 18
A12: Количество конкурсантов: | C12: ='Информация о Чемпионате'!B15 -> 15
A13: Количество рабочих мест: | C13: ='Информация о Чемпионате'!B16 -> 15
A14: Даты проведения: | C14: ='Информация о Чемпионате'!B8 -> 29.11.2026 - 04.12.2026
A15: Общая зона конкурсной площадки (оборудование, инструмент, мебель)
A16: Требования к обеспечению зоны (коммуникации, площадь, сети, количество рабочих мест и др.):
A17: Площадь зоны: не менее 780 кв.м.
A18: Освещение: Допустимо верхнее искусственное освещение ( не менее 300 люкс)
A19: Интернет : Подключение ноутбуков к беспроводному интернету (с возможностью подключения к проводному интернету) 3 подключения в Зонах "Скоростного теста" и 2 подключения в местах установки телевизоров
A20: Локальная сеть: не требуется
A21: Электричество: 3 подключения в Зонах "Скоростного теста", 2 подключения в местах установки телевизоров, 1 подключение электронных часов и 1 подключение кулера
A22: Контур заземления для электропитания и сети слаботочных подключений (при необходимости) : не требуется
A23: Покрытие пола: ковролин 780 кв.м на всю зону
A24: Подведение/ отведение ГХВС (при необходимости): не требуется
A25: Подведение сжатого воздуха (при необходимости): не требуется
A26: Обеспечение приточно-вытяжной вентиляцией: не требуется
A27: Особые требования к площадке проведения (из правил компетенции): не требуется
A28: № | B28: Наименование | C28: Краткие (рамочные) технические характеристики | D28: Вид | E28: Количество на одного участника | F28: Единица измерения | G28: Итоговое количество | H28: Рекомендации представителей индустрии (указывается конкретное оборудование) | I28: Ориентировочная стоимость за 1 шт.
A29: 1 | B29: Телевизор | C29: Диагональ 75"/190 4K Ultra HD, 3840x2160, 60 Гц, HDMI х 4, USB х 2, Wi-Fi, LAN | D29: Оборудование | E29: 1 | F29: шт. | G29: 2
A30: 2 | B30: Напольная стойка для телевизора 75" | C30: Напольная стойка c регулируемым по высоте металлическим кронштейном для крепления телевизора. | D30: Оборудование | E30: 1 | F30: шт. | G30: 2
A31: 3 | B31: Кабель HDMI | C31: Кабель дляпередачи аудио-видео сигнала, разъемы HDMI (m) - HDMI (m), длина 30 метров | D31: Оборудование | E31: 1 | F31: шт. | G31: 2
A32: 4 | B32: Ноутбук | C32: диагональ экрана: 15'6; процессор: 2.7 ГГц, intel Core i5 11400H или эквивалент; оперативная память: 16ГБ DDR4; хранилище: 512 SSD; видеокарта: 4 гб, GeForce RTX 3050Ti или эквивалент; предустановленная ОС: Win11/10 или эквивалент Объем SSD накопителя ≥ 480 ГБ | D32: IT-оборудование | E32: 1 | F32: шт. | G32: 3
A33: 5 | B33: Мышь компьютерная | C33: оптическая, проводная, с разрешением в диапазоне от 800 до 1600 dpi | D33: IT-оборудование | E33: 1 | F33: шт. | G33: 3
A34: 6 | B34: Web-камера | C34: Разрешение видео: 3840 х 2160 пикселей Запись видео: 2160p 25 кад/сек Угол обзора: 95 ° Интерфейс: USB2.0 (3.0) | D34: IT-оборудование | E34: 2 | F34: шт. | G34: 3
A35: 7 | B35: Сетевой фильтр | C35: Сетевой фильтр на 6 розеток, 5 м | D35: Оборудование | E35: 1 | F35: шт. | G35: 6
A36: 8 | B36: Кулер для воды 19 л. | C36: Кулер с функцией холодная/горячая вода | D36: Оборудование | E36: 1 | F36: шт. | G36: 1
A37: 9 | B37: Часы электронные | C37: Часы электронные с цифровой индикацией времени, формат: ЧЧ:ММ. Высота цифр 100 мм | D37: Оборудование | E37: 1 | F37: шт. | G37: 1
A38: 10 | B38: Стол | C38: 1400х700х750 мм | D38: Мебель | E38: 1 | F38: шт. | G38: 6
A39: 11 | B39: Стул | C39: Cтул офисный со спинкой на ножках | D39: Мебель | E39: 1 | F39: шт. | G39: 12
A40: 12 | B40: Мусорная корзина | C40: Корзина для бумаг и мусора 10 литров, пластик, сетчатая, микс | D40: Мебель | E40: 1 | F40: шт. | G40: 1
...

Sheet Рабочее место конкурсантов
A1: Инфраструктурный лист для оснащения конкурсной площадки
A2: ='Информация о Чемпионате'!B4 -> Финал чемпионата по профессиональному мастерству "Профессионалы" 2026
A3: по компетенции
A4: ='Информация о Чемпионате'!B3 -> Сантехника и отопление
A5: Основная информация о конкурсной площадке:
A6: Субъект Российской Федерации: | C6: ='Информация о Чемпионате'!B5 -> г. Санкт-Петербург
A7: Базовая организация расположения конкурсной площадки: | D7: ='Информация о Чемпионате'!B6 -> КВЦ «ЭКСПОФОРУМ»
A8: Адрес базовой организации: | C8: ='Информация о Чемпионате'!B7 -> Петербургское ш., 64, корп. 1, посёлок Шушары
A9: Главный эксперт: | C9: ='Информация о Чемпионате'!B9 -> Леобакин Андрей Петрович | E9: ='Информация о Чемпионате'!B10 -> leobakin@gmail.com | G9: ='Информация о Чемпионате'!B11 -> 89373780055
A10: Технический администратор площадки: | C10: ='Информация о Чемпионате'!B12 -> 0 | E10: ='Информация о Чемпионате'!B13 -> 0 | G10: ='Информация о Чемпионате'!B14 -> 0
A11: Количество экспертов (ЭН+ГЭ+ИЭ) + ТАП: | C11: ='Информация о Чемпионате'!B17 -> 18
A12: Количество конкурсантов: | C12: ='Информация о Чемпионате'!B15 -> 15
A13: Количество рабочих мест: | C13: ='Информация о Чемпионате'!B16 -> 15
A14: Даты проведения: | C14: ='Информация о Чемпионате'!B8 -> 29.11.2026 - 04.12.2026
A15: Рабочее место Конкурсанта (основное оборудование, вспомогательное оборудование, инструмент (по количеству рабочих мест))
A16: Требования к обеспечению зоны (коммуникации, площадь, сети, количество рабочих мест и др.):
A17: Площадь зоны: не менее 13 кв.м.
A18: Освещение: Допустимо верхнее искусственное освещение ( не менее 300 люкс)
A19: Интернет : Подключение ноутбуков к беспроводному интернету (с возможностью подключения к проводному интернету)
A20: Локальная сеть: не требуется
A21: Электричество: 3 подключения 220В и 1 подключение для электронных часов
A22: Контур заземления для электропитания и сети слаботочных подключений (при необходимости) : не требуется
A23: Покрытие пола: фанерный подиум - 13 кв.м на всю зону
A24: Подведение/ отведение ГХВС (при необходимости): не требуется
A25: Подведение сжатого воздуха (при необходимости): не требуется
A26: Обеспечение приточно-вытяжной вентиляцией: не требуется
A27: Особые требования к площадке проведения (из правил компетенции): Требуется если на площадке не используется компрессор, и необходимо обеспечить каждый пост отдельным выводом (трубопровод + кран) с возможностью подключения к нему гибкого шланга для самостоятельной проверки на герметичность выполняемого задания.
A28: № | B28: Наименование | C28: Краткие (рамочные) технические характеристики | D28: Вид | E28: Количество на одного конкурсанта | F28: Единица измерения | G28: Итоговое количество | H28: Рекомендации представителей индустрии (указывается конкретное оборудование) | I28: Ориентировочная стоимость за 1 шт.
A29: 1 | B29: Верстак слесарный | C29: Максимальная нагрузка: 1500 кг Габаритные размеры без экрана (ВxШxГ): 825x1000x700 мм Толщина столешницы: 24 мм Тип столешницы: фанера, покрытая оцинкованным листовым металлом (ЦФ), Крепление столешницы: Болтами и втулками, установленными на производстве Тип краски: Порошковая эпоксидная краска Устойчива к механическим воздействиям и агрессивным жидкостям | D29: Мебель | E29: 1 | F29: шт (на 1 раб.место) | G29: =E29*$C$13 -> 15
A30: 2 | B30: Параллельные тиски 140 мм с закаленными углообразными губками предназначенными для зажима труб диаметром 3/4-2" | C30: Стальные кованные тиски с коваными, закаленными углообразными губками для труб, расположенными под параллельными губками. Защищенный, крепкий болт с трапециевидной резьбой, регулируемая двухсторонняя призменная направляющая. Надставка-наковальня для рихтовочных работ. Ширина губок: не менее 140мм, Ширина зажима: не менее 150мм, Глубина зажима: не менее 80мм, Максимальный диаметр зажимаемой трубы: не менее 2 дюймов. Вес: не менее 15,6 кг. | D30: Инструмент | E30: 1 | F30: шт (на 1 раб.место) | G30: =E30*$C$13 -> 15
A31: 3 | B31: Телескопический роликовый труборез для нержавеющих стальных труб 1/4“– 1.3/8“ (6 – 35мм) | C31: Телескопический труборез для точной резки нержавеющих стальных труб Ø 1/4“ – 1.5/8“ (6-35 мм).Откидной внутренний гратосниматель, запасной режущий диск в рукоятке: труборез всегда готов к работе, Два направляющих ролика с канавкой: для разреза вплотную к отбортовке. Вес 470 гр. | D31: Инструмент | E31: 1 | F31: шт (на 1 раб.место) | G31: =E31*$C$13 -> 15
A32: 4 | B32: Компактный телескопический роликовый труборез для нержавеющих стальных труб (6 – 30мм) | C32: Компактный телескопический роликовый труборез для точной резки нержавеющих стальных труб Ø6-30 мм в труднодоступных местах | D32: Инструмент | E32: 1 | F32: шт (на 1 раб.место) | G32: =E32*$C$13 -> 15
A33: 5 | B33: Трубогиб для тонкостенных медных и стальных труб с комплектом гибочных сегментов с базовыми пластинами для закрепления в тисках 15-18-22мм, к-т в ящике | C33: Набор представляет собой специализированный комплект универсальных приспособлений для ручной холодной гибки труб. Трубогиб может использоваться с разнообразными материалами: мягкой и твердой медью, тонкостенной медью, тонкостенной сталью, медью и тонкостенной сталью в оболочке, алюминием, латунью, а также бесшовной нержавеющей сталью. Тип привода: ручной (механический). Максимальный угол гиба, град: не менее 180. Толщина стенки трубы, мм: не менее 1. Гибка труб диаметром: 15, 18, 22 мм. Тип профиля: круг | D33: Инструмент | E33: 1 | F33: шт (на 1 раб.место) | G33: =E33*$C$13 -> 15
A34: 6 | B34: Трубогиб арбалетного типа для круглых труб с комплектом гибочных сегментов 12-15-18-22мм, к-т в ящике | C34: Набор представляет собой специализированный комплект универсальных приспособлений для ручной гибки труб. Тип привода: ручной (механический). Максимальный угол гиба, град: не менее 180. Толщина стенки трубы, мм: не менее 1. Гибка труб диаметром: 12, 15, 18, 22 мм. Тип профиля: круг | D34: Инструмент | E34: 1 | F34: шт (на 1 раб.место) | G34: =E34*$C$13 -> 15
A35: 7 | B35: Ножницы для резки металлопластиковых труб 4-мя роликами с игольчатыми подшипниками для вращения трубы во время резки | C35: Инструмент для резки металлополимерных труб Система 4 роликами с игольчатыми подшипниками для вращения трубы во время резки. Ось в стальной втулке с игольчатыми подшипниками. Специальная геометрия края лезвия и покрытие PTFE. Интегрированная система резки гофры без повреждения внутренней трубы (18-35мм). С трехгранными лезвиями с PTFE-покрытием с увеличением времени службы в 3 раза с поворотом лезвия на 120º. | D35: Инструмент | E35: 1 | F35: шт (на 1 раб.место) | G35: =E35*$C$13 -> 15
A36: 8 | B36: Фаскосниматель:внутри и снаружи,3-36,1/8-1.3/8 стальной корпус | C36: Гратосниматель предназначен для зачистки внешних и внутренних кромок труб. Шлифованные ножи изготовлены из закаленной стали. Диаметр обрабатываемых труб от 3 до 36 мм. Возможно применение с адаптером-насадкой для дрели или шуруповерта. Материал резцов: сталь. Материал корпуса: сталь. Материал труб: сталь | D36: Инструмент | E36: 1 | F36: шт (на 1 раб.место) | G36: =E36*$C$13 -> 15
A37: 9 | B37: Адаптер фаскоснимателя | C37: Адаптер фаскоснимателя предназначен для установки на дрель-шуруповерт. Хвостовик, шестигранник | D37: Инструмент | E37: 1 | F37: шт (на 1 раб.место) | G37: =E37*$C$13 -> 15
A38: 10 | B38: Электрогидравлический пресс в комплекте с аккумулятором и зарядным устройством, без пресс-клещей | C38: Электрогидравлический пресс предназначен для соединение трубопроводов из различных материалов специальными пресс-фитингами, методом холодного прессования. Мощность поршня/ход: 32 кН / 40 мм; Номинальный диаметр: Ø12 - 110 мм; Энергопитание: аккумулятор Li-Ion 18 В / 3 A/ч; Блок питания 230 В, 50 - 60 Гц | D38: Инструмент | E38: 1 | F38: шт (на 1 раб.место) | G38: =E38*$C$13 -> 15
A39: 11 | B39: Клещи для пресс-фитинга SV-22, совместимы с электрогидравлическим прессом | C39: Цветовая кодировка и маркировка с указанием размера и пресс-контура: исключение ошибки при выборе клещей, Нумерация партии и поштучное испытание: высокий стандарт качества для материала и пресс-контура, Универсальное крепление: для всех прессов с совместимым креплением для пресс-клещей. Из кованой специальной стали с высоким коэффициентом нагружения: подходит для всех прессов с постоянным усилием обжима 32 – 34 кН, Специальная закалка:высокая степень эластичности и упругости, долговременная защита от коррозии: оптимальное решение для жестких условий эксплуатации на стройке. Размер - для обжима медных труб 22 мм, тип SV/V. | D39: Инструмент | E39: 1 | F39: шт (на 1 раб.место) | G39: =E39*$C$13 -> 15
A40: 12 | B40: Клещи для пресс-фитинга SV-15, совместимы с с электрогидравлическим прессом | C40: Цветовая кодировка и маркировка с указанием размера и пресс-контура: исключение ошибки при выборе клещей, Нумерация партии и поштучное испытание: высокий стандарт качества для материала и пресс-контура, Универсальное крепление: для всех прессов с совместимым креплением для пресс-клещей. Из кованой специальной стали с высоким коэффициентом нагружения: подходит для всех прессов с постоянным усилием обжима 32 – 34 кН, Специальная закалка:высокая степень эластичности и упругости, долговременная защита от коррозии: оптимальное решение для жестких условий эксплуатации на стройке. Размер - для обжима медных труб 15 мм, тип SV/V. | D40: Инструмент | E40: 1 | F40: шт (на 1 раб.место) | G40: =E40*$C$13 -> 15
...

Sheet Расходные материалы
A1: Инфраструктурный лист для оснащения конкурсной площадки
A2: ='Информация о Чемпионате'!B4 -> Финал чемпионата по профессиональному мастерству "Профессионалы" 2026
A3: по компетенции
A4: ='Информация о Чемпионате'!B3 -> Сантехника и отопление
A5: Основная информация о конкурсной площадке:
A6: Субъект Российской Федерации: | C6: ='Информация о Чемпионате'!B5 -> г. Санкт-Петербург
A7: Базовая организация расположения конкурсной площадки: | D7: ='Информация о Чемпионате'!B6 -> КВЦ «ЭКСПОФОРУМ»
A8: Адрес базовой организации: | C8: ='Информация о Чемпионате'!B7 -> Петербургское ш., 64, корп. 1, посёлок Шушары
A9: Главный эксперт: | C9: ='Информация о Чемпионате'!B9 -> Леобакин Андрей Петрович | E9: ='Информация о Чемпионате'!B10 -> leobakin@gmail.com | G9: ='Информация о Чемпионате'!B11 -> 89373780055
A10: Технический администратор площадки: | C10: ='Информация о Чемпионате'!B12 -> 0 | E10: ='Информация о Чемпионате'!B13 -> 0 | G10: ='Информация о Чемпионате'!B14 -> 0
A11: Количество экспертов (ЭН+ГЭ+ИЭ) + ТАП: | C11: ='Информация о Чемпионате'!B17 -> 18
A12: Количество конкурсантов: | C12: ='Информация о Чемпионате'!B15 -> 15
A13: Количество рабочих мест: | C13: ='Информация о Чемпионате'!B16 -> 15
A14: Даты проведения: | C14: ='Информация о Чемпионате'!B8 -> 29.11.2026 - 04.12.2026
A15: Рабочее место Конкурсанта (расходные материалы по количеству конкурсантов)
A16: № | B16: Наименование | C16: Краткие (рамочные) технические характеристики | D16: Вид | E16: Количество на одного конкурсанта | F16: Единица измерения | G16: Итоговое количество | H16: Рекомендации представителей индустрии (указывается конкретное оборудование) | I16: Ориентировочная стоимость за 1 шт.
A17: 1 | B17: Застенный модуль для установки унитаза (h=1120), совместим с профилем из прокатной стали | C17: Застенный модуль для установки подвесного унитаза. Должен иметь возможность фиксации к несущим конструкциям или к стальной профильной трубе. Ширина застенного модуля должна составлять 500 мм. Конструкция опор модуля должна обеспечивать возможность быстрого крепления к стальной профильной трубе с помощью зажимов без применения каких-либо инструментов. Конструкция модуля должна обеспечивать возможность монтажа подвесных унитазов с межцентровым расстоянием отверстий для монтажа 180 и 230 мм. Сливной клапан бачка должен иметь два режима (объема) смыва с возможностью регулирования объема смываемой воды. Сливной клапан должен иметь механическую систему привода смыва. В комплекте поставки должны быть все необходимые монтажные и переходные элементы для присоединения к системе канализации DN110. Должен быть одного производителя и одной системы со стальной профильной трубой и монтажными элементами для установки сантехнической арматуры. | D17: Расходные материалы | E17: 1 | F17: шт (на 1 конкурсанта) | G17: =E17*$C$13 -> 15
A18: 2 | B18: Монтажный комплект для раковины (h=1120), совместим с профилем из прокатной стали | C18: Монтажный комплект для раковины, совместим с профилем из прокатной стали. Должен иметь возможность фиксации к стальной профильной трубе. Звукоизолированная монтажная пластина для крепления настенных уголков Соединительный отвод DN 40/50 с резиновой муфтой, NW 30/50 (также используется в качестве уплотнения) с защитной заглушкой | D18: Расходные материалы | E18: 1 | F18: шт (на 1 конкурсанта) | G18: =E18*$C$13 -> 15
A19: 3 | B19: Телескопическое крепление для модуля (Того же производителя, что и застенный модуль) | C19: Предназначен для установки в систему стального профиля Комплектация 2 опоры; комплект фиксирующих элементов. | D19: Расходные материалы | E19: 2 | F19: компл (на 1 конкурсанта) | G19: =E19*$C$13 -> 30
A20: 4 | B20: Профиль из прокатной стали оцинкованный, в штангах, совместим с застенными модулями | C20: Стальная профильная труба замкнутого сечения. Материал: Сталь, оцинкованное покрытие. Применяется для возведения несущих стеновых конструкций и монтажа застенных модулей подвесной сантехники и сантехнической арматуры. Должен быть одного производителя и одной системы с застенными модулями для подвесной сантехники и монтажными элементами для установки сантехнической арматуры. Толщинга стенки профиля не менее 1 мм. | D20: Расходные материалы | E20: 9 | F20: м/пог (на 1 конкурсанта) | G20: =E20*$C$13 -> 135
A21: 5 | B21: Соединение угловое, совместимо с профилем из прокатной стали | C21: Соединение угловое для соединения стальной профильной трубы под прямым углом и крепленния застенных модулей для подвесной сантехники. Должен быть одного производителя и одной системы со стальной профильной трубой, застенными модулями для подвесной сантехники и монтажными элементами для установки сантехнической арматуры. | D21: Расходные материалы | E21: 10 | F21: шт (на 1 конкурсанта) | G21: =E21*$C$13 -> 150
A22: 6 | B22: Монтажная пластина для монтажа скрытых и внешних фитингов, совместимо с профилем из прокатной стали | C22: Монтажная пластина из оцинкованной стали для монтажа скрытых и внешних фитингов; в комплекте с крепежными элементами для монтажа профилей TECEprofil, а также монтажа в металлических или деревянных каркасных стенах. | D22: Расходные материалы | E22: 2 | F22: шт (на 1 конкурсанта) | G22: =E22*$C$13 -> 30
A23: 21 | B23: Установочный элемент для крепления резьбовых шпилек M8 совместим с профилем | C23: Установочный элемент предназначен для крепления резьбовых шпилек. Крепеж изготовлен из оцинкованной стали. | D23: Расходные материалы | E23: 6 | F23: шт (на 1 конкурсанта) | G23: =E23*$C$13 -> 90
A24: 21 | B24: Установочный элемент для крепления резьбовых шпилек M10 совместим с профилем | C24: Установочный элемент предназначен для крепления резьбовых шпилек. Крепеж изготовлен из оцинкованной стали. | D24: Расходные материалы | E24: 6 | F24: шт (на 1 конкурсанта) | G24: =E24*$C$13 -> 90
A25: 7 | B25: Тройник канализационный Ø 110х50 мм, 87° | C25: Параметры: Ø 110х50, 87° Тип: Трубы и фасонные части для внутренней канализации Максимальная рабочая температура: +95°С Материал: Полипропилен Цвет: белый ГОСТ: 32414-2013 | D25: Расходные материалы | E25: 1 | F25: шт (на 1 конкурсанта) | G25: =E25*$C$13 -> 15
A26: 8 | B26: Тройник канализационный Ø 110х110 мм, 87° | C26: Параметры: Ø 110х110, 87° Тип: Трубы и фасонные части для внутренней канализации Максимальная рабочая температура: +95°С Материал: Полипропилен Цвет: белый ГОСТ: 32414-2013 | D26: Расходные материалы | E26: 1 | F26: шт (на 1 конкурсанта) | G26: =E26*$C$13 -> 15
A27: 8 | B27: Тройник канализационный Ø 110х50 мм, 45° | C27: Параметры: Ø 110х50 мм, 45° Тип: Трубы и фасонные части для внутренней канализации Максимальная рабочая температура: +95°С Материал: Полипропилен Цвет: белый ГОСТ: 32414-2013 | D27: Расходные материалы | E27: 1 | F27: шт (на 1 конкурсанта) | G27: =E27*$C$13 -> 15
A28: 8 | B28: Тройник канализационный Ø 50х50 мм, 87° | C28: Параметры: Ø 50х50 мм, 87° Тип: Трубы и фасонные части для внутренней канализации Максимальная рабочая температура: +95°С Материал: Полипропилен Цвет: белый ГОСТ: 32414-2013 | D28: Расходные материалы | E28: 1 | F28: шт (на 1 конкурсанта) | G28: =E28*$C$13 -> 15
... A39: 17 | B39: Смазка сантехническая силиконовая 230 мл. | C39: Универсальная смазка в виде спрея, обеспечивает максимальное скольжение деталей при монтаже раструбной канализации. Обладает смазывающими влаговытесняющими свойствами. Смазка образует на обрабатываемых поверхностях слой, обладающий химической инертностью. Диапазон рабочих температур: от -30°C до +150°C Объем 300мл | D39: Расходные материалы | E39: 1 | F39: шт (на 1 конкурсанта) | G39: =E39*$C$13 -> 15
B40: Спрей-смазка сантехническая 300 мл | C40: Универсальная смазка, обеспечивает максимальное скольжение деталей при монтаже раструбной канализации. Обладает смазывающими влаговытесняющими свойствами. Смазка образует на обрабатываемых поверхностях слой, обладающий химической инертностью. Диапазон рабочих температур: от -30°C до +150°C Объем 230мл | D40: Расходные материалы | E40: 1 | F40: шт (на 1 конкурсанта) | G40: =E40*$C$13 -> 15
A41: 18 | B41: Хомут металлический с гайкой и резиновым профилем М8/М10 2" (48-52 мм) 2-х винт. с уплотн. Epdm. | C41: Используется для крепления труб к стенам (верт./горизонт.), к потолку, полу. EPDM профиль для: снижения уровня шума до 15 дБ; уменьшения вибрации; частичной компенсации тепловых расширений; легко и надежно собирается c помощью комбинированных винтов, расположенных по бокам; боковые винты защищены от утери во время сборки посредством пластиковых шайб; гальванизирован для защиты от коррозии (гальванопокрытие толщиной 8–10 микрон). | D41: Расходные материалы | E41: 6 | F41: шт (на 1 конкурсанта) | G41: =E41*$C$13 -> 90
A42: 19 | B42: Хомут металлический с гайкой и резиновым профилем М8/М10 4" (104-112) 2-х винт. с уплотн. Epdm | C42: Используется для крепления труб к стенам (верт./горизонт.), к потолку, полу. EPDM профиль для: снижения уровня шума до 15 дБ в соответствии; уменьшения вибрации; частичной компенсации тепловых расширений; легко и надежно собирается c помощью комбинированных винтов, расположенных по бокам; боковые винты защищены от утери во время сборки посредством пластиковых шайб; гальванизирован для защиты от коррозии (гальванопокрытие толщиной 8–10 микрон). | D42: Расходные материалы | E42: 6 | F42: шт (на 1 конкурсанта) | G42: =E42*$C$13 -> 90
A43: 20 | B43: Шпилька резьбовая М8 (1м) | C43: Шпилька резьбовая с метрической резьбой материал: сталь, класс прочности 4.8 оцинковка: электролитическая. Длинна 1 м. | D43: Расходные материалы | E43: 2 | F43: шт (на 1 конкурсанта) | G43: =E43*$C$13 -> 30
A44: 20 | B44: Шпилька резьбовая М10 (1м) | C44: Шпилька резьбовая с метрической резьбой материал: сталь, класс прочности 4.8 оцинковка: электролитическая. Длинна 1 м. | D44: Расходные материалы | E44: 2 | F44: шт (на 1 конкурсанта) | G44: =E44*$C$13 -> 30
A45: 22 | B45: Подпятник усиленный М8/М10, оцинкованная сталь | C45: Крепежные отверстия размещены под углом 90° с 4-х кратно приваренной соединительной гайкой М8/М10 материал: сталь оцинковка: электролитическая | D45: Расходные материалы | E45: 5 | F45: шт (на 1 конкурсанта) | G45: =E45*$C$13 -> 75
A46: 23 | B46: Саморезы конструкционные (шурупы) Rusconnect | C46: Шуруп Rusconnect CT 06030 с/нарез. д/дерева, прессшайба 6х30. Наконечник острый Шлиц Torx (T, Tx) Покрытие желтопассивированный Диаметр, мм 6 Форма головки плоская пресс-шайба Длина, мм 30 Материал закаленная сталь | D46: Расходные материалы | E46: 10 | F46: шт (на 1 конкурсанта) | G46: =E46*$C$13 -> 150
A47: 25 | B47: Многослойная композитная труба PE-Xc/Al/PE-RT Ø16 (17 х 2,75) | C47: Труба многослойная металлополимерная Параметры: Наружный диаметр, мм 17 Толщина стенки, мм 2,75 Материал PE-X/Al/PE-RT Макс. рабочее давление, бар 10 Макс. рабочая температура, °С 95 Способ соединения: с использованием механического пресс-инструмента для монтажа аксиальных фитингов (с надвижной гильзой) | D47: Расходные материалы | E47: 20 | F47: м/пог (на 1 конкурсанта) | G47: =E47*$C$13 -> 300
A48: 25 | B48: Многослойная композитная труба PE-Xc/Al/PE-RT Ø20 (21 х 3,45) | C48: Труба многослойная металлополимерная Параметры: Наружный диаметр, мм 21 Толщина стенки, мм 3,45 Материал PE-X/Al/PE-RT Макс. рабочее давление, бар 10 Макс. рабочая температура, °С 95 Способ соединения: с использованием механического пресс-инструмента для монтажа аксиальных фитингов (с надвижной гильзой) | D48: Расходные материалы | E48: 10 | F48: м/пог (на 1 конкурсанта) | G48: =E48*$C$13 -> 150
A49: 25 | B49: Многослойная композитная труба PE-Xc/Al/PE-RT Ø25 (26 х 4,00) | C49: Труба многослойная металлополимерная Параметры: Наружный диаметр, мм 26 Толщина стенки, мм 4,00 Материал PE-X/Al/PE-RT Макс. рабочее давление, бар 10 Макс. рабочая температура, °С 95 Способ соединения: с использованием механического пресс-инструмента для монтажа аксиальных фитингов (с надвижной гильзой) | D49: Расходные материалы | E49: 10 | F49: м/пог (на 1 конкурсанта) | G49: =E49*$C$13 -> 150
A50: 50 | B50: Тройник 90°, 16×16×16, латунь, аксиальный фитинг | C50: Тройник для аксиальной запрессовки трубы PE-Xc/Al/PE-RT Тип Тройник Материал Латунь CW617N Макс. рабочее давление, бар 10 Макс. рабочая температура, °С 95 Гарантия, лет 10 Подключение 1, мм 16 Подключение 2, мм 16 Подключение 3, мм 16 | D50: Расходные материалы | E50: 1 | F50: шт (на 1 конкурсанта) | G50: =E50*$C$13 -> 15
...

Sheet Личный инструмент конкурсанта
A1: Инфраструктурный лист для оснащения конкурсной площадки
A2: ='Информация о Чемпионате'!B4 -> Финал чемпионата по профессиональному мастерству "Профессионалы" 2026
A3: по компетенции
A4: ='Информация о Чемпионате'!B3 -> Сантехника и отопление
A5: Личный инструмент конкурсанта
A6: № | B6: Наименование | C6: Краткие (рамочные) технические характеристики | D6: Вид | E6: Количество | F6: Единица измерения | G6: Примечание
A7: 1 | B7: Спецодежда от общих производственных загрязнений | C7: Брюки+куртка, полукомбинезон+куртка, комбинезон | D7: СИЗ | E7: 1 | F7: комплект
A8: 2 | B8: Наколенники гелевые профессиональные | C8: Технические характеристики на усмотрение участника | D8: СИЗ | E8: 1 | F8: пара
A9: 3 | B9: Обувь с металлическимим или композитными вставками | C9: Сандали, полуботинки, ботинки | D9: СИЗ | E9: 1 | F9: пара
A10: 4 | B10: Очки защитные открытые | C10: Цвет линзы: прозрачный Оптический класс: №1 (не дает искажений, не имеет ограничений по длительности ношения) Материал линзы: поликарбонат Материал оправы: PC (поликарбонат) / BT (Полибутилентерефталат) / TPE (термоэластопласт) Защита: от механических воздействий, УФ-излучения Покрытие: против царапин и запотевания | D10: СИЗ | E10: 1 | F10: шт
A11: 5 | B11: Перчатки трикотажные для защиты от механических рисков (лотные) | C11: Для защиты от механических рисков (лотные) | D11: СИЗ | E11: 5 | F11: пара
A12: 6 | B12: Перчатки трикотажные для защиты от механических рисков (для точных работ) | C12: Для защиты от механических рисков (для точных работ) | D12: СИЗ | E12: 5 | F12: пара
A13: 7 | B13: Перчатки трикотажные, бесшовные, с полимерным покрытием для защиты от механических рисков (для точных работ) | C13: Для защиты от механических рисков (для точных работ) | D13: СИЗ | E13: 5 | F13: пара
A14: 8 | B14: Перчатки ХБ без полимерного покрытия для работы с высокими температурами | C14: Перчатки без ПВХ покрытия используют на производствах и предприятиях, где предусмотрена работа с высокими температурами. | D14: СИЗ | E14: 1 | F14: пара
A15: 9 | B15: Перчатки защитные для работы с открытым пламенем до 300 град. | C15: Крага перчатки выполнена из специальной огнестойкой ткани, сохраняющей форму. Защищает запястный сустав и предплечье от искр и брызг расплавленного металла. Прошитые огнестойкой кевларовой нитью. | D15: СИЗ | E15: 1 | F15: пара
A16: 10 | B16: Набор отверток PH1, PH2, PH3, PZ1, PZ2, PZ3, шлицевые | C16: Набор отверток с эргономичными рукоятками предназначен для монтажных и демонтажных работ с различными резьбовыми соединениями. В наборе поставляется держатель для отверток. В набор входит: PH1, PH2, PH3, PZ1, PZ2, PZ3, шлицевые | D16: Личный инструмент конкурсанта | E16: 1 | F16: набор
A17: 11 | B17: Ножовка по металлу | C17: Безопасная слесарная лучковая ножовка в комплекте с полотном. Безопасная рукоятка для точного ведения ножовки: уменьшается опасность несчастного случая, в лучке есть место для запасных полотен: инструмент всегда под рукой, в рукоятку встроено быстрозажимное устройство с точной регулировкой: оптимальное натяжение полотна, полотно четырехкратно поворачивается на 90o: удобно работать в труднодоступных местах. Длина 300 мм. Вес 680 гр. | D17: Личный инструмент конкурсанта | E17: 1 | F17: шт
A18: 12 | B18: Полотно по металлу | C18: Из инструментальной стали, из эластичной быстрорежущей стали. Биметаллическое ножовочное безопасное полотно. Отличная гибкость: эластичная быстрорежущая сталь. Полотно 4 HSSE 4 Plus Повышенная твердость зубцов:Твердость около 65 HRC: срок службы, в среднем, увеличен в 4 раза, При очень большой нагрузке: значительно снижается опасность разрушения, Раздельный развод зубьев: точная резка Размер 300, размер зубьев на дюйм - 24, вес - 20 гр. | D18: Личный инструмент конкурсанта | E18: 3 | F18: шт
... A56: 50 | B56: Набор Г-образных "звездочек" | C56: ключи изготовлены из никель-хром-молибденового сплава; в набор входят Г-образные ключи: ТХ8, ТХ10, ТХ15, ТХ20, ТХ25, ТХ 27, ТХ 30, ТХ40 и ТХ50; комплект поставляется в удобном держателе с захватом и четкой маркировкой размеров. | D56: Личный инструмент конкурсанта | E56: 1 | F56: набор
B57: Горелка газовая
A58: 51 | B58: Огнеупорный коврик | C58: Огнеустойчивый коврик 330 х 500 мм. для защиты поверхностей от пламени. | D58: Личный инструмент конкурсанта | E58: 1 | F58: шт
A59: 52 | B59: Чистящие губки для медных труб | C59: Чистящие губки из нетканого материала. Удаляют оксидный слой, ржавчину, поверхностные загрязнения, следы жира и масла: чистка до металлического блеска. | D59: Личный инструмент конкурсанта | E59: 1 | F59: шт
A60: 53 | B60: Цифровой угломер 200-400мм | C60: Электронный угломер предназначен для измерения углов. Имеет встроенный электронный датчик угла, показания с которого отображаются на встроенном ЖК цифровом дисплее. | D60: Личный инструмент конкурсанта | E60: 1 | F60: шт
A61: 54 | B61: Цифровой штангенциркуль | C61: Цифровой штангенциркуль используется для проведения как наружных, так и внутренних измерений различных изделий или заготовок. Измерения производятся с высокой точностью ±0.03 мм. Результаты отображаются на ЖК дисплее с точностью до тысячных. | D61: Личный инструмент конкурсанта | E61: 1 | F61: шт
A62: 55 | B62: Цифровой уровень | C62: Функции: Измерения в градусах, мм/м, %, in/ft Автоматическая калибровка ЖК экран с подсветкой Магниты в основании Автоматическое отключение Характеристики Автоматическое отключение питания, мин 5 Диапазон углового измерения 4x90 Источник питания 2 батареи AAA, 1.5 В Рабочая температура, °С -10...+50 Точность, dB ±0.15° Шаг измерения, dB 0.05° Комплект поставки Цифровой уровень - 1 шт. Чехол - 1 шт. Батареи - 1 шт. Инструкция - 1 шт. | D62: Личный инструмент конкурсанта | E62: 1 | F62: шт
A63: 56 | B63: Цифровой динамометрический ключ + набор насадок | C63: Ключ динамометрический с цифровой индикацией, усилие затяжки 7-135Nm, оснащен дисплеем, на котором отображаются рабочие параметры, и трещоткой. Рифленая ручка предотвращает скольжение руки во время работы. Инструмент имеет посадочный квадрат 3/8 и выполнен из прочной высококачественной стали. Поставляется в надежном футляре для безопасного хранения и транспортировки | D63: Личный инструмент конкурсанта | E63: 1 | F63: шт
A64: 57 | B64: Ящик для инструмента (возможно с колесами) | C64: Съемный лоток DS150 - 158 мм x 336 мм x 550 мм; Съемный внутренний органайзер DS300 - 308 мм x 336 мм x 550 мм; Съемный внутренний органайзер DS400 - 408 мм x 366 мм x 550 мм; Металлическая тележка. | D64: Личный инструмент конкурсанта | E64: 1 | F64: шт
A65: 58 | B65: Трубогиб арбалетного типа | C65: Трубогиб арбалетного типа, с храповым механизмом Внимание! Рекомендованы в комплекте: Сменный гибочный сегмент 18 (допустимые димаметр труб 17, 18 мм / 3/4") 1 шт. Сменный гибочный сегмент 22 (допустимый диаметр труб 20, 21, 22 мм / 7/8") 1 шт. | D65: Личный инструмент конкурсанта | E65: 1 | F65: шт

Sheet Лист1
B2: список
B3: Оборудование и инструменты
B4: Мебель
B5: IT-оборудование
B6: ПО
B7: Охрана труда
B8: Расходные материалы
